BEGIN:VCALENDAR
VERSION:2.0
PRODID:-//Sudden Valley Community Association - ECPv6.15.20//NONSGML v1.0//EN
CALSCALE:GREGORIAN
METHOD:PUBLISH
X-ORIGINAL-URL:https://www.suddenvalley.com
X-WR-CALDESC:Events for Sudden Valley Community Association
REFRESH-INTERVAL;VALUE=DURATION:PT1H
X-Robots-Tag:noindex
X-PUBLISHED-TTL:PT1H
BEGIN:VTIMEZONE
TZID:America/Los_Angeles
BEGIN:DAYLIGHT
TZOFFSETFROM:-0800
TZOFFSETTO:-0700
TZNAME:PDT
DTSTART:20240310T100000
END:DAYLIGHT
BEGIN:STANDARD
TZOFFSETFROM:-0700
TZOFFSETTO:-0800
TZNAME:PST
DTSTART:20241103T090000
END:STANDARD
BEGIN:DAYLIGHT
TZOFFSETFROM:-0800
TZOFFSETTO:-0700
TZNAME:PDT
DTSTART:20250309T100000
END:DAYLIGHT
BEGIN:STANDARD
TZOFFSETFROM:-0700
TZOFFSETTO:-0800
TZNAME:PST
DTSTART:20251102T090000
END:STANDARD
BEGIN:DAYLIGHT
TZOFFSETFROM:-0800
TZOFFSETTO:-0700
TZNAME:PDT
DTSTART:20260308T100000
END:DAYLIGHT
BEGIN:STANDARD
TZOFFSETFROM:-0700
TZOFFSETTO:-0800
TZNAME:PST
DTSTART:20261101T090000
END:STANDARD
END:VTIMEZONE
BEGIN:VEVENT
DTSTART;TZID=America/Los_Angeles:20250929T183000
DTEND;TZID=America/Los_Angeles:20250929T193000
DTSTAMP:20260422T111653
CREATED:20181030T194701Z
LAST-MODIFIED:20181030T194701Z
UID:51631-1759170600-1759174200@www.suddenvalley.com
SUMMARY:Yoga
DESCRIPTION:Instructor: Lea Woodliff: 360-510-0621 or leavanin@hotmail.com
URL:https://www.suddenvalley.com/event/yoga-2/2025-09-29/
LOCATION:Multi-Purpose Room A\, 8 Barnview Court\, Bellingham\, WA\, 98229\, United States
CATEGORIES:Class,Community
GEO:48.7151523;-122.3229482
X-APPLE-STRUCTURED-LOCATION;VALUE=URI;X-ADDRESS=Multi-Purpose Room A 8 Barnview Court Bellingham WA 98229 United States;X-APPLE-RADIUS=500;X-TITLE=8 Barnview Court:geo:-122.3229482,48.7151523
END:VEVENT
END:VCALENDAR