BEGIN:VCALENDAR
VERSION:2.0
PRODID:-//Sudden Valley Community Association - ECPv6.15.17//NONSGML v1.0//EN
CALSCALE:GREGORIAN
METHOD:PUBLISH
X-ORIGINAL-URL:https://www.suddenvalley.com
X-WR-CALDESC:Events for Sudden Valley Community Association
REFRESH-INTERVAL;VALUE=DURATION:PT1H
X-Robots-Tag:noindex
X-PUBLISHED-TTL:PT1H
BEGIN:VTIMEZONE
TZID:America/Los_Angeles
BEGIN:DAYLIGHT
TZOFFSETFROM:-0800
TZOFFSETTO:-0700
TZNAME:PDT
DTSTART:20250309T100000
END:DAYLIGHT
BEGIN:STANDARD
TZOFFSETFROM:-0700
TZOFFSETTO:-0800
TZNAME:PST
DTSTART:20251102T090000
END:STANDARD
BEGIN:DAYLIGHT
TZOFFSETFROM:-0800
TZOFFSETTO:-0700
TZNAME:PDT
DTSTART:20260308T100000
END:DAYLIGHT
BEGIN:STANDARD
TZOFFSETFROM:-0700
TZOFFSETTO:-0800
TZNAME:PST
DTSTART:20261101T090000
END:STANDARD
BEGIN:DAYLIGHT
TZOFFSETFROM:-0800
TZOFFSETTO:-0700
TZNAME:PDT
DTSTART:20270314T100000
END:DAYLIGHT
BEGIN:STANDARD
TZOFFSETFROM:-0700
TZOFFSETTO:-0800
TZNAME:PST
DTSTART:20271107T090000
END:STANDARD
END:VTIMEZONE
BEGIN:VEVENT
DTSTART;TZID=America/Los_Angeles:20260217T140000
DTEND;TZID=America/Los_Angeles:20260217T160000
DTSTAMP:20260421T132444
CREATED:20260205T183847Z
LAST-MODIFIED:20260205T183847Z
UID:48936-1771336800-1771344000@www.suddenvalley.com
SUMMARY:High Tea
DESCRIPTION:Space is limited\, RSVP early! Claim your spot by calling the Rec Center at (360) 366-8450 or emailing BODvandepolder@suddenvalley.com by Feb. 13th.
URL:https://www.suddenvalley.com/event/high-tea/
LOCATION:8 Barn View Ct\, 8 Barn View Ct\, Bellingham\, WA\, 98229\, United States
ATTACH;FMTTYPE=image/png:https://www.suddenvalley.com/wp-content/uploads/High-Tea-Flyer.png
END:VEVENT
END:VCALENDAR