BEGIN:VCALENDAR
VERSION:2.0
PRODID:-//Sudden Valley Community Association - ECPv6.15.17//NONSGML v1.0//EN
CALSCALE:GREGORIAN
METHOD:PUBLISH
X-WR-CALNAME:Sudden Valley Community Association
X-ORIGINAL-URL:https://www.suddenvalley.com
X-WR-CALDESC:Events for Sudden Valley Community Association
REFRESH-INTERVAL;VALUE=DURATION:PT1H
X-Robots-Tag:noindex
X-PUBLISHED-TTL:PT1H
BEGIN:VTIMEZONE
TZID:America/Los_Angeles
BEGIN:DAYLIGHT
TZOFFSETFROM:-0800
TZOFFSETTO:-0700
TZNAME:PDT
DTSTART:20160313T100000
END:DAYLIGHT
BEGIN:STANDARD
TZOFFSETFROM:-0700
TZOFFSETTO:-0800
TZNAME:PST
DTSTART:20161106T090000
END:STANDARD
BEGIN:DAYLIGHT
TZOFFSETFROM:-0800
TZOFFSETTO:-0700
TZNAME:PDT
DTSTART:20170312T100000
END:DAYLIGHT
BEGIN:STANDARD
TZOFFSETFROM:-0700
TZOFFSETTO:-0800
TZNAME:PST
DTSTART:20171105T090000
END:STANDARD
BEGIN:DAYLIGHT
TZOFFSETFROM:-0800
TZOFFSETTO:-0700
TZNAME:PDT
DTSTART:20180311T100000
END:DAYLIGHT
BEGIN:STANDARD
TZOFFSETFROM:-0700
TZOFFSETTO:-0800
TZNAME:PST
DTSTART:20181104T090000
END:STANDARD
BEGIN:DAYLIGHT
TZOFFSETFROM:-0800
TZOFFSETTO:-0700
TZNAME:PDT
DTSTART:20190310T100000
END:DAYLIGHT
BEGIN:STANDARD
TZOFFSETFROM:-0700
TZOFFSETTO:-0800
TZNAME:PST
DTSTART:20191103T090000
END:STANDARD
BEGIN:DAYLIGHT
TZOFFSETFROM:-0800
TZOFFSETTO:-0700
TZNAME:PDT
DTSTART:20200308T100000
END:DAYLIGHT
BEGIN:STANDARD
TZOFFSETFROM:-0700
TZOFFSETTO:-0800
TZNAME:PST
DTSTART:20201101T090000
END:STANDARD
BEGIN:DAYLIGHT
TZOFFSETFROM:-0800
TZOFFSETTO:-0700
TZNAME:PDT
DTSTART:20210314T100000
END:DAYLIGHT
BEGIN:STANDARD
TZOFFSETFROM:-0700
TZOFFSETTO:-0800
TZNAME:PST
DTSTART:20211107T090000
END:STANDARD
END:VTIMEZONE
BEGIN:VEVENT
DTSTART;TZID=America/Los_Angeles:20200123T180000
DTEND;TZID=America/Los_Angeles:20200123T220000
DTSTAMP:20260421T154019
CREATED:20200107T025438Z
LAST-MODIFIED:20200120T221653Z
UID:26135-1579802400-1579816800@www.suddenvalley.com
SUMMARY:Board of Directors Meeting
DESCRIPTION:
URL:https://www.suddenvalley.com/event/board-of-directors-meeting-2/
LOCATION:Dance Barn\, 8 Barn View Court\, Bellingham\, WA\, 98229\, United States
CATEGORIES:Board Meeting,Community
END:VEVENT
BEGIN:VEVENT
DTSTART;TZID=America/Los_Angeles:20191219T190000
DTEND;TZID=America/Los_Angeles:20191219T210000
DTSTAMP:20260421T154019
CREATED:20191216T150616Z
LAST-MODIFIED:20191216T150616Z
UID:25879-1576782000-1576789200@www.suddenvalley.com
SUMMARY:Special BOD Meeting
DESCRIPTION:Agenda to be posted 48 hours in advance of meeting.
URL:https://www.suddenvalley.com/event/special-bod-meeting-4/
LOCATION:Dance Barn\, 8 Barn View Court\, Bellingham\, WA\, 98229\, United States
CATEGORIES:Board Meeting,Community
END:VEVENT
BEGIN:VEVENT
DTSTART;TZID=America/Los_Angeles:20191214T100000
DTEND;TZID=America/Los_Angeles:20191214T150000
DTSTAMP:20260421T154019
CREATED:20191111T155237Z
LAST-MODIFIED:20191111T155237Z
UID:25608-1576317600-1576335600@www.suddenvalley.com
SUMMARY:BOD Orientation
DESCRIPTION:
URL:https://www.suddenvalley.com/event/bod-orientation/
LOCATION:Dance Barn\, 8 Barn View Court\, Bellingham\, WA\, 98229\, United States
CATEGORIES:Board Meeting
END:VEVENT
BEGIN:VEVENT
DTSTART;TZID=America/Los_Angeles:20191114T190000
DTEND;TZID=America/Los_Angeles:20191114T213000
DTSTAMP:20260421T154019
CREATED:20191015T212211Z
LAST-MODIFIED:20191015T212211Z
UID:25241-1573758000-1573767000@www.suddenvalley.com
SUMMARY:BOD Meeting
DESCRIPTION:
URL:https://www.suddenvalley.com/event/bod-meeting-2/
LOCATION:Dance Barn\, 8 Barn View Court\, Bellingham\, WA\, 98229\, United States
CATEGORIES:Board Meeting,Community,Meeting
END:VEVENT
BEGIN:VEVENT
DTSTART;TZID=America/Los_Angeles:20191010T200000
DTEND;TZID=America/Los_Angeles:20191010T220000
DTSTAMP:20260421T154019
CREATED:20191010T131326Z
LAST-MODIFIED:20191010T131326Z
UID:25145-1570737600-1570744800@www.suddenvalley.com
SUMMARY:BOD Meeting
DESCRIPTION:https://drive.google.com/open?id=1sbZd4pbyIhS9u5f-xsKBss11Nm1SmyKE
URL:https://www.suddenvalley.com/event/bod-meeting/
LOCATION:Dance Barn\, 8 Barn View Court\, Bellingham\, WA\, 98229\, United States
CATEGORIES:Board Meeting,Meeting
END:VEVENT
BEGIN:VEVENT
DTSTART;TZID=America/Los_Angeles:20190829T200000
DTEND;TZID=America/Los_Angeles:20190829T230000
DTSTAMP:20260421T154019
CREATED:20190531T185129Z
LAST-MODIFIED:20190531T185129Z
UID:22620-1567108800-1567119600@www.suddenvalley.com
SUMMARY:Board of Directors Meeting
DESCRIPTION:Agenda will include a vote on the 2020 Budget.
URL:https://www.suddenvalley.com/event/board-of-directors-meeting/
LOCATION:Dance Barn\, 8 Barn View Court\, Bellingham\, WA\, 98229\, United States
CATEGORIES:Board Meeting,Community,Meeting
END:VEVENT
BEGIN:VEVENT
DTSTART;TZID=America/Los_Angeles:20190718T200000
DTEND;TZID=America/Los_Angeles:20190718T223000
DTSTAMP:20260421T154019
CREATED:20190628T174633Z
LAST-MODIFIED:20190628T174633Z
UID:23056-1563480000-1563489000@www.suddenvalley.com
SUMMARY:Special BOD Meeting
DESCRIPTION:This Special BOD Meeting will be to discuss and recommend changes to the 2020 DRAFT Budget.
URL:https://www.suddenvalley.com/event/special-bod-meeting-2/
LOCATION:Dance Barn\, 8 Barn View Court\, Bellingham\, WA\, 98229\, United States
CATEGORIES:Board Meeting,Meeting
END:VEVENT
BEGIN:VEVENT
DTSTART;TZID=America/Los_Angeles:20190710T200000
DTEND;TZID=America/Los_Angeles:20190710T230000
DTSTAMP:20260421T154019
CREATED:20190531T174350Z
LAST-MODIFIED:20190531T174350Z
UID:22605-1562788800-1562799600@www.suddenvalley.com
SUMMARY:Special Board of Directors Meeting
DESCRIPTION:Special Board of Directors Meeting – Budget Presentations:  Day 1
URL:https://www.suddenvalley.com/event/special-board-of-directors-meeting-3/
LOCATION:Dance Barn\, 8 Barn View Court\, Bellingham\, WA\, 98229\, United States
CATEGORIES:Board Meeting,Community,Meeting
END:VEVENT
BEGIN:VEVENT
DTSTART;TZID=America/Los_Angeles:20190502T200000
DTEND;TZID=America/Los_Angeles:20190502T220000
DTSTAMP:20260421T154019
CREATED:20190424T162233Z
LAST-MODIFIED:20190424T162233Z
UID:22279-1556827200-1556834400@www.suddenvalley.com
SUMMARY:Special BOD Meeting
DESCRIPTION:
URL:https://www.suddenvalley.com/event/special-bod-meeting/
LOCATION:Dance Barn\, 8 Barn View Court\, Bellingham\, WA\, 98229\, United States
CATEGORIES:Board Meeting,Community,Meeting
END:VEVENT
BEGIN:VEVENT
DTSTART;TZID=America/Los_Angeles:20190214T190000
DTEND;TZID=America/Los_Angeles:20190214T220000
DTSTAMP:20260421T154019
CREATED:20171023T164517Z
LAST-MODIFIED:20190213T183210Z
UID:17520-1550170800-1550181600@www.suddenvalley.com
SUMMARY:Board Meeting - CANCELLED
DESCRIPTION:
URL:https://www.suddenvalley.com/event/board-meeting-2019-02-14/
LOCATION:Dance Barn\, 8 Barn View Ct\, Bellingham\, WA\, 98229\, United States
CATEGORIES:Board Meeting
ORGANIZER;CN="Sudden Valley Community Association":MAILTO:office@suddenvalley.com
END:VEVENT
BEGIN:VEVENT
DTSTART;TZID=America/Los_Angeles:20181207T190000
DTEND;TZID=America/Los_Angeles:20181207T220000
DTSTAMP:20260421T154019
CREATED:20181207T171923Z
LAST-MODIFIED:20181207T171923Z
UID:19431-1544209200-1544220000@www.suddenvalley.com
SUMMARY:Special BOD Meeting - Closed Session 7:00 p.m.
DESCRIPTION:
URL:https://www.suddenvalley.com/event/special-bod-meeting-closed-session-700-p-m/
LOCATION:Multi-Purpose Room A\, 8 Barnview Court\, Bellingham\, WA\, 98229\, United States
CATEGORIES:Board Meeting
END:VEVENT
BEGIN:VEVENT
DTSTART;TZID=America/Los_Angeles:20181115T190000
DTEND;TZID=America/Los_Angeles:20181115T220000
DTSTAMP:20260421T154019
CREATED:20181112T183803Z
LAST-MODIFIED:20181112T183803Z
UID:19035-1542308400-1542319200@www.suddenvalley.com
SUMMARY:SVCA Board Meeting
DESCRIPTION:
URL:https://www.suddenvalley.com/event/svca-board-meeting/
LOCATION:South Whatcom Fire Authority\, 2050 Lake Whatcom Boulevard\, Bellingham\, WA\, 98229\, United States
CATEGORIES:Board Meeting
END:VEVENT
BEGIN:VEVENT
DTSTART;TZID=America/Los_Angeles:20181108T190000
DTEND;TZID=America/Los_Angeles:20181108T210000
DTSTAMP:20260421T154019
CREATED:20181106T233242Z
LAST-MODIFIED:20181106T233242Z
UID:18967-1541703600-1541710800@www.suddenvalley.com
SUMMARY:Special Board of Directors Meeting
DESCRIPTION:
URL:https://www.suddenvalley.com/event/special-board-of-directors-meeting-2/
LOCATION:Dance Barn\, 8 Barn View Court\, Bellingham\, WA\, 98229\, United States
CATEGORIES:Board Meeting
END:VEVENT
BEGIN:VEVENT
DTSTART;TZID=America/Los_Angeles:20181103T140000
DTEND;TZID=America/Los_Angeles:20181103T180000
DTSTAMP:20260421T154019
CREATED:20180611T191849Z
LAST-MODIFIED:20180611T192032Z
UID:16912-1541253600-1541268000@www.suddenvalley.com
SUMMARY:2018 AGM
DESCRIPTION:
URL:https://www.suddenvalley.com/event/2018-agm/
LOCATION:Dance Barn\, 8 Barn View Ct\, Bellingham\, WA\, 98229\, United States
CATEGORIES:Board Meeting
END:VEVENT
BEGIN:VEVENT
DTSTART;TZID=America/Los_Angeles:20181016T193000
DTEND;TZID=America/Los_Angeles:20181016T210000
DTSTAMP:20260421T154019
CREATED:20181001T180440Z
LAST-MODIFIED:20181001T183903Z
UID:18245-1539718200-1539723600@www.suddenvalley.com
SUMMARY:Sonrise Property Meeting: AC
DESCRIPTION:
URL:https://www.suddenvalley.com/event/sonrise-property-meeting-ac/
LOCATION:Adult Center Meeting Room\, 10 Barn View Court\, Bellingham\, WA\, 98229\, United States
CATEGORIES:Board Meeting
END:VEVENT
BEGIN:VEVENT
DTSTART;TZID=America/Los_Angeles:20180924T190000
DTEND;TZID=America/Los_Angeles:20180924T210000
DTSTAMP:20260421T154019
CREATED:20180920T210413Z
LAST-MODIFIED:20180920T210413Z
UID:17991-1537815600-1537822800@www.suddenvalley.com
SUMMARY:Special Board of Directors Meeting
DESCRIPTION:
URL:https://www.suddenvalley.com/event/special-board-of-directors-meeting/
LOCATION:Multi-Purpose Room\, 8 Barn View Drive\, Bellingham\, WA\, 98229\, United States
CATEGORIES:Board Meeting
END:VEVENT
BEGIN:VEVENT
DTSTART;TZID=America/Los_Angeles:20180917T190000
DTEND;TZID=America/Los_Angeles:20180917T220000
DTSTAMP:20260421T154019
CREATED:20180914T171543Z
LAST-MODIFIED:20180914T171543Z
UID:17860-1537210800-1537221600@www.suddenvalley.com
SUMMARY:Special Board Meeting
DESCRIPTION:
URL:https://www.suddenvalley.com/event/special-board-meeting-3/
LOCATION:Multi-Purpose Room\, 8 Barn View Drive\, Bellingham\, WA\, 98229\, United States
CATEGORIES:Board Meeting
END:VEVENT
BEGIN:VEVENT
DTSTART;TZID=America/Los_Angeles:20180906T200000
DTEND;TZID=America/Los_Angeles:20180906T233000
DTSTAMP:20260421T154019
CREATED:20180904T191135Z
LAST-MODIFIED:20180904T192101Z
UID:17767-1536264000-1536276600@www.suddenvalley.com
SUMMARY:Special BOD/ Finance Meeting
DESCRIPTION:
URL:https://www.suddenvalley.com/event/special-bod-finance-meeting/
LOCATION:Dance Barn\, 8 Barn View Ct\, Bellingham\, WA\, 98229\, United States
CATEGORIES:Board Meeting
END:VEVENT
BEGIN:VEVENT
DTSTART;TZID=America/Los_Angeles:20180816T200000
DTEND;TZID=America/Los_Angeles:20180816T230000
DTSTAMP:20260421T154019
CREATED:20180810T150317Z
LAST-MODIFIED:20180813T180808Z
UID:17466-1534449600-1534460400@www.suddenvalley.com
SUMMARY:Special Board Meeting
DESCRIPTION:
URL:https://www.suddenvalley.com/event/special-board-meeting-2/
LOCATION:SW Fire Hall\, Bellingham\, WA\, 98229\, United States
CATEGORIES:Board Meeting
END:VEVENT
BEGIN:VEVENT
DTSTART;TZID=America/Los_Angeles:20180416T120000
DTEND;TZID=America/Los_Angeles:20180416T130000
DTSTAMP:20260421T154019
CREATED:20180413T212033Z
LAST-MODIFIED:20180413T212033Z
UID:16527-1523880000-1523883600@www.suddenvalley.com
SUMMARY:Executive Board Meeting
DESCRIPTION:
URL:https://www.suddenvalley.com/event/executive-board-meeting-2/
LOCATION:South Whatcom Library\, 10 Barn View Court\, Bellingham\, WA\, 98229\, United States
CATEGORIES:Board Meeting
END:VEVENT
BEGIN:VEVENT
DTSTART;TZID=America/Los_Angeles:20171214T190000
DTEND;TZID=America/Los_Angeles:20171214T220000
DTSTAMP:20260421T154019
CREATED:20171023T164517Z
LAST-MODIFIED:20171213T212610Z
UID:14382-1513278000-1513288800@www.suddenvalley.com
SUMMARY:Board Meeting
DESCRIPTION:
URL:https://www.suddenvalley.com/event/board-meeting-2017-12-14/
LOCATION:South Whatcom Fire Authority\, 2050 Lake Whatcom Boulevard\, Bellingham\, WA\, 98229\, United States
CATEGORIES:Board Meeting
ORGANIZER;CN="Sudden Valley Community Association":MAILTO:office@suddenvalley.com
END:VEVENT
BEGIN:VEVENT
DTSTART;TZID=America/Los_Angeles:20171213T150000
DTEND;TZID=America/Los_Angeles:20171213T160000
DTSTAMP:20260421T154019
CREATED:20171211T232758Z
LAST-MODIFIED:20171211T232758Z
UID:15274-1513177200-1513180800@www.suddenvalley.com
SUMMARY:Executive Committee Meeting
DESCRIPTION:
URL:https://www.suddenvalley.com/event/executive-committee-meeting/
LOCATION:Conference Room
CATEGORIES:Board Meeting
END:VEVENT
BEGIN:VEVENT
DTSTART;TZID=America/Los_Angeles:20171130T190000
DTEND;TZID=America/Los_Angeles:20171130T220000
DTSTAMP:20260421T154019
CREATED:20171121T193712Z
LAST-MODIFIED:20171121T193713Z
UID:15104-1512068400-1512079200@www.suddenvalley.com
SUMMARY:Board Meeting
DESCRIPTION:
URL:https://www.suddenvalley.com/event/board-meeting-3/
LOCATION:Dance Barn\, 8 Barn View Ct\, Bellingham\, WA\, 98229\, United States
CATEGORIES:Board Meeting
END:VEVENT
BEGIN:VEVENT
DTSTART;TZID=America/Los_Angeles:20171116T130000
DTEND;TZID=America/Los_Angeles:20171116T150000
DTSTAMP:20260421T154019
CREATED:20171024T025015Z
LAST-MODIFIED:20171024T025015Z
UID:13231-1510837200-1510844400@www.suddenvalley.com
SUMMARY:Executive Board Meeting
DESCRIPTION:
URL:https://www.suddenvalley.com/event/executive-board-meeting/
LOCATION:Multi-Purpose Room\, 8 Barn View Drive\, Bellingham\, WA\, 98229\, United States
CATEGORIES:Board Meeting
ORGANIZER;CN="Sudden Valley Community Association":MAILTO:office@suddenvalley.com
END:VEVENT
BEGIN:VEVENT
DTSTART;TZID=America/Los_Angeles:20171019T190000
DTEND;TZID=America/Los_Angeles:20171019T220000
DTSTAMP:20260421T154019
CREATED:20171023T215155Z
LAST-MODIFIED:20171023T215155Z
UID:13165-1508439600-1508450400@www.suddenvalley.com
SUMMARY:Closed Executive Board Meeting
DESCRIPTION:
URL:https://www.suddenvalley.com/event/closed-executive-board-meeting/
LOCATION:The Loft in the Community Center\, 8 Barn View Drive\, Bellingham\, WA\, 98229\, United States
CATEGORIES:Board Meeting
ORGANIZER;CN="Sudden Valley Community Association":MAILTO:office@suddenvalley.com
END:VEVENT
BEGIN:VEVENT
DTSTART;TZID=America/Los_Angeles:20171012T200000
DTEND;TZID=America/Los_Angeles:20171012T230000
DTSTAMP:20260421T154019
CREATED:20171023T164517Z
LAST-MODIFIED:20171208T183212Z
UID:13149-1507838400-1507849200@www.suddenvalley.com
SUMMARY:Board Meeting
DESCRIPTION:
URL:https://www.suddenvalley.com/event/board-meeting/
LOCATION:Dance Barn\, 8 Barn View Ct\, Bellingham\, WA\, 98229\, United States
CATEGORIES:Board Meeting
ORGANIZER;CN="Sudden Valley Community Association":MAILTO:office@suddenvalley.com
END:VEVENT
END:VCALENDAR