BEGIN:VCALENDAR
VERSION:2.0
PRODID:-//Sudden Valley Community Association - ECPv6.15.17//NONSGML v1.0//EN
CALSCALE:GREGORIAN
METHOD:PUBLISH
X-WR-CALNAME:Sudden Valley Community Association
X-ORIGINAL-URL:https://www.suddenvalley.com
X-WR-CALDESC:Events for Sudden Valley Community Association
REFRESH-INTERVAL;VALUE=DURATION:PT1H
X-Robots-Tag:noindex
X-PUBLISHED-TTL:PT1H
BEGIN:VTIMEZONE
TZID:America/Los_Angeles
BEGIN:DAYLIGHT
TZOFFSETFROM:-0800
TZOFFSETTO:-0700
TZNAME:PDT
DTSTART:20180311T100000
END:DAYLIGHT
BEGIN:STANDARD
TZOFFSETFROM:-0700
TZOFFSETTO:-0800
TZNAME:PST
DTSTART:20181104T090000
END:STANDARD
BEGIN:DAYLIGHT
TZOFFSETFROM:-0800
TZOFFSETTO:-0700
TZNAME:PDT
DTSTART:20190310T100000
END:DAYLIGHT
BEGIN:STANDARD
TZOFFSETFROM:-0700
TZOFFSETTO:-0800
TZNAME:PST
DTSTART:20191103T090000
END:STANDARD
BEGIN:DAYLIGHT
TZOFFSETFROM:-0800
TZOFFSETTO:-0700
TZNAME:PDT
DTSTART:20200308T100000
END:DAYLIGHT
BEGIN:STANDARD
TZOFFSETFROM:-0700
TZOFFSETTO:-0800
TZNAME:PST
DTSTART:20201101T090000
END:STANDARD
BEGIN:DAYLIGHT
TZOFFSETFROM:-0800
TZOFFSETTO:-0700
TZNAME:PDT
DTSTART:20210314T100000
END:DAYLIGHT
BEGIN:STANDARD
TZOFFSETFROM:-0700
TZOFFSETTO:-0800
TZNAME:PST
DTSTART:20211107T090000
END:STANDARD
END:VTIMEZONE
BEGIN:VEVENT
DTSTART;TZID=America/Los_Angeles:20200212T173000
DTEND;TZID=America/Los_Angeles:20200212T183000
DTSTAMP:20260421T233611
CREATED:20200210T195527Z
LAST-MODIFIED:20200211T001241Z
UID:26505-1581528600-1581532200@www.suddenvalley.com
SUMMARY:Special Communications Committee Meeting
DESCRIPTION:A special meeting to discuss upcoming 2020 SVCA Events. \n2.12.20 Communications Committee Meeting Agenda
URL:https://www.suddenvalley.com/event/special-communications-committee-meeting/
LOCATION:Multipurpose Room A\, Bellingham\, WA\, 98229\, United States
CATEGORIES:Committee Meeting
END:VEVENT
BEGIN:VEVENT
DTSTART;TZID=America/Los_Angeles:20200212T090000
DTEND;TZID=America/Los_Angeles:20200212T110000
DTSTAMP:20260421T233611
CREATED:20191217T155125Z
LAST-MODIFIED:20200210T211439Z
UID:25930-1581498000-1581505200@www.suddenvalley.com
SUMMARY:Emergency Preparedness Committee
DESCRIPTION:2.12.20 Emergency Preparedness Committee Meeting Agenda
URL:https://www.suddenvalley.com/event/emergency-preparedness-committee-2020-02-11/
LOCATION:SW Fire Hall\, Bellingham\, WA\, 98229\, United States
CATEGORIES:Committee Meeting
END:VEVENT
BEGIN:VEVENT
DTSTART;TZID=America/Los_Angeles:20200210T183000
DTEND;TZID=America/Los_Angeles:20200210T200000
DTSTAMP:20260421T233611
CREATED:20200127T150902Z
LAST-MODIFIED:20200210T155039Z
UID:26353-1581359400-1581364800@www.suddenvalley.com
SUMMARY:N&E - SGM Certification Meeting
DESCRIPTION:2.10.20 2020 SGM Certification Meeting Agenda
URL:https://www.suddenvalley.com/event/ne-sgm-certification-meeting-2/
LOCATION:Multipurpose Room A\, Bellingham\, WA\, 98229\, United States
CATEGORIES:Committee Meeting
END:VEVENT
BEGIN:VEVENT
DTSTART;TZID=America/Los_Angeles:20200206T090000
DTEND;TZID=America/Los_Angeles:20200206T110000
DTSTAMP:20260421T233611
CREATED:20191217T154731Z
LAST-MODIFIED:20191217T154731Z
UID:25916-1580979600-1580986800@www.suddenvalley.com
SUMMARY:ACC Meeting
DESCRIPTION:
URL:https://www.suddenvalley.com/event/acc-meeting-13/
LOCATION:El Agave Sunset Room\, Bellingham\, WA\, 98229\, United States
CATEGORIES:Committee Meeting
END:VEVENT
BEGIN:VEVENT
DTSTART;TZID=America/Los_Angeles:20200127T183000
DTEND;TZID=America/Los_Angeles:20200127T193000
DTSTAMP:20260421T233611
CREATED:20200123T151123Z
LAST-MODIFIED:20200123T151123Z
UID:26315-1580149800-1580153400@www.suddenvalley.com
SUMMARY:Parks\, Trails\, & Recreation Committee Meeting
DESCRIPTION:
URL:https://www.suddenvalley.com/event/parks-trails-recreation-committee-meeting-4/
LOCATION:Multipurpose Room A\, Bellingham\, WA\, 98229\, United States
CATEGORIES:Committee Meeting
END:VEVENT
BEGIN:VEVENT
DTSTART;TZID=America/Los_Angeles:20200122T180000
DTEND;TZID=America/Los_Angeles:20200122T190000
DTSTAMP:20260421T233611
CREATED:20191120T000925Z
LAST-MODIFIED:20200120T221208Z
UID:25706-1579716000-1579719600@www.suddenvalley.com
SUMMARY:Communications Committee Meeting
DESCRIPTION:1.22.20 Communications Committee Meeting Agenda
URL:https://www.suddenvalley.com/event/communications-committee-meeting-10/
LOCATION:Multipurpose Room B\, WA\, United States
CATEGORIES:Committee Meeting,Meeting
END:VEVENT
BEGIN:VEVENT
DTSTART;TZID=America/Los_Angeles:20200122T090000
DTEND;TZID=America/Los_Angeles:20200122T110000
DTSTAMP:20260421T233611
CREATED:20191217T155125Z
LAST-MODIFIED:20200120T151427Z
UID:25928-1579683600-1579690800@www.suddenvalley.com
SUMMARY:Emergency Preparedness Committee
DESCRIPTION:
URL:https://www.suddenvalley.com/event/emergency-preparedness-committee/
LOCATION:SW Fire Hall\, Bellingham\, WA\, 98229\, United States
CATEGORIES:Committee Meeting
END:VEVENT
BEGIN:VEVENT
DTSTART;TZID=America/Los_Angeles:20200121T190000
DTEND;TZID=America/Los_Angeles:20200121T210000
DTSTAMP:20260421T233611
CREATED:20200120T150947Z
LAST-MODIFIED:20200120T150947Z
UID:26279-1579633200-1579640400@www.suddenvalley.com
SUMMARY:Finance Committee Meeting
DESCRIPTION:1.21.20 Finance Committee Meeting Agenda
URL:https://www.suddenvalley.com/event/finance-committee-meeting-14/
LOCATION:Multipurpose Room A\, Bellingham\, WA\, 98229\, United States
CATEGORIES:Committee Meeting,Meeting
END:VEVENT
BEGIN:VEVENT
DTSTART;TZID=America/Los_Angeles:20200115T183000
DTEND;TZID=America/Los_Angeles:20200115T200000
DTSTAMP:20260421T233611
CREATED:20191217T154942Z
LAST-MODIFIED:20191217T154942Z
UID:25922-1579113000-1579118400@www.suddenvalley.com
SUMMARY:Finance Committee Meeting
DESCRIPTION:
URL:https://www.suddenvalley.com/event/finance-committee-meeting-13/
LOCATION:Multipurpose Room A\, Bellingham\, WA\, 98229\, United States
CATEGORIES:Committee Meeting
END:VEVENT
BEGIN:VEVENT
DTSTART;TZID=America/Los_Angeles:20200106T180000
DTEND;TZID=America/Los_Angeles:20200106T190000
DTSTAMP:20260421T233611
CREATED:20200102T150547Z
LAST-MODIFIED:20200102T150547Z
UID:26091-1578333600-1578337200@www.suddenvalley.com
SUMMARY:Communications Committee Meeting
DESCRIPTION:
URL:https://www.suddenvalley.com/event/communications-committee-meeting-12/
LOCATION:El Agave Sunset Room\, Bellingham\, WA\, 98229\, United States
CATEGORIES:Committee Meeting,Meeting
END:VEVENT
BEGIN:VEVENT
DTSTART;TZID=America/Los_Angeles:20191230T183000
DTEND;TZID=America/Los_Angeles:20191230T193000
DTSTAMP:20260421T233611
CREATED:20191126T173514Z
LAST-MODIFIED:20191126T173514Z
UID:25744-1577730600-1577734200@www.suddenvalley.com
SUMMARY:Nominations & Elections Committee Meeting
DESCRIPTION:
URL:https://www.suddenvalley.com/event/nominations-elections-committee-meeting-12/
LOCATION:Multipurpose Room B\, Bellingham\, WA\, 98229\, United States
CATEGORIES:Committee Meeting,Meeting
END:VEVENT
BEGIN:VEVENT
DTSTART;TZID=America/Los_Angeles:20191223T170000
DTEND;TZID=America/Los_Angeles:20191223T180000
DTSTAMP:20260421T233611
CREATED:20191223T141741Z
LAST-MODIFIED:20191223T142259Z
UID:26043-1577120400-1577124000@www.suddenvalley.com
SUMMARY:Emergency Communications Committee Meeting
DESCRIPTION:12.23.19 Communications Committee Meeting Agenda
URL:https://www.suddenvalley.com/event/emergency-communications-committee-meeting/
LOCATION:El Agave Sunset Room\, Bellingham\, WA\, 98229\, United States
CATEGORIES:Committee Meeting
END:VEVENT
BEGIN:VEVENT
DTSTART;TZID=America/Los_Angeles:20191219T180000
DTEND;TZID=America/Los_Angeles:20191219T200000
DTSTAMP:20260421T233611
CREATED:20191217T154112Z
LAST-MODIFIED:20191217T154112Z
UID:25907-1576778400-1576785600@www.suddenvalley.com
SUMMARY:ACC Meeting
DESCRIPTION:
URL:https://www.suddenvalley.com/event/acc-meeting-12/
LOCATION:Multipurpose Room A\, Bellingham\, WA\, 98229\, United States
CATEGORIES:Committee Meeting
END:VEVENT
BEGIN:VEVENT
DTSTART;TZID=America/Los_Angeles:20191213T180000
DTEND;TZID=America/Los_Angeles:20191213T190000
DTSTAMP:20260421T233611
CREATED:20191126T170655Z
LAST-MODIFIED:20191213T162753Z
UID:25739-1576260000-1576263600@www.suddenvalley.com
SUMMARY:Communications Committee Meeting
DESCRIPTION:This will be the first (introductory) Communications Committee Meeting of the 2019-2020 term.  Agenda
URL:https://www.suddenvalley.com/event/communications-committee-meeting-11/
LOCATION:Bellingham\, WA\, 98229\, United States
CATEGORIES:Committee Meeting,Meeting
END:VEVENT
BEGIN:VEVENT
DTSTART;TZID=America/Los_Angeles:20191204T183000
DTEND;TZID=America/Los_Angeles:20191204T200000
DTSTAMP:20260421T233611
CREATED:20191127T183818Z
LAST-MODIFIED:20191127T183818Z
UID:25768-1575484200-1575489600@www.suddenvalley.com
SUMMARY:Finance Committee Meeting
DESCRIPTION:
URL:https://www.suddenvalley.com/event/finance-committee-meeting-12/
LOCATION:Multi-Purpose Room A\, 8 Barnview Court\, Bellingham\, WA\, 98229\, United States
CATEGORIES:Committee Meeting,Meeting
END:VEVENT
BEGIN:VEVENT
DTSTART;TZID=America/Los_Angeles:20191204T180000
DTEND;TZID=America/Los_Angeles:20191204T193000
DTSTAMP:20260421T233611
CREATED:20191126T165636Z
LAST-MODIFIED:20191126T165636Z
UID:25733-1575482400-1575487800@www.suddenvalley.com
SUMMARY:Nominations & Elections Committee Meeting
DESCRIPTION:
URL:https://www.suddenvalley.com/event/nominations-elections-committee-meeting-7/
LOCATION:Multipurpose Room B\, Bellingham\, WA\, 98229\, United States
CATEGORIES:Committee Meeting,Meeting
END:VEVENT
BEGIN:VEVENT
DTSTART;TZID=America/Los_Angeles:20191107T090000
DTEND;TZID=America/Los_Angeles:20191107T100000
DTSTAMP:20260421T233611
CREATED:20190711T164041Z
LAST-MODIFIED:20190711T164041Z
UID:23194-1573117200-1573120800@www.suddenvalley.com
SUMMARY:ACC Meeting
DESCRIPTION:
URL:https://www.suddenvalley.com/event/acc-meeting-11/
LOCATION:El Agave Sunset Room\, Bellingham\, WA\, 98229\, United States
CATEGORIES:Committee Meeting
END:VEVENT
BEGIN:VEVENT
DTSTART;TZID=America/Los_Angeles:20191028T193000
DTEND;TZID=America/Los_Angeles:20191028T213000
DTSTAMP:20260421T233611
CREATED:20181127T185100Z
LAST-MODIFIED:20181127T185100Z
UID:19250-1572291000-1572298200@www.suddenvalley.com
SUMMARY:Nominations & Elections Committee Meeting
DESCRIPTION:
URL:https://www.suddenvalley.com/event/nominations-elections-committee-meeting-11/
LOCATION:El Agave\, 4 Clubhouse Circle\, Bellingham\, WA\, 98229\, United States
CATEGORIES:Committee Meeting
END:VEVENT
BEGIN:VEVENT
DTSTART;TZID=America/Los_Angeles:20191023T193000
DTEND;TZID=America/Los_Angeles:20191023T213000
DTSTAMP:20260421T233611
CREATED:20191016T182630Z
LAST-MODIFIED:20191016T182630Z
UID:25252-1571859000-1571866200@www.suddenvalley.com
SUMMARY:Finance\, Revenue\, & Capital Planning Subcommittee Meeting
DESCRIPTION:
URL:https://www.suddenvalley.com/event/finance-revenue-capital-planning-subcommittee-meeting-5/
LOCATION:Multipurpose Room A\, Bellingham\, WA\, 98229\, United States
CATEGORIES:Committee Meeting,Community,Meeting
END:VEVENT
BEGIN:VEVENT
DTSTART;TZID=America/Los_Angeles:20191018T110000
DTEND;TZID=America/Los_Angeles:20191018T120000
DTSTAMP:20260421T233611
CREATED:20191014T154751Z
LAST-MODIFIED:20191016T182508Z
UID:25184-1571396400-1571400000@www.suddenvalley.com
SUMMARY:Community Safety Planning Subcommittee Meeting
DESCRIPTION:https://drive.google.com/open?id=1yWUVuKVO1ZFjZZv1HISfVJ195-u2AQyF
URL:https://www.suddenvalley.com/event/community-safety-planning-subcommittee-meeting-2/
LOCATION:South Whatcom Fire Authority\, 2050 Lake Whatcom Boulevard\, Bellingham\, WA\, 98229\, United States
CATEGORIES:Committee Meeting,Community,Meeting
END:VEVENT
BEGIN:VEVENT
DTSTART;TZID=America/Los_Angeles:20191017T190000
DTEND;TZID=America/Los_Angeles:20191017T200000
DTSTAMP:20260421T233611
CREATED:20190711T163928Z
LAST-MODIFIED:20190711T163928Z
UID:23192-1571338800-1571342400@www.suddenvalley.com
SUMMARY:ACC Meeting
DESCRIPTION:
URL:https://www.suddenvalley.com/event/acc-meeting-10/
LOCATION:MPR A\, WA\, United States
CATEGORIES:Committee Meeting
END:VEVENT
BEGIN:VEVENT
DTSTART;TZID=America/Los_Angeles:20191016T193000
DTEND;TZID=America/Los_Angeles:20191016T213000
DTSTAMP:20260421T233611
CREATED:20191014T154500Z
LAST-MODIFIED:20191014T154500Z
UID:25182-1571254200-1571261400@www.suddenvalley.com
SUMMARY:Finance Committee Meeting
DESCRIPTION:
URL:https://www.suddenvalley.com/event/finance-committee-meeting-11/
LOCATION:Multipurpose Room A\, Bellingham\, WA\, 98229\, United States
CATEGORIES:Committee Meeting,Meeting
END:VEVENT
BEGIN:VEVENT
DTSTART;TZID=America/Los_Angeles:20191016T183000
DTEND;TZID=America/Los_Angeles:20191016T193000
DTSTAMP:20260421T233611
CREATED:20191014T150446Z
LAST-MODIFIED:20191014T150446Z
UID:25180-1571250600-1571254200@www.suddenvalley.com
SUMMARY:Communications Committee Meeting
DESCRIPTION:
URL:https://www.suddenvalley.com/event/communications-committee-meeting-9/
LOCATION:Multipurpose Room A\, Bellingham\, WA\, 98229\, United States
CATEGORIES:Committee Meeting,Community,Meeting
END:VEVENT
BEGIN:VEVENT
DTSTART;TZID=America/Los_Angeles:20191015T090000
DTEND;TZID=America/Los_Angeles:20191015T180000
DTSTAMP:20260421T233611
CREATED:20191015T154002Z
LAST-MODIFIED:20191015T154002Z
UID:25234-1571130000-1571162400@www.suddenvalley.com
SUMMARY:LRPC Parks\, Trails\, & Recreation Subcommittee Meeting
DESCRIPTION:
URL:https://www.suddenvalley.com/event/lrpc-parks-trails-recreation-subcommittee-meeting-3/
LOCATION:Community Center Lobby\, Bellingham\, WA\, 98229\, United States
CATEGORIES:Committee Meeting,Community,Meeting
END:VEVENT
BEGIN:VEVENT
DTSTART;TZID=America/Los_Angeles:20191014T193000
DTEND;TZID=America/Los_Angeles:20191014T210000
DTSTAMP:20260421T233611
CREATED:20190912T125300Z
LAST-MODIFIED:20190912T125300Z
UID:24329-1571081400-1571086800@www.suddenvalley.com
SUMMARY:Document Review Committee Meeting
DESCRIPTION:
URL:https://www.suddenvalley.com/event/document-review-committee-meeting-9/
LOCATION:Community Center Lobby\, Bellingham\, WA\, 98229\, United States
CATEGORIES:Committee Meeting,Meeting
END:VEVENT
BEGIN:VEVENT
DTSTART;TZID=America/Los_Angeles:20191008T193000
DTEND;TZID=America/Los_Angeles:20191008T210000
DTSTAMP:20260421T233611
CREATED:20190912T125657Z
LAST-MODIFIED:20190912T125657Z
UID:24335-1570563000-1570568400@www.suddenvalley.com
SUMMARY:Long-Range Planning Committee Meeting
DESCRIPTION:
URL:https://www.suddenvalley.com/event/long-range-planning-committee-meeting-8/
LOCATION:Multipurpose Room A\, Bellingham\, WA\, 98229\, United States
CATEGORIES:Committee Meeting,Community,Meeting
END:VEVENT
BEGIN:VEVENT
DTSTART;TZID=America/Los_Angeles:20191008T100000
DTEND;TZID=America/Los_Angeles:20191008T110000
DTSTAMP:20260421T233611
CREATED:20190912T125524Z
LAST-MODIFIED:20190912T125524Z
UID:24332-1570528800-1570532400@www.suddenvalley.com
SUMMARY:Emergency Preparedness Committee Meeting
DESCRIPTION:
URL:https://www.suddenvalley.com/event/emergency-preparedness-committee-meeting-2/
LOCATION:SW Fire Hall\, Bellingham\, WA\, 98229\, United States
CATEGORIES:Committee Meeting,Meeting
END:VEVENT
BEGIN:VEVENT
DTSTART;TZID=America/Los_Angeles:20191003T100000
DTEND;TZID=America/Los_Angeles:20191003T110000
DTSTAMP:20260421T233611
CREATED:20190711T163506Z
LAST-MODIFIED:20190711T163506Z
UID:23190-1570096800-1570100400@www.suddenvalley.com
SUMMARY:ACC Meeting
DESCRIPTION:
URL:https://www.suddenvalley.com/event/acc-meeting-9/
LOCATION:El Agave Sunset Room\, Bellingham\, WA\, 98229\, United States
CATEGORIES:Committee Meeting
END:VEVENT
BEGIN:VEVENT
DTSTART;TZID=America/Los_Angeles:20191001T180000
DTEND;TZID=America/Los_Angeles:20191001T190000
DTSTAMP:20260421T233611
CREATED:20190912T193109Z
LAST-MODIFIED:20190912T193109Z
UID:24380-1569952800-1569956400@www.suddenvalley.com
SUMMARY:LRPC Community Outreach Subcommittee Meeting
DESCRIPTION:
URL:https://www.suddenvalley.com/event/lrpc-community-outreach-subcommittee-meeting/
LOCATION:Library Conference Room\, 10 Barn View Court\, Bellingham\, WA\, 98229\, United States
CATEGORIES:Committee Meeting,Community,Meeting
END:VEVENT
BEGIN:VEVENT
DTSTART;TZID=America/Los_Angeles:20190930T193000
DTEND;TZID=America/Los_Angeles:20190930T213000
DTSTAMP:20260421T233611
CREATED:20181127T185008Z
LAST-MODIFIED:20181127T185008Z
UID:19248-1569871800-1569879000@www.suddenvalley.com
SUMMARY:Nominations & Elections Committee Meeting
DESCRIPTION:
URL:https://www.suddenvalley.com/event/nominations-elections-committee-meeting-10/
LOCATION:El Agave\, 4 Clubhouse Circle\, Bellingham\, WA\, 98229\, United States
CATEGORIES:Committee Meeting
END:VEVENT
END:VCALENDAR