BEGIN:VCALENDAR
VERSION:2.0
PRODID:-//Sudden Valley Community Association - ECPv6.15.17//NONSGML v1.0//EN
CALSCALE:GREGORIAN
METHOD:PUBLISH
X-WR-CALNAME:Sudden Valley Community Association
X-ORIGINAL-URL:https://www.suddenvalley.com
X-WR-CALDESC:Events for Sudden Valley Community Association
REFRESH-INTERVAL;VALUE=DURATION:PT1H
X-Robots-Tag:noindex
X-PUBLISHED-TTL:PT1H
BEGIN:VTIMEZONE
TZID:America/Los_Angeles
BEGIN:DAYLIGHT
TZOFFSETFROM:-0800
TZOFFSETTO:-0700
TZNAME:PDT
DTSTART:20170312T100000
END:DAYLIGHT
BEGIN:STANDARD
TZOFFSETFROM:-0700
TZOFFSETTO:-0800
TZNAME:PST
DTSTART:20171105T090000
END:STANDARD
BEGIN:DAYLIGHT
TZOFFSETFROM:-0800
TZOFFSETTO:-0700
TZNAME:PDT
DTSTART:20180311T100000
END:DAYLIGHT
BEGIN:STANDARD
TZOFFSETFROM:-0700
TZOFFSETTO:-0800
TZNAME:PST
DTSTART:20181104T090000
END:STANDARD
BEGIN:DAYLIGHT
TZOFFSETFROM:-0800
TZOFFSETTO:-0700
TZNAME:PDT
DTSTART:20190310T100000
END:DAYLIGHT
BEGIN:STANDARD
TZOFFSETFROM:-0700
TZOFFSETTO:-0800
TZNAME:PST
DTSTART:20191103T090000
END:STANDARD
BEGIN:DAYLIGHT
TZOFFSETFROM:-0800
TZOFFSETTO:-0700
TZNAME:PDT
DTSTART:20200308T100000
END:DAYLIGHT
BEGIN:STANDARD
TZOFFSETFROM:-0700
TZOFFSETTO:-0800
TZNAME:PST
DTSTART:20201101T090000
END:STANDARD
END:VTIMEZONE
BEGIN:VEVENT
DTSTART;TZID=America/Los_Angeles:20190604T090000
DTEND;TZID=America/Los_Angeles:20190604T180000
DTSTAMP:20260421T231137
CREATED:20190604T211437Z
LAST-MODIFIED:20190604T211437Z
UID:22642-1559638800-1559671200@www.suddenvalley.com
SUMMARY:Long-Range Planning Committee Meeting
DESCRIPTION:
URL:https://www.suddenvalley.com/event/long-range-planning-committee-meeting-4/
LOCATION:Multipurpose Room A\, Bellingham\, WA\, 98229\, United States
CATEGORIES:Committee Meeting,Community,Meeting
END:VEVENT
BEGIN:VEVENT
DTSTART;TZID=America/Los_Angeles:20190525T190000
DTEND;TZID=America/Los_Angeles:20190525T210000
DTSTAMP:20260421T231137
CREATED:20190426T192021Z
LAST-MODIFIED:20190426T192625Z
UID:22298-1558810800-1558818000@www.suddenvalley.com
SUMMARY:Sudden Valley Writers Night Out
DESCRIPTION:
URL:https://www.suddenvalley.com/event/sudden-valley-writers-night-out/
LOCATION:El Agave\, 4 Clubhouse Circle\, Bellingham\, WA\, 98229\, United States
CATEGORIES:Community,Special Event
END:VEVENT
BEGIN:VEVENT
DTSTART;TZID=America/Los_Angeles:20190525T110000
DTEND;TZID=America/Los_Angeles:20190525T130000
DTSTAMP:20260421T231137
CREATED:20190520T215710Z
LAST-MODIFIED:20190520T215710Z
UID:22508-1558782000-1558789200@www.suddenvalley.com
SUMMARY:Bellingham Music Club Jam Session
DESCRIPTION:
URL:https://www.suddenvalley.com/event/bellingham-music-club-jam-session/
LOCATION:Dance Barn\, 8 Barn View Court\, Bellingham\, WA\, 98229\, United States
CATEGORIES:Club,Community,Concert
END:VEVENT
BEGIN:VEVENT
DTSTART;TZID=America/Los_Angeles:20190518T150000
DTEND;TZID=America/Los_Angeles:20190518T170000
DTSTAMP:20260421T231137
CREATED:20190502T155731Z
LAST-MODIFIED:20190502T160025Z
UID:22318-1558191600-1558198800@www.suddenvalley.com
SUMMARY:Essential Oils Class
DESCRIPTION:
URL:https://www.suddenvalley.com/event/essential-oils-class/
LOCATION:MPR A\, WA\, United States
CATEGORIES:Class,Community
END:VEVENT
BEGIN:VEVENT
DTSTART;TZID=America/Los_Angeles:20190511T100000
DTEND;TZID=America/Los_Angeles:20190511T170000
DTSTAMP:20260421T231137
CREATED:20190509T163210Z
LAST-MODIFIED:20190509T174244Z
UID:22408-1557568800-1557594000@www.suddenvalley.com
SUMMARY:Garage Sale; 5/11/19
DESCRIPTION:
URL:https://www.suddenvalley.com/event/garage-sale-5-11-19/
LOCATION:Dance Barn\, 8 Barn View Court\, Bellingham\, WA\, 98229\, United States
CATEGORIES:Community
ORGANIZER;CN="Christ the King Community Church":MAILTO:suddenvalley@ctk.church
END:VEVENT
BEGIN:VEVENT
DTSTART;TZID=America/Los_Angeles:20190508T193000
DTEND;TZID=America/Los_Angeles:20190508T210000
DTSTAMP:20260421T231137
CREATED:20190506T205335Z
LAST-MODIFIED:20190506T205335Z
UID:22358-1557343800-1557349200@www.suddenvalley.com
SUMMARY:Finance\, Revenue\, & Capital Planning Subcommittee Meeting
DESCRIPTION:
URL:https://www.suddenvalley.com/event/finance-revenue-capital-planning-subcommittee-meeting-3/
LOCATION:Bellingham\, WA\, 98229\, United States
CATEGORIES:Committee Meeting,Community
END:VEVENT
BEGIN:VEVENT
DTSTART;TZID=America/Los_Angeles:20190502T200000
DTEND;TZID=America/Los_Angeles:20190502T220000
DTSTAMP:20260421T231137
CREATED:20190424T162233Z
LAST-MODIFIED:20190424T162233Z
UID:22279-1556827200-1556834400@www.suddenvalley.com
SUMMARY:Special BOD Meeting
DESCRIPTION:
URL:https://www.suddenvalley.com/event/special-bod-meeting/
LOCATION:Dance Barn\, 8 Barn View Court\, Bellingham\, WA\, 98229\, United States
CATEGORIES:Board Meeting,Community,Meeting
END:VEVENT
BEGIN:VEVENT
DTSTART;TZID=America/Los_Angeles:20190423T193000
DTEND;TZID=America/Los_Angeles:20190423T203000
DTSTAMP:20260421T231137
CREATED:20190415T165042Z
LAST-MODIFIED:20190415T165042Z
UID:22203-1556047800-1556051400@www.suddenvalley.com
SUMMARY:LRPC Parks\, Trails\, & Recreation Subcommittee Meeting
DESCRIPTION:
URL:https://www.suddenvalley.com/event/lrpc-parks-trails-recreation-subcommittee-meeting-2/
LOCATION:Multi-Purpose Room A\, 8 Barnview Court\, Bellingham\, WA\, 98229\, United States
CATEGORIES:Committee Meeting,Community
END:VEVENT
BEGIN:VEVENT
DTSTART;TZID=America/Los_Angeles:20190416T190000
DTEND;TZID=America/Los_Angeles:20190416T210000
DTSTAMP:20260421T231137
CREATED:20190226T225953Z
LAST-MODIFIED:20190226T225953Z
UID:21491-1555441200-1555448400@www.suddenvalley.com
SUMMARY:BTC Information Session/Running Start
DESCRIPTION:
URL:https://www.suddenvalley.com/event/btc-information-session-running-start/
LOCATION:Adult Center Meeting Room\, 10 Barn View Court\, Bellingham\, WA\, 98229\, United States
CATEGORIES:Community,Special Event
ORGANIZER;CN="Bellingham Technical College":MAILTO:bcavilla@btc.edu
END:VEVENT
BEGIN:VEVENT
DTSTART;TZID=America/Los_Angeles:20190409T193000
DTEND;TZID=America/Los_Angeles:20190409T213000
DTSTAMP:20260421T231137
CREATED:20190311T143831Z
LAST-MODIFIED:20190604T211329Z
UID:21830-1554838200-1554845400@www.suddenvalley.com
SUMMARY:Long-Range Planning Committee
DESCRIPTION:
URL:https://www.suddenvalley.com/event/long-range-planning-committee-2019-04-09/
LOCATION:Multi-Purpose Room A\, 8 Barnview Court\, Bellingham\, WA\, 98229\, United States
CATEGORIES:Committee Meeting,Community
END:VEVENT
BEGIN:VEVENT
DTSTART;TZID=America/Los_Angeles:20190330T173000
DTEND;TZID=America/Los_Angeles:20190330T190000
DTSTAMP:20260421T231137
CREATED:20190327T171033Z
LAST-MODIFIED:20190327T171033Z
UID:22072-1553967000-1553972400@www.suddenvalley.com
SUMMARY:Finance\, Revenue\, & Capital Planning Subcommittee Meeting
DESCRIPTION:
URL:https://www.suddenvalley.com/event/finance-revenue-capital-planning-subcommittee-meeting-2/
LOCATION:Multi-Purpose Room A\, 8 Barnview Court\, Bellingham\, WA\, 98229\, United States
CATEGORIES:Committee Meeting,Community,Meeting
END:VEVENT
BEGIN:VEVENT
DTSTART;TZID=America/Los_Angeles:20190323T110000
DTEND;TZID=America/Los_Angeles:20190323T123000
DTSTAMP:20260421T231137
CREATED:20190311T170217Z
LAST-MODIFIED:20190314T184911Z
UID:21833-1553338800-1553344200@www.suddenvalley.com
SUMMARY:Finance\, Revenue\, & Capital Planning Subcommittee Meeting
DESCRIPTION:
URL:https://www.suddenvalley.com/event/finance-revenue-capital-planning-subcommittee-meeting-2019-03-23/
LOCATION:Multi-Purpose Room A\, 8 Barnview Court\, Bellingham\, WA\, 98229\, United States
CATEGORIES:Committee Meeting,Community
END:VEVENT
BEGIN:VEVENT
DTSTART;TZID=America/Los_Angeles:20190319T190000
DTEND;TZID=America/Los_Angeles:20190319T200000
DTSTAMP:20260421T231137
CREATED:20190318T170627Z
LAST-MODIFIED:20190318T174412Z
UID:21989-1553022000-1553025600@www.suddenvalley.com
SUMMARY:Parks\, Trails\, & Recreation Subcommittee Meeting
DESCRIPTION:
URL:https://www.suddenvalley.com/event/parks-trails-recreation-committee-meeting/
LOCATION:Community Center Lounge\, WA\, United States
CATEGORIES:Committee Meeting,Community,Meeting
END:VEVENT
BEGIN:VEVENT
DTSTART;TZID=America/Los_Angeles:20190316T110000
DTEND;TZID=America/Los_Angeles:20190316T123000
DTSTAMP:20260421T231137
CREATED:20190311T170217Z
LAST-MODIFIED:20190314T184937Z
UID:21831-1552734000-1552739400@www.suddenvalley.com
SUMMARY:Finance\, Revenue\, & Capital Planning Subcommittee Meeting
DESCRIPTION:
URL:https://www.suddenvalley.com/event/finance-revenue-capital-planning-subcommittee-meeting/
LOCATION:Multi-Purpose Room B\, 8 Barn View Court\, Bellingham\, WA\, 98229\, United States
CATEGORIES:Committee Meeting,Community
END:VEVENT
BEGIN:VEVENT
DTSTART;TZID=America/Los_Angeles:20190315T110000
DTEND;TZID=America/Los_Angeles:20190315T123000
DTSTAMP:20260421T231137
CREATED:20190314T185128Z
LAST-MODIFIED:20190314T185128Z
UID:21955-1552647600-1552653000@www.suddenvalley.com
SUMMARY:LRPC Community Safety Subcommittee Meeting
DESCRIPTION:3.15.19 LRPC Community Safety Subcommittee Agenda
URL:https://www.suddenvalley.com/event/lrpc-community-safety-subcommittee-meeting/
LOCATION:South Whatcom Fire Authority\, 2050 Lake Whatcom Boulevard\, Bellingham\, WA\, 98229\, United States
CATEGORIES:Committee Meeting,Community
END:VEVENT
BEGIN:VEVENT
DTSTART;TZID=America/Los_Angeles:20190314T140000
DTEND;TZID=America/Los_Angeles:20190314T170000
DTSTAMP:20260421T231137
CREATED:20190201T233445Z
LAST-MODIFIED:20190201T234559Z
UID:20001-1552572000-1552582800@www.suddenvalley.com
SUMMARY:Printing Workshop
DESCRIPTION:
URL:https://www.suddenvalley.com/event/printing-workshop/
LOCATION:Adult Center Meeting Room\, 10 Barn View Court\, Bellingham\, WA\, 98229\, United States
CATEGORIES:Class,Community
END:VEVENT
BEGIN:VEVENT
DTSTART;TZID=America/Los_Angeles:20190312T193000
DTEND;TZID=America/Los_Angeles:20190312T213000
DTSTAMP:20260421T231137
CREATED:20190311T143831Z
LAST-MODIFIED:20190311T143831Z
UID:21828-1552419000-1552426200@www.suddenvalley.com
SUMMARY:Long-Range Planning Committee
DESCRIPTION:
URL:https://www.suddenvalley.com/event/long-range-planning-committee/
LOCATION:Multi-Purpose Room A\, 8 Barnview Court\, Bellingham\, WA\, 98229\, United States
CATEGORIES:Committee Meeting,Community
END:VEVENT
BEGIN:VEVENT
DTSTART;TZID=America/Los_Angeles:20190312T110000
DTEND;TZID=America/Los_Angeles:20190312T123000
DTSTAMP:20260421T231137
CREATED:20190312T143940Z
LAST-MODIFIED:20190312T143940Z
UID:21844-1552388400-1552393800@www.suddenvalley.com
SUMMARY:[LRPC] Emergency Planning & Security Subcommittee Meeting
DESCRIPTION:
URL:https://www.suddenvalley.com/event/lrpc-emergency-planning-security-subcommittee-meeting-2/
LOCATION:South Whatcom Fire Authority\, 2050 Lake Whatcom Boulevard\, Bellingham\, WA\, 98229\, United States
CATEGORIES:Committee Meeting,Community
END:VEVENT
BEGIN:VEVENT
DTSTART;TZID=America/Los_Angeles:20190222T180000
DTEND;TZID=America/Los_Angeles:20190222T203000
DTSTAMP:20260421T231137
CREATED:20190111T184303Z
LAST-MODIFIED:20190111T184303Z
UID:19657-1550858400-1550867400@www.suddenvalley.com
SUMMARY:Cub Scouts Blue and Gold Ceremony
DESCRIPTION:
URL:https://www.suddenvalley.com/event/cub-scouts-blue-and-gold-ceremony/
LOCATION:Dance Barn\, 8 Barn View Court\, Bellingham\, WA\, 98229\, United States
CATEGORIES:Community,Special Event
END:VEVENT
BEGIN:VEVENT
DTSTART;TZID=America/Los_Angeles:20190219T180000
DTEND;TZID=America/Los_Angeles:20190219T200000
DTSTAMP:20260421T231137
CREATED:20190201T000101Z
LAST-MODIFIED:20190201T000101Z
UID:19946-1550599200-1550606400@www.suddenvalley.com
SUMMARY:Free Educational Seminar on Social Security 2/19/19
DESCRIPTION:
URL:https://www.suddenvalley.com/event/free-educational-seminar-on-social-security-2-19-19/
LOCATION:MPR A\, WA\, United States
CATEGORIES:Community,Meeting
END:VEVENT
BEGIN:VEVENT
DTSTART;TZID=America/Los_Angeles:20190215T130000
DTEND;TZID=America/Los_Angeles:20190215T160000
DTSTAMP:20260421T231137
CREATED:20190201T233237Z
LAST-MODIFIED:20190201T233237Z
UID:19999-1550235600-1550246400@www.suddenvalley.com
SUMMARY:Photo Workshop
DESCRIPTION:
URL:https://www.suddenvalley.com/event/photo-workshop/
LOCATION:Adult Center Meeting Room\, 10 Barn View Court\, Bellingham\, WA\, 98229\, United States
CATEGORIES:Class,Community
END:VEVENT
BEGIN:VEVENT
DTSTART;TZID=America/Los_Angeles:20190127T133000
DTEND;TZID=America/Los_Angeles:20190127T163000
DTSTAMP:20260421T231137
CREATED:20190201T202434Z
LAST-MODIFIED:20190201T202434Z
UID:19958-1548595800-1548606600@www.suddenvalley.com
SUMMARY:Financial Peace University
DESCRIPTION:
URL:https://www.suddenvalley.com/event/financial-peace-university/
LOCATION:Multi-Purpose Room A\, 8 Barnview Court\, Bellingham\, WA\, 98229\, United States
CATEGORIES:Class,Community
ORGANIZER;CN="Christ the King Community Church":MAILTO:suddenvalley@ctk.church
END:VEVENT
BEGIN:VEVENT
DTSTART;TZID=America/Los_Angeles:20190115T180000
DTEND;TZID=America/Los_Angeles:20190115T190000
DTSTAMP:20260421T231137
CREATED:20190114T235350Z
LAST-MODIFIED:20190115T000635Z
UID:19684-1547575200-1547578800@www.suddenvalley.com
SUMMARY:Fireside Chat w/ Dept of Wildlife\, Fish and Game
DESCRIPTION:
URL:https://www.suddenvalley.com/event/fireside-chat-w-dept-of-wildlife-fish-and-game/
LOCATION:Dance Barn\, 8 Barn View Court\, Bellingham\, WA\, 98229\, United States
CATEGORIES:Community,Meeting
END:VEVENT
BEGIN:VEVENT
DTSTART;TZID=America/Los_Angeles:20190105T100000
DTEND;TZID=America/Los_Angeles:20190105T110000
DTSTAMP:20260421T231137
CREATED:20190103T221251Z
LAST-MODIFIED:20190104T230749Z
UID:19554-1546682400-1546686000@www.suddenvalley.com
SUMMARY:Weight Loss Challenge Kickoff 1/5/18
DESCRIPTION:
URL:https://www.suddenvalley.com/event/weight-loss-kick-off-challenge-1-5-18/
LOCATION:Gym\, 8 Barn View Court
CATEGORIES:Community,Meeting,Special Event
END:VEVENT
BEGIN:VEVENT
DTSTART;TZID=America/Los_Angeles:20181208T100000
DTEND;TZID=America/Los_Angeles:20181208T170000
DTSTAMP:20260421T231137
CREATED:20181107T210129Z
LAST-MODIFIED:20181107T210129Z
UID:18980-1544263200-1544288400@www.suddenvalley.com
SUMMARY:Library Holiday Tea
DESCRIPTION:
URL:https://www.suddenvalley.com/event/library-holiday-tea/
LOCATION:Adult Center Meeting Room\, 10 Barn View Court\, Bellingham\, WA\, 98229\, United States
CATEGORIES:Community,Special Event
END:VEVENT
BEGIN:VEVENT
DTSTART;TZID=America/Los_Angeles:20181208T090000
DTEND;TZID=America/Los_Angeles:20181208T120000
DTSTAMP:20260421T231137
CREATED:20181130T182700Z
LAST-MODIFIED:20181130T182700Z
UID:19339-1544259600-1544270400@www.suddenvalley.com
SUMMARY:Breakfast with Santa
DESCRIPTION:
URL:https://www.suddenvalley.com/event/breakfast-with-santa-2/
LOCATION:El Agave\, 4 Clubhouse Circle\, Bellingham\, WA\, 98229\, United States
CATEGORIES:Community,Special Event
END:VEVENT
BEGIN:VEVENT
DTSTART;TZID=America/Los_Angeles:20181206T160000
DTEND;TZID=America/Los_Angeles:20181206T170000
DTSTAMP:20260421T231137
CREATED:20181128T224022Z
LAST-MODIFIED:20181128T224022Z
UID:19274-1544112000-1544115600@www.suddenvalley.com
SUMMARY:SVCA GM Candidate Meet & Greet
DESCRIPTION:Community Invited to Meet and Greet – Three Final Finalists for SVCA General Manager \nThe top three GM candidates will visit Sudden Valley next week for formal interviews and Members are invited to meet them.  Each candidate will visit separately beginning Tuesday December 4th\, Wednesday December 5th and the last one on Thursday December 6th.   Each of the finalists being interviewed for the position of General Manager will meet with Members on the day they are here for their interview between 4:00 and 5:00 in the Dance Barn.  To meet all three candidates you must attend all three days.   Coffee and Snacks will be served.
URL:https://www.suddenvalley.com/event/svca-gm-candidate-meet-greet-3/
LOCATION:Dance Barn\, 8 Barn View Ct\, Bellingham\, WA\, 98229\, United States
CATEGORIES:Community,Meeting
END:VEVENT
BEGIN:VEVENT
DTSTART;TZID=America/Los_Angeles:20181205T160000
DTEND;TZID=America/Los_Angeles:20181205T170000
DTSTAMP:20260421T231137
CREATED:20181128T223846Z
LAST-MODIFIED:20181128T223846Z
UID:19272-1544025600-1544029200@www.suddenvalley.com
SUMMARY:SVCA GM Candidate Meet & Greet
DESCRIPTION:Community Invited to Meet and Greet – Three Final Finalists for SVCA General Manager \nThe top three GM candidates will visit Sudden Valley next week for formal interviews and Members are invited to meet them.  Each candidate will visit separately beginning Tuesday December 4th\, Wednesday December 5th and the last one on Thursday December 6th.   Each of the finalists being interviewed for the position of General Manager will meet with Members on the day they are here for their interview between 4:00 and 5:00 in the Dance Barn.  To meet all three candidates you must attend all three days.   Coffee and Snacks will be served.
URL:https://www.suddenvalley.com/event/svca-gm-candidate-meet-greet-2/
LOCATION:Dance Barn\, 8 Barn View Court\, Bellingham\, WA\, 98229\, United States
CATEGORIES:Community,Meeting
END:VEVENT
BEGIN:VEVENT
DTSTART;TZID=America/Los_Angeles:20181204T160000
DTEND;TZID=America/Los_Angeles:20181204T170000
DTSTAMP:20260421T231137
CREATED:20181128T223319Z
LAST-MODIFIED:20181128T223404Z
UID:19267-1543939200-1543942800@www.suddenvalley.com
SUMMARY:SVCA GM Candidate Meet & Greet
DESCRIPTION: Community Invited to Meet and Greet – Three Final Finalists for SVCA General Manager \nThe top three GM candidates will visit Sudden Valley next week for formal interviews and Members are invited to meet them.  Each candidate will visit separately beginning Tuesday December 4th\, Wednesday December 5th and the last one on Thursday December 6th.   Each of the finalists being interviewed for the position of General Manager will meet with Members on the day they are here for their interview between 4:00 and 5:00 in the Dance Barn.  To meet all three candidates you must attend all three days.   Coffee and Snacks will be served. 
URL:https://www.suddenvalley.com/event/svca-gm-candidate-meet-greet/
LOCATION:Dance Barn\, 8 Barn View Court\, Bellingham\, WA\, 98229\, United States
CATEGORIES:Community,Meeting
END:VEVENT
BEGIN:VEVENT
DTSTART;TZID=America/Los_Angeles:20181201T140000
DTEND;TZID=America/Los_Angeles:20181201T160000
DTSTAMP:20260421T231137
CREATED:20181205T224408Z
LAST-MODIFIED:20181205T224408Z
UID:19415-1543672800-1543680000@www.suddenvalley.com
SUMMARY:Kids' Craft Fair
DESCRIPTION:
URL:https://www.suddenvalley.com/event/kids-craft-fair-2/
LOCATION:South Whatcom Library\, 10 Barn View Court\, Bellingham\, WA\, 98229\, United States
CATEGORIES:Community,Special Event
END:VEVENT
END:VCALENDAR