BEGIN:VCALENDAR
VERSION:2.0
PRODID:-//Sudden Valley Community Association - ECPv6.15.17//NONSGML v1.0//EN
CALSCALE:GREGORIAN
METHOD:PUBLISH
X-ORIGINAL-URL:https://www.suddenvalley.com
X-WR-CALDESC:Events for Sudden Valley Community Association
REFRESH-INTERVAL;VALUE=DURATION:PT1H
X-Robots-Tag:noindex
X-PUBLISHED-TTL:PT1H
BEGIN:VTIMEZONE
TZID:America/Los_Angeles
BEGIN:DAYLIGHT
TZOFFSETFROM:-0800
TZOFFSETTO:-0700
TZNAME:PDT
DTSTART:20240310T100000
END:DAYLIGHT
BEGIN:STANDARD
TZOFFSETFROM:-0700
TZOFFSETTO:-0800
TZNAME:PST
DTSTART:20241103T090000
END:STANDARD
BEGIN:DAYLIGHT
TZOFFSETFROM:-0800
TZOFFSETTO:-0700
TZNAME:PDT
DTSTART:20250309T100000
END:DAYLIGHT
BEGIN:STANDARD
TZOFFSETFROM:-0700
TZOFFSETTO:-0800
TZNAME:PST
DTSTART:20251102T090000
END:STANDARD
BEGIN:DAYLIGHT
TZOFFSETFROM:-0800
TZOFFSETTO:-0700
TZNAME:PDT
DTSTART:20260308T100000
END:DAYLIGHT
BEGIN:STANDARD
TZOFFSETFROM:-0700
TZOFFSETTO:-0800
TZNAME:PST
DTSTART:20261101T090000
END:STANDARD
END:VTIMEZONE
BEGIN:VEVENT
DTSTART;TZID=America/Los_Angeles:20251025T090000
DTEND;TZID=America/Los_Angeles:20251025T120000
DTSTAMP:20260421T211711
CREATED:20250821T173133Z
LAST-MODIFIED:20250821T183721Z
UID:46966-1761382800-1761393600@www.suddenvalley.com
SUMMARY:Native Plant Demonstration Garden Planting Party
DESCRIPTION:We invite community members of all ages to get involved by attending our Planting Party\, planned for Saturday\, October 25 at 9 am. It’s a great way to connect with neighbors\, get your hands dirty\, and contribute to a project that supports environmental stewardship and education. \nLocation: Sudden Valley Welcome Center – 1850 Lake Whatcom Blvd\, SV fGate 2 \nLet’s grow something beautiful\, sustainable\, and educational—together. \nThe Demonstration Garden is a pilot project being offered through the Whatcom County Neighborhood Native Landscaping Program (whatcomcounty.us/nnlp). The goal is to beautify the Sudden Valley Welcome Center property on Lake Louise\, while also preventing stormwater runoff into the lake. Follow the URL below to sign up to attend.
URL:https://www.suddenvalley.com/event/native-plant-demonstration-garden-planting-party/
LOCATION:SVCA Welcome Center\, 1850 Lake Whatcom Blvd.\, Bellingham\, WA\, 98229\, United States
CATEGORIES:Special Event
END:VEVENT
END:VCALENDAR