BEGIN:VCALENDAR
VERSION:2.0
PRODID:-//Sudden Valley Community Association - ECPv6.15.17//NONSGML v1.0//EN
CALSCALE:GREGORIAN
METHOD:PUBLISH
X-WR-CALNAME:Sudden Valley Community Association
X-ORIGINAL-URL:https://www.suddenvalley.com
X-WR-CALDESC:Events for Sudden Valley Community Association
REFRESH-INTERVAL;VALUE=DURATION:PT1H
X-Robots-Tag:noindex
X-PUBLISHED-TTL:PT1H
BEGIN:VTIMEZONE
TZID:America/Los_Angeles
BEGIN:DAYLIGHT
TZOFFSETFROM:-0800
TZOFFSETTO:-0700
TZNAME:PDT
DTSTART:20200308T100000
END:DAYLIGHT
BEGIN:STANDARD
TZOFFSETFROM:-0700
TZOFFSETTO:-0800
TZNAME:PST
DTSTART:20201101T090000
END:STANDARD
BEGIN:DAYLIGHT
TZOFFSETFROM:-0800
TZOFFSETTO:-0700
TZNAME:PDT
DTSTART:20210314T100000
END:DAYLIGHT
BEGIN:STANDARD
TZOFFSETFROM:-0700
TZOFFSETTO:-0800
TZNAME:PST
DTSTART:20211107T090000
END:STANDARD
BEGIN:DAYLIGHT
TZOFFSETFROM:-0800
TZOFFSETTO:-0700
TZNAME:PDT
DTSTART:20220313T100000
END:DAYLIGHT
BEGIN:STANDARD
TZOFFSETFROM:-0700
TZOFFSETTO:-0800
TZNAME:PST
DTSTART:20221106T090000
END:STANDARD
END:VTIMEZONE
BEGIN:VEVENT
DTSTART;TZID=America/Los_Angeles:20210406T183000
DTEND;TZID=America/Los_Angeles:20210406T193000
DTSTAMP:20260421T163143
CREATED:20210318T230730Z
LAST-MODIFIED:20210318T230730Z
UID:32968-1617733800-1617737400@www.suddenvalley.com
SUMMARY:Trails Subcommittee Meeting
DESCRIPTION:The Trails Subcommittee will hold a meeting at 6:30 PM on Tuesday\, April 6th.  \nView their agenda and meeting invitations here:https://www.suddenvalley.com/parks-trails-subcommittees/ \nA list of all committees and their archives may be found at: https://www.suddenvalley.com/committee-meetings/
URL:https://www.suddenvalley.com/event/trails-subcommittee-meeting/
LOCATION:Remote\, Bellingham\, WA\, 98229\, United States
CATEGORIES:Subcommittee
END:VEVENT
END:VCALENDAR