BEGIN:VCALENDAR
VERSION:2.0
PRODID:-//Sudden Valley Community Association - ECPv6.15.17//NONSGML v1.0//EN
CALSCALE:GREGORIAN
METHOD:PUBLISH
X-ORIGINAL-URL:https://www.suddenvalley.com
X-WR-CALDESC:Events for Sudden Valley Community Association
REFRESH-INTERVAL;VALUE=DURATION:PT1H
X-Robots-Tag:noindex
X-PUBLISHED-TTL:PT1H
BEGIN:VTIMEZONE
TZID:America/Los_Angeles
BEGIN:DAYLIGHT
TZOFFSETFROM:-0800
TZOFFSETTO:-0700
TZNAME:PDT
DTSTART:20210314T100000
END:DAYLIGHT
BEGIN:STANDARD
TZOFFSETFROM:-0700
TZOFFSETTO:-0800
TZNAME:PST
DTSTART:20211107T090000
END:STANDARD
BEGIN:DAYLIGHT
TZOFFSETFROM:-0800
TZOFFSETTO:-0700
TZNAME:PDT
DTSTART:20220313T100000
END:DAYLIGHT
BEGIN:STANDARD
TZOFFSETFROM:-0700
TZOFFSETTO:-0800
TZNAME:PST
DTSTART:20221106T090000
END:STANDARD
BEGIN:DAYLIGHT
TZOFFSETFROM:-0800
TZOFFSETTO:-0700
TZNAME:PDT
DTSTART:20230312T100000
END:DAYLIGHT
BEGIN:STANDARD
TZOFFSETFROM:-0700
TZOFFSETTO:-0800
TZNAME:PST
DTSTART:20231105T090000
END:STANDARD
BEGIN:DAYLIGHT
TZOFFSETFROM:-0800
TZOFFSETTO:-0700
TZNAME:PDT
DTSTART:20240310T100000
END:DAYLIGHT
BEGIN:STANDARD
TZOFFSETFROM:-0700
TZOFFSETTO:-0800
TZNAME:PST
DTSTART:20241103T090000
END:STANDARD
END:VTIMEZONE
BEGIN:VEVENT
DTSTART;TZID=America/Los_Angeles:20230124T180000
DTEND;TZID=America/Los_Angeles:20230124T190000
DTSTAMP:20260421T115824
CREATED:20171023T145205Z
LAST-MODIFIED:20171023T145205Z
UID:37242-1674583200-1674586800@www.suddenvalley.com
SUMMARY:AA Meeting
DESCRIPTION:6-7pm at the South Lake Whatcom Library meeting room.
URL:https://www.suddenvalley.com/event/aa-2023-01-24/
LOCATION:South Whatcom Library\, 10 Barn View Court\, Bellingham\, WA\, 98229\, United States
CATEGORIES:Support
END:VEVENT
BEGIN:VEVENT
DTSTART;TZID=America/Los_Angeles:20230121T090000
DTEND;TZID=America/Los_Angeles:20230121T100000
DTSTAMP:20260421T115824
CREATED:20220217T165939Z
LAST-MODIFIED:20220217T165939Z
UID:37293-1674291600-1674295200@www.suddenvalley.com
SUMMARY:AA Meeting
DESCRIPTION:9-10am at the South Lake Whatcom Library meeting room.
URL:https://www.suddenvalley.com/event/aa-meeting-2-2023-01-21/
LOCATION:South Whatcom Library\, 10 Barn View Court\, Bellingham\, WA\, 98229\, United States
CATEGORIES:Support
END:VEVENT
BEGIN:VEVENT
DTSTART;TZID=America/Los_Angeles:20230117T180000
DTEND;TZID=America/Los_Angeles:20230117T190000
DTSTAMP:20260421T115824
CREATED:20171023T145205Z
LAST-MODIFIED:20171023T145205Z
UID:37241-1673978400-1673982000@www.suddenvalley.com
SUMMARY:AA Meeting
DESCRIPTION:6-7pm at the South Lake Whatcom Library meeting room.
URL:https://www.suddenvalley.com/event/aa-2023-01-17/
LOCATION:South Whatcom Library\, 10 Barn View Court\, Bellingham\, WA\, 98229\, United States
CATEGORIES:Support
END:VEVENT
BEGIN:VEVENT
DTSTART;TZID=America/Los_Angeles:20230114T090000
DTEND;TZID=America/Los_Angeles:20230114T100000
DTSTAMP:20260421T115824
CREATED:20220217T165939Z
LAST-MODIFIED:20220217T165939Z
UID:37292-1673686800-1673690400@www.suddenvalley.com
SUMMARY:AA Meeting
DESCRIPTION:9-10am at the South Lake Whatcom Library meeting room.
URL:https://www.suddenvalley.com/event/aa-meeting-2-2023-01-14/
LOCATION:South Whatcom Library\, 10 Barn View Court\, Bellingham\, WA\, 98229\, United States
CATEGORIES:Support
END:VEVENT
BEGIN:VEVENT
DTSTART;TZID=America/Los_Angeles:20230110T180000
DTEND;TZID=America/Los_Angeles:20230110T190000
DTSTAMP:20260421T115824
CREATED:20171023T145205Z
LAST-MODIFIED:20171023T145205Z
UID:37240-1673373600-1673377200@www.suddenvalley.com
SUMMARY:AA Meeting
DESCRIPTION:6-7pm at the South Lake Whatcom Library meeting room.
URL:https://www.suddenvalley.com/event/aa-2023-01-10/
LOCATION:South Whatcom Library\, 10 Barn View Court\, Bellingham\, WA\, 98229\, United States
CATEGORIES:Support
END:VEVENT
BEGIN:VEVENT
DTSTART;TZID=America/Los_Angeles:20230107T090000
DTEND;TZID=America/Los_Angeles:20230107T100000
DTSTAMP:20260421T115824
CREATED:20220217T165939Z
LAST-MODIFIED:20220217T165939Z
UID:37291-1673082000-1673085600@www.suddenvalley.com
SUMMARY:AA Meeting
DESCRIPTION:9-10am at the South Lake Whatcom Library meeting room.
URL:https://www.suddenvalley.com/event/aa-meeting-2-2023-01-07/
LOCATION:South Whatcom Library\, 10 Barn View Court\, Bellingham\, WA\, 98229\, United States
CATEGORIES:Support
END:VEVENT
BEGIN:VEVENT
DTSTART;TZID=America/Los_Angeles:20230103T180000
DTEND;TZID=America/Los_Angeles:20230103T190000
DTSTAMP:20260421T115824
CREATED:20171023T145205Z
LAST-MODIFIED:20171023T145205Z
UID:37239-1672768800-1672772400@www.suddenvalley.com
SUMMARY:AA Meeting
DESCRIPTION:6-7pm at the South Lake Whatcom Library meeting room.
URL:https://www.suddenvalley.com/event/aa-2023-01-03/
LOCATION:South Whatcom Library\, 10 Barn View Court\, Bellingham\, WA\, 98229\, United States
CATEGORIES:Support
END:VEVENT
BEGIN:VEVENT
DTSTART;TZID=America/Los_Angeles:20221231T090000
DTEND;TZID=America/Los_Angeles:20221231T100000
DTSTAMP:20260421T115824
CREATED:20220217T165939Z
LAST-MODIFIED:20220217T165939Z
UID:37290-1672477200-1672480800@www.suddenvalley.com
SUMMARY:AA Meeting
DESCRIPTION:9-10am at the South Lake Whatcom Library meeting room.
URL:https://www.suddenvalley.com/event/aa-meeting-2-2022-12-31/
LOCATION:South Whatcom Library\, 10 Barn View Court\, Bellingham\, WA\, 98229\, United States
CATEGORIES:Support
END:VEVENT
BEGIN:VEVENT
DTSTART;TZID=America/Los_Angeles:20221227T180000
DTEND;TZID=America/Los_Angeles:20221227T190000
DTSTAMP:20260421T115824
CREATED:20171023T145205Z
LAST-MODIFIED:20171023T145205Z
UID:37238-1672164000-1672167600@www.suddenvalley.com
SUMMARY:AA Meeting
DESCRIPTION:6-7pm at the South Lake Whatcom Library meeting room.
URL:https://www.suddenvalley.com/event/aa-2022-12-27/
LOCATION:South Whatcom Library\, 10 Barn View Court\, Bellingham\, WA\, 98229\, United States
CATEGORIES:Support
END:VEVENT
BEGIN:VEVENT
DTSTART;TZID=America/Los_Angeles:20221224T090000
DTEND;TZID=America/Los_Angeles:20221224T100000
DTSTAMP:20260421T115824
CREATED:20220217T165939Z
LAST-MODIFIED:20220217T165939Z
UID:37289-1671872400-1671876000@www.suddenvalley.com
SUMMARY:AA Meeting
DESCRIPTION:9-10am at the South Lake Whatcom Library meeting room.
URL:https://www.suddenvalley.com/event/aa-meeting-2-2022-12-24/
LOCATION:South Whatcom Library\, 10 Barn View Court\, Bellingham\, WA\, 98229\, United States
CATEGORIES:Support
END:VEVENT
BEGIN:VEVENT
DTSTART;TZID=America/Los_Angeles:20221220T180000
DTEND;TZID=America/Los_Angeles:20221220T190000
DTSTAMP:20260421T115824
CREATED:20171023T145205Z
LAST-MODIFIED:20171023T145205Z
UID:37237-1671559200-1671562800@www.suddenvalley.com
SUMMARY:AA Meeting
DESCRIPTION:6-7pm at the South Lake Whatcom Library meeting room.
URL:https://www.suddenvalley.com/event/aa-2022-12-20/
LOCATION:South Whatcom Library\, 10 Barn View Court\, Bellingham\, WA\, 98229\, United States
CATEGORIES:Support
END:VEVENT
BEGIN:VEVENT
DTSTART;TZID=America/Los_Angeles:20221217T090000
DTEND;TZID=America/Los_Angeles:20221217T100000
DTSTAMP:20260421T115824
CREATED:20220217T165939Z
LAST-MODIFIED:20220217T165939Z
UID:37288-1671267600-1671271200@www.suddenvalley.com
SUMMARY:AA Meeting
DESCRIPTION:9-10am at the South Lake Whatcom Library meeting room.
URL:https://www.suddenvalley.com/event/aa-meeting-2-2022-12-17/
LOCATION:South Whatcom Library\, 10 Barn View Court\, Bellingham\, WA\, 98229\, United States
CATEGORIES:Support
END:VEVENT
BEGIN:VEVENT
DTSTART;TZID=America/Los_Angeles:20221213T180000
DTEND;TZID=America/Los_Angeles:20221213T190000
DTSTAMP:20260421T115824
CREATED:20171023T145205Z
LAST-MODIFIED:20171023T145205Z
UID:37236-1670954400-1670958000@www.suddenvalley.com
SUMMARY:AA Meeting
DESCRIPTION:6-7pm at the South Lake Whatcom Library meeting room.
URL:https://www.suddenvalley.com/event/aa-2022-12-13/
LOCATION:South Whatcom Library\, 10 Barn View Court\, Bellingham\, WA\, 98229\, United States
CATEGORIES:Support
END:VEVENT
BEGIN:VEVENT
DTSTART;TZID=America/Los_Angeles:20221210T090000
DTEND;TZID=America/Los_Angeles:20221210T100000
DTSTAMP:20260421T115824
CREATED:20220217T165939Z
LAST-MODIFIED:20220217T165939Z
UID:37287-1670662800-1670666400@www.suddenvalley.com
SUMMARY:AA Meeting
DESCRIPTION:9-10am at the South Lake Whatcom Library meeting room.
URL:https://www.suddenvalley.com/event/aa-meeting-2-2022-12-10/
LOCATION:South Whatcom Library\, 10 Barn View Court\, Bellingham\, WA\, 98229\, United States
CATEGORIES:Support
END:VEVENT
BEGIN:VEVENT
DTSTART;TZID=America/Los_Angeles:20221206T180000
DTEND;TZID=America/Los_Angeles:20221206T190000
DTSTAMP:20260421T115824
CREATED:20171023T145205Z
LAST-MODIFIED:20171023T145205Z
UID:37235-1670349600-1670353200@www.suddenvalley.com
SUMMARY:AA Meeting
DESCRIPTION:6-7pm at the South Lake Whatcom Library meeting room.
URL:https://www.suddenvalley.com/event/aa-2022-12-06/
LOCATION:South Whatcom Library\, 10 Barn View Court\, Bellingham\, WA\, 98229\, United States
CATEGORIES:Support
END:VEVENT
BEGIN:VEVENT
DTSTART;TZID=America/Los_Angeles:20221203T090000
DTEND;TZID=America/Los_Angeles:20221203T100000
DTSTAMP:20260421T115824
CREATED:20220217T165939Z
LAST-MODIFIED:20220217T165939Z
UID:37286-1670058000-1670061600@www.suddenvalley.com
SUMMARY:AA Meeting
DESCRIPTION:9-10am at the South Lake Whatcom Library meeting room.
URL:https://www.suddenvalley.com/event/aa-meeting-2-2022-12-03/
LOCATION:South Whatcom Library\, 10 Barn View Court\, Bellingham\, WA\, 98229\, United States
CATEGORIES:Support
END:VEVENT
BEGIN:VEVENT
DTSTART;TZID=America/Los_Angeles:20221129T180000
DTEND;TZID=America/Los_Angeles:20221129T190000
DTSTAMP:20260421T115824
CREATED:20171023T145205Z
LAST-MODIFIED:20171023T145205Z
UID:37234-1669744800-1669748400@www.suddenvalley.com
SUMMARY:AA Meeting
DESCRIPTION:6-7pm at the South Lake Whatcom Library meeting room.
URL:https://www.suddenvalley.com/event/aa-2022-11-29/
LOCATION:South Whatcom Library\, 10 Barn View Court\, Bellingham\, WA\, 98229\, United States
CATEGORIES:Support
END:VEVENT
BEGIN:VEVENT
DTSTART;TZID=America/Los_Angeles:20221126T090000
DTEND;TZID=America/Los_Angeles:20221126T100000
DTSTAMP:20260421T115824
CREATED:20220217T165939Z
LAST-MODIFIED:20220217T165939Z
UID:37285-1669453200-1669456800@www.suddenvalley.com
SUMMARY:AA Meeting
DESCRIPTION:9-10am at the South Lake Whatcom Library meeting room.
URL:https://www.suddenvalley.com/event/aa-meeting-2-2022-11-26/
LOCATION:South Whatcom Library\, 10 Barn View Court\, Bellingham\, WA\, 98229\, United States
CATEGORIES:Support
END:VEVENT
BEGIN:VEVENT
DTSTART;TZID=America/Los_Angeles:20221122T180000
DTEND;TZID=America/Los_Angeles:20221122T190000
DTSTAMP:20260421T115824
CREATED:20171023T145205Z
LAST-MODIFIED:20171023T145205Z
UID:37233-1669140000-1669143600@www.suddenvalley.com
SUMMARY:AA Meeting
DESCRIPTION:6-7pm at the South Lake Whatcom Library meeting room.
URL:https://www.suddenvalley.com/event/aa-2022-11-22/
LOCATION:South Whatcom Library\, 10 Barn View Court\, Bellingham\, WA\, 98229\, United States
CATEGORIES:Support
END:VEVENT
BEGIN:VEVENT
DTSTART;TZID=America/Los_Angeles:20221119T090000
DTEND;TZID=America/Los_Angeles:20221119T100000
DTSTAMP:20260421T115824
CREATED:20220217T165939Z
LAST-MODIFIED:20220217T165939Z
UID:37284-1668848400-1668852000@www.suddenvalley.com
SUMMARY:AA Meeting
DESCRIPTION:9-10am at the South Lake Whatcom Library meeting room.
URL:https://www.suddenvalley.com/event/aa-meeting-2-2022-11-19/
LOCATION:South Whatcom Library\, 10 Barn View Court\, Bellingham\, WA\, 98229\, United States
CATEGORIES:Support
END:VEVENT
BEGIN:VEVENT
DTSTART;TZID=America/Los_Angeles:20221115T180000
DTEND;TZID=America/Los_Angeles:20221115T190000
DTSTAMP:20260421T115824
CREATED:20171023T145205Z
LAST-MODIFIED:20171023T145205Z
UID:37232-1668535200-1668538800@www.suddenvalley.com
SUMMARY:AA Meeting
DESCRIPTION:6-7pm at the South Lake Whatcom Library meeting room.
URL:https://www.suddenvalley.com/event/aa-2022-11-15/
LOCATION:South Whatcom Library\, 10 Barn View Court\, Bellingham\, WA\, 98229\, United States
CATEGORIES:Support
END:VEVENT
BEGIN:VEVENT
DTSTART;TZID=America/Los_Angeles:20221112T090000
DTEND;TZID=America/Los_Angeles:20221112T100000
DTSTAMP:20260421T115824
CREATED:20220217T165939Z
LAST-MODIFIED:20220217T165939Z
UID:37283-1668243600-1668247200@www.suddenvalley.com
SUMMARY:AA Meeting
DESCRIPTION:9-10am at the South Lake Whatcom Library meeting room.
URL:https://www.suddenvalley.com/event/aa-meeting-2-2022-11-12/
LOCATION:South Whatcom Library\, 10 Barn View Court\, Bellingham\, WA\, 98229\, United States
CATEGORIES:Support
END:VEVENT
BEGIN:VEVENT
DTSTART;TZID=America/Los_Angeles:20221108T180000
DTEND;TZID=America/Los_Angeles:20221108T190000
DTSTAMP:20260421T115824
CREATED:20171023T145205Z
LAST-MODIFIED:20171023T145205Z
UID:37231-1667930400-1667934000@www.suddenvalley.com
SUMMARY:AA Meeting
DESCRIPTION:6-7pm at the South Lake Whatcom Library meeting room.
URL:https://www.suddenvalley.com/event/aa-2022-11-08/
LOCATION:South Whatcom Library\, 10 Barn View Court\, Bellingham\, WA\, 98229\, United States
CATEGORIES:Support
END:VEVENT
BEGIN:VEVENT
DTSTART;TZID=America/Los_Angeles:20221105T090000
DTEND;TZID=America/Los_Angeles:20221105T100000
DTSTAMP:20260421T115824
CREATED:20220217T165939Z
LAST-MODIFIED:20220217T165939Z
UID:37282-1667638800-1667642400@www.suddenvalley.com
SUMMARY:AA Meeting
DESCRIPTION:9-10am at the South Lake Whatcom Library meeting room.
URL:https://www.suddenvalley.com/event/aa-meeting-2-2022-11-05/
LOCATION:South Whatcom Library\, 10 Barn View Court\, Bellingham\, WA\, 98229\, United States
CATEGORIES:Support
END:VEVENT
BEGIN:VEVENT
DTSTART;TZID=America/Los_Angeles:20221101T190000
DTEND;TZID=America/Los_Angeles:20221101T200000
DTSTAMP:20260421T115824
CREATED:20171023T145205Z
LAST-MODIFIED:20171023T145205Z
UID:37230-1667329200-1667332800@www.suddenvalley.com
SUMMARY:AA Meeting
DESCRIPTION:6-7pm at the South Lake Whatcom Library meeting room.
URL:https://www.suddenvalley.com/event/aa-2022-11-01/
LOCATION:South Whatcom Library\, 10 Barn View Court\, Bellingham\, WA\, 98229\, United States
CATEGORIES:Support
END:VEVENT
BEGIN:VEVENT
DTSTART;TZID=America/Los_Angeles:20221029T090000
DTEND;TZID=America/Los_Angeles:20221029T100000
DTSTAMP:20260421T115824
CREATED:20220217T165939Z
LAST-MODIFIED:20220217T165939Z
UID:37281-1667034000-1667037600@www.suddenvalley.com
SUMMARY:AA Meeting
DESCRIPTION:9-10am at the South Lake Whatcom Library meeting room.
URL:https://www.suddenvalley.com/event/aa-meeting-2-2022-10-29/
LOCATION:South Whatcom Library\, 10 Barn View Court\, Bellingham\, WA\, 98229\, United States
CATEGORIES:Support
END:VEVENT
BEGIN:VEVENT
DTSTART;TZID=America/Los_Angeles:20221025T190000
DTEND;TZID=America/Los_Angeles:20221025T200000
DTSTAMP:20260421T115824
CREATED:20171023T145205Z
LAST-MODIFIED:20171023T145205Z
UID:37229-1666724400-1666728000@www.suddenvalley.com
SUMMARY:AA Meeting
DESCRIPTION:6-7pm at the South Lake Whatcom Library meeting room.
URL:https://www.suddenvalley.com/event/aa-2022-10-25/
LOCATION:South Whatcom Library\, 10 Barn View Court\, Bellingham\, WA\, 98229\, United States
CATEGORIES:Support
END:VEVENT
BEGIN:VEVENT
DTSTART;TZID=America/Los_Angeles:20221022T090000
DTEND;TZID=America/Los_Angeles:20221022T100000
DTSTAMP:20260421T115824
CREATED:20220217T165939Z
LAST-MODIFIED:20220217T165939Z
UID:37280-1666429200-1666432800@www.suddenvalley.com
SUMMARY:AA Meeting
DESCRIPTION:9-10am at the South Lake Whatcom Library meeting room.
URL:https://www.suddenvalley.com/event/aa-meeting-2-2022-10-22/
LOCATION:South Whatcom Library\, 10 Barn View Court\, Bellingham\, WA\, 98229\, United States
CATEGORIES:Support
END:VEVENT
BEGIN:VEVENT
DTSTART;TZID=America/Los_Angeles:20221018T190000
DTEND;TZID=America/Los_Angeles:20221018T200000
DTSTAMP:20260421T115824
CREATED:20171023T145205Z
LAST-MODIFIED:20171023T145205Z
UID:37228-1666119600-1666123200@www.suddenvalley.com
SUMMARY:AA Meeting
DESCRIPTION:6-7pm at the South Lake Whatcom Library meeting room.
URL:https://www.suddenvalley.com/event/aa-2022-10-18/
LOCATION:South Whatcom Library\, 10 Barn View Court\, Bellingham\, WA\, 98229\, United States
CATEGORIES:Support
END:VEVENT
BEGIN:VEVENT
DTSTART;TZID=America/Los_Angeles:20221015T090000
DTEND;TZID=America/Los_Angeles:20221015T100000
DTSTAMP:20260421T115824
CREATED:20220217T165939Z
LAST-MODIFIED:20220217T165939Z
UID:37279-1665824400-1665828000@www.suddenvalley.com
SUMMARY:AA Meeting
DESCRIPTION:9-10am at the South Lake Whatcom Library meeting room.
URL:https://www.suddenvalley.com/event/aa-meeting-2-2022-10-15/
LOCATION:South Whatcom Library\, 10 Barn View Court\, Bellingham\, WA\, 98229\, United States
CATEGORIES:Support
END:VEVENT
END:VCALENDAR