BEGIN:VCALENDAR
VERSION:2.0
PRODID:-//Sudden Valley Community Association - ECPv6.15.20//NONSGML v1.0//EN
CALSCALE:GREGORIAN
METHOD:PUBLISH
X-WR-CALNAME:Sudden Valley Community Association
X-ORIGINAL-URL:https://www.suddenvalley.com
X-WR-CALDESC:Events for Sudden Valley Community Association
REFRESH-INTERVAL;VALUE=DURATION:PT1H
X-Robots-Tag:noindex
X-PUBLISHED-TTL:PT1H
BEGIN:VTIMEZONE
TZID:America/Los_Angeles
BEGIN:DAYLIGHT
TZOFFSETFROM:-0800
TZOFFSETTO:-0700
TZNAME:PDT
DTSTART:20250309T100000
END:DAYLIGHT
BEGIN:STANDARD
TZOFFSETFROM:-0700
TZOFFSETTO:-0800
TZNAME:PST
DTSTART:20251102T090000
END:STANDARD
BEGIN:DAYLIGHT
TZOFFSETFROM:-0800
TZOFFSETTO:-0700
TZNAME:PDT
DTSTART:20260308T100000
END:DAYLIGHT
BEGIN:STANDARD
TZOFFSETFROM:-0700
TZOFFSETTO:-0800
TZNAME:PST
DTSTART:20261101T090000
END:STANDARD
BEGIN:DAYLIGHT
TZOFFSETFROM:-0800
TZOFFSETTO:-0700
TZNAME:PDT
DTSTART:20270314T100000
END:DAYLIGHT
BEGIN:STANDARD
TZOFFSETFROM:-0700
TZOFFSETTO:-0800
TZNAME:PST
DTSTART:20271107T090000
END:STANDARD
END:VTIMEZONE
BEGIN:VEVENT
DTSTART;TZID=America/Los_Angeles:20260615T183000
DTEND;TZID=America/Los_Angeles:20260615T193000
DTSTAMP:20260422T110426
CREATED:20181030T194701Z
LAST-MODIFIED:20181030T194701Z
UID:51668-1781548200-1781551800@www.suddenvalley.com
SUMMARY:Yoga
DESCRIPTION:Instructor: Lea Woodliff: 360-510-0621 or leavanin@hotmail.com
URL:https://www.suddenvalley.com/event/yoga-2/2026-06-15/
LOCATION:Multi-Purpose Room A\, 8 Barnview Court\, Bellingham\, WA\, 98229\, United States
CATEGORIES:Class,Community
GEO:48.7151523;-122.3229482
X-APPLE-STRUCTURED-LOCATION;VALUE=URI;X-ADDRESS=Multi-Purpose Room A 8 Barnview Court Bellingham WA 98229 United States;X-APPLE-RADIUS=500;X-TITLE=8 Barnview Court:geo:-122.3229482,48.7151523
END:VEVENT
BEGIN:VEVENT
DTSTART;TZID=America/Los_Angeles:20260615T200000
DTEND;TZID=America/Los_Angeles:20260615T213000
DTSTAMP:20260422T110426
CREATED:20180117T183940Z
LAST-MODIFIED:20180117T183940Z
UID:53747-1781553600-1781559000@www.suddenvalley.com
SUMMARY:N&E Committee Meeting
DESCRIPTION:
URL:https://www.suddenvalley.com/event/ne-committee-meeting-2-2018-11-19/2026-06-15/
LOCATION:Coffee Shop
END:VEVENT
BEGIN:VEVENT
DTSTART;TZID=America/Los_Angeles:20260616T190000
DTEND;TZID=America/Los_Angeles:20260616T200000
DTSTAMP:20260422T110426
CREATED:20171023T145205Z
LAST-MODIFIED:20171023T145205Z
UID:52884-1781636400-1781640000@www.suddenvalley.com
SUMMARY:AA Meeting
DESCRIPTION:6-7pm at the South Lake Whatcom Library meeting room.
URL:https://www.suddenvalley.com/event/aa/2026-06-16/
LOCATION:South Whatcom Library\, 10 Barn View Court\, Bellingham\, WA\, 98229\, United States
CATEGORIES:Support
GEO:48.714329;-122.3238949
X-APPLE-STRUCTURED-LOCATION;VALUE=URI;X-ADDRESS=South Whatcom Library 10 Barn View Court Bellingham WA 98229 United States;X-APPLE-RADIUS=500;X-TITLE=10 Barn View Court:geo:-122.3238949,48.714329
END:VEVENT
BEGIN:VEVENT
DTSTART;TZID=America/Los_Angeles:20260618T190000
DTEND;TZID=America/Los_Angeles:20260618T210000
DTSTAMP:20260422T110426
CREATED:20171227T190121Z
LAST-MODIFIED:20171227T190121Z
UID:50450-1781809200-1781816400@www.suddenvalley.com
SUMMARY:Architectural Control  Committee Meeting
DESCRIPTION:
URL:https://www.suddenvalley.com/event/architectural-control-committee-meeting-2/2026-06-18/
LOCATION:Multi-Purpose Room\, 8 Barn View Drive\, Bellingham\, WA\, 98229\, United States
GEO:48.7152265;-122.3220099
X-APPLE-STRUCTURED-LOCATION;VALUE=URI;X-ADDRESS=Multi-Purpose Room 8 Barn View Drive Bellingham WA 98229 United States;X-APPLE-RADIUS=500;X-TITLE=8 Barn View Drive:geo:-122.3220099,48.7152265
END:VEVENT
BEGIN:VEVENT
DTSTART;TZID=America/Los_Angeles:20260619T093000
DTEND;TZID=America/Los_Angeles:20260619T110000
DTSTAMP:20260422T110426
CREATED:20171023T030635Z
LAST-MODIFIED:20171023T030635Z
UID:54562-1781861400-1781866800@www.suddenvalley.com
SUMMARY:Al Anon
DESCRIPTION:
URL:https://www.suddenvalley.com/event/al-anon/2026-06-19/
LOCATION:Adult Center Meeting Room\, 10 Barn View Court\, Bellingham\, WA\, 98229\, United States
CATEGORIES:Meeting,Support
GEO:48.714329;-122.3238949
X-APPLE-STRUCTURED-LOCATION;VALUE=URI;X-ADDRESS=Adult Center Meeting Room 10 Barn View Court Bellingham WA 98229 United States;X-APPLE-RADIUS=500;X-TITLE=10 Barn View Court:geo:-122.3238949,48.714329
END:VEVENT
BEGIN:VEVENT
DTSTART;TZID=America/Los_Angeles:20260619T100000
DTEND;TZID=America/Los_Angeles:20260619T110000
DTSTAMP:20260422T110426
CREATED:20181026T183722Z
LAST-MODIFIED:20181026T183722Z
UID:52693-1781863200-1781866800@www.suddenvalley.com
SUMMARY:ALANON
DESCRIPTION:
URL:https://www.suddenvalley.com/event/alanon/2026-06-19/
LOCATION:Adult Center Meeting Room\, 10 Barn View Court\, Bellingham\, WA\, 98229\, United States
CATEGORIES:Community,Meeting,Support
GEO:48.714329;-122.3238949
X-APPLE-STRUCTURED-LOCATION;VALUE=URI;X-ADDRESS=Adult Center Meeting Room 10 Barn View Court Bellingham WA 98229 United States;X-APPLE-RADIUS=500;X-TITLE=10 Barn View Court:geo:-122.3238949,48.714329
END:VEVENT
BEGIN:VEVENT
DTSTART;TZID=America/Los_Angeles:20260621T110000
DTEND;TZID=America/Los_Angeles:20260622T003000
DTSTAMP:20260422T110426
CREATED:20171023T022851Z
LAST-MODIFIED:20171023T022851Z
UID:50911-1782039600-1782088200@www.suddenvalley.com
SUMMARY:Church Service
DESCRIPTION:
URL:https://www.suddenvalley.com/event/church-service/2026-06-21/
LOCATION:Dance Barn\, 8 Barn View Ct\, Bellingham\, WA\, 98229\, United States
ORGANIZER;CN="Christ the King Community Church":MAILTO:suddenvalley@ctk.church
GEO:48.7152265;-122.3220099
X-APPLE-STRUCTURED-LOCATION;VALUE=URI;X-ADDRESS=Dance Barn 8 Barn View Ct Bellingham WA 98229 United States;X-APPLE-RADIUS=500;X-TITLE=8 Barn View Ct:geo:-122.3220099,48.7152265
END:VEVENT
BEGIN:VEVENT
DTSTART;TZID=America/Los_Angeles:20260622T183000
DTEND;TZID=America/Los_Angeles:20260622T193000
DTSTAMP:20260422T110426
CREATED:20181030T194701Z
LAST-MODIFIED:20181030T194701Z
UID:51669-1782153000-1782156600@www.suddenvalley.com
SUMMARY:Yoga
DESCRIPTION:Instructor: Lea Woodliff: 360-510-0621 or leavanin@hotmail.com
URL:https://www.suddenvalley.com/event/yoga-2/2026-06-22/
LOCATION:Multi-Purpose Room A\, 8 Barnview Court\, Bellingham\, WA\, 98229\, United States
CATEGORIES:Class,Community
GEO:48.7151523;-122.3229482
X-APPLE-STRUCTURED-LOCATION;VALUE=URI;X-ADDRESS=Multi-Purpose Room A 8 Barnview Court Bellingham WA 98229 United States;X-APPLE-RADIUS=500;X-TITLE=8 Barnview Court:geo:-122.3229482,48.7151523
END:VEVENT
BEGIN:VEVENT
DTSTART;TZID=America/Los_Angeles:20260623T190000
DTEND;TZID=America/Los_Angeles:20260623T200000
DTSTAMP:20260422T110426
CREATED:20171023T145205Z
LAST-MODIFIED:20171023T145205Z
UID:52885-1782241200-1782244800@www.suddenvalley.com
SUMMARY:AA Meeting
DESCRIPTION:6-7pm at the South Lake Whatcom Library meeting room.
URL:https://www.suddenvalley.com/event/aa/2026-06-23/
LOCATION:South Whatcom Library\, 10 Barn View Court\, Bellingham\, WA\, 98229\, United States
CATEGORIES:Support
GEO:48.714329;-122.3238949
X-APPLE-STRUCTURED-LOCATION;VALUE=URI;X-ADDRESS=South Whatcom Library 10 Barn View Court Bellingham WA 98229 United States;X-APPLE-RADIUS=500;X-TITLE=10 Barn View Court:geo:-122.3238949,48.714329
END:VEVENT
BEGIN:VEVENT
DTSTART;TZID=America/Los_Angeles:20260626T093000
DTEND;TZID=America/Los_Angeles:20260626T110000
DTSTAMP:20260422T110426
CREATED:20171023T030635Z
LAST-MODIFIED:20171023T030635Z
UID:54563-1782466200-1782471600@www.suddenvalley.com
SUMMARY:Al Anon
DESCRIPTION:
URL:https://www.suddenvalley.com/event/al-anon/2026-06-26/
LOCATION:Adult Center Meeting Room\, 10 Barn View Court\, Bellingham\, WA\, 98229\, United States
CATEGORIES:Meeting,Support
GEO:48.714329;-122.3238949
X-APPLE-STRUCTURED-LOCATION;VALUE=URI;X-ADDRESS=Adult Center Meeting Room 10 Barn View Court Bellingham WA 98229 United States;X-APPLE-RADIUS=500;X-TITLE=10 Barn View Court:geo:-122.3238949,48.714329
END:VEVENT
BEGIN:VEVENT
DTSTART;TZID=America/Los_Angeles:20260626T100000
DTEND;TZID=America/Los_Angeles:20260626T110000
DTSTAMP:20260422T110426
CREATED:20181026T183722Z
LAST-MODIFIED:20181026T183722Z
UID:52694-1782468000-1782471600@www.suddenvalley.com
SUMMARY:ALANON
DESCRIPTION:
URL:https://www.suddenvalley.com/event/alanon/2026-06-26/
LOCATION:Adult Center Meeting Room\, 10 Barn View Court\, Bellingham\, WA\, 98229\, United States
CATEGORIES:Community,Meeting,Support
GEO:48.714329;-122.3238949
X-APPLE-STRUCTURED-LOCATION;VALUE=URI;X-ADDRESS=Adult Center Meeting Room 10 Barn View Court Bellingham WA 98229 United States;X-APPLE-RADIUS=500;X-TITLE=10 Barn View Court:geo:-122.3238949,48.714329
END:VEVENT
BEGIN:VEVENT
DTSTART;TZID=America/Los_Angeles:20260626T200000
DTEND;TZID=America/Los_Angeles:20260626T220000
DTSTAMP:20260422T110426
CREATED:20171207T004637Z
LAST-MODIFIED:20171207T004637Z
UID:52293-1782504000-1782511200@www.suddenvalley.com
SUMMARY:Sudden Valley Yarn Crafters
DESCRIPTION:We are a group of both novice and advanced knitters and crocheters. We meet every other Friday (excluding the summer months) in the Community Center. We’re very casual and welcome newcomers of any skill level. If you are interested in hanging out\, chatting\, and working on your project\, please join us! We also have a Facebook group where we sometimes share projects or ideas: https://www.facebook.com/groups/138228059981013
URL:https://www.suddenvalley.com/event/sudden-valley-yarn-crafters/2026-06-26/
LOCATION:Community Center\, 8 Barn View Court\, Bellingham\, WA\, 98229\, United States
CATEGORIES:Club
ATTACH;FMTTYPE=image/jpeg:https://www.suddenvalley.com/wp-content/uploads/yarn.jpg
GEO:48.7152265;-122.3220099
X-APPLE-STRUCTURED-LOCATION;VALUE=URI;X-ADDRESS=Community Center 8 Barn View Court Bellingham WA 98229 United States;X-APPLE-RADIUS=500;X-TITLE=8 Barn View Court:geo:-122.3220099,48.7152265
END:VEVENT
BEGIN:VEVENT
DTSTART;TZID=America/Los_Angeles:20260628T110000
DTEND;TZID=America/Los_Angeles:20260629T003000
DTSTAMP:20260422T110426
CREATED:20171023T022851Z
LAST-MODIFIED:20171023T022851Z
UID:50912-1782644400-1782693000@www.suddenvalley.com
SUMMARY:Church Service
DESCRIPTION:
URL:https://www.suddenvalley.com/event/church-service/2026-06-28/
LOCATION:Dance Barn\, 8 Barn View Ct\, Bellingham\, WA\, 98229\, United States
ORGANIZER;CN="Christ the King Community Church":MAILTO:suddenvalley@ctk.church
GEO:48.7152265;-122.3220099
X-APPLE-STRUCTURED-LOCATION;VALUE=URI;X-ADDRESS=Dance Barn 8 Barn View Ct Bellingham WA 98229 United States;X-APPLE-RADIUS=500;X-TITLE=8 Barn View Ct:geo:-122.3220099,48.7152265
END:VEVENT
BEGIN:VEVENT
DTSTART;TZID=America/Los_Angeles:20260629T183000
DTEND;TZID=America/Los_Angeles:20260629T193000
DTSTAMP:20260422T110426
CREATED:20181030T194701Z
LAST-MODIFIED:20181030T194701Z
UID:51670-1782757800-1782761400@www.suddenvalley.com
SUMMARY:Yoga
DESCRIPTION:Instructor: Lea Woodliff: 360-510-0621 or leavanin@hotmail.com
URL:https://www.suddenvalley.com/event/yoga-2/2026-06-29/
LOCATION:Multi-Purpose Room A\, 8 Barnview Court\, Bellingham\, WA\, 98229\, United States
CATEGORIES:Class,Community
GEO:48.7151523;-122.3229482
X-APPLE-STRUCTURED-LOCATION;VALUE=URI;X-ADDRESS=Multi-Purpose Room A 8 Barnview Court Bellingham WA 98229 United States;X-APPLE-RADIUS=500;X-TITLE=8 Barnview Court:geo:-122.3229482,48.7151523
END:VEVENT
BEGIN:VEVENT
DTSTART;TZID=America/Los_Angeles:20260630T190000
DTEND;TZID=America/Los_Angeles:20260630T200000
DTSTAMP:20260422T110426
CREATED:20171023T145205Z
LAST-MODIFIED:20171023T145205Z
UID:52886-1782846000-1782849600@www.suddenvalley.com
SUMMARY:AA Meeting
DESCRIPTION:6-7pm at the South Lake Whatcom Library meeting room.
URL:https://www.suddenvalley.com/event/aa/2026-06-30/
LOCATION:South Whatcom Library\, 10 Barn View Court\, Bellingham\, WA\, 98229\, United States
CATEGORIES:Support
GEO:48.714329;-122.3238949
X-APPLE-STRUCTURED-LOCATION;VALUE=URI;X-ADDRESS=South Whatcom Library 10 Barn View Court Bellingham WA 98229 United States;X-APPLE-RADIUS=500;X-TITLE=10 Barn View Court:geo:-122.3238949,48.714329
END:VEVENT
BEGIN:VEVENT
DTSTART;TZID=America/Los_Angeles:20260702T100000
DTEND;TZID=America/Los_Angeles:20260702T120000
DTSTAMP:20260422T110426
CREATED:20171227T190003Z
LAST-MODIFIED:20171227T190003Z
UID:51869-1782986400-1782993600@www.suddenvalley.com
SUMMARY:Architectural Control Committee Meeting
DESCRIPTION:
URL:https://www.suddenvalley.com/event/architectural-control-committee-meeting/2026-07-02/
LOCATION:El Agave\, 4 Clubhouse Circle\, Bellingham\, WA\, 98229\, United States
CATEGORIES:Committee Meeting
GEO:48.7130441;-122.3269967
X-APPLE-STRUCTURED-LOCATION;VALUE=URI;X-ADDRESS=El Agave 4 Clubhouse Circle Bellingham WA 98229 United States;X-APPLE-RADIUS=500;X-TITLE=4 Clubhouse Circle:geo:-122.3269967,48.7130441
END:VEVENT
BEGIN:VEVENT
DTSTART;TZID=America/Los_Angeles:20260703T093000
DTEND;TZID=America/Los_Angeles:20260703T110000
DTSTAMP:20260422T110426
CREATED:20171023T030635Z
LAST-MODIFIED:20171023T030635Z
UID:54564-1783071000-1783076400@www.suddenvalley.com
SUMMARY:Al Anon
DESCRIPTION:
URL:https://www.suddenvalley.com/event/al-anon/2026-07-03/
LOCATION:Adult Center Meeting Room\, 10 Barn View Court\, Bellingham\, WA\, 98229\, United States
CATEGORIES:Meeting,Support
GEO:48.714329;-122.3238949
X-APPLE-STRUCTURED-LOCATION;VALUE=URI;X-ADDRESS=Adult Center Meeting Room 10 Barn View Court Bellingham WA 98229 United States;X-APPLE-RADIUS=500;X-TITLE=10 Barn View Court:geo:-122.3238949,48.714329
END:VEVENT
BEGIN:VEVENT
DTSTART;TZID=America/Los_Angeles:20260703T100000
DTEND;TZID=America/Los_Angeles:20260703T110000
DTSTAMP:20260422T110426
CREATED:20181026T183722Z
LAST-MODIFIED:20181026T183722Z
UID:52695-1783072800-1783076400@www.suddenvalley.com
SUMMARY:ALANON
DESCRIPTION:
URL:https://www.suddenvalley.com/event/alanon/2026-07-03/
LOCATION:Adult Center Meeting Room\, 10 Barn View Court\, Bellingham\, WA\, 98229\, United States
CATEGORIES:Community,Meeting,Support
GEO:48.714329;-122.3238949
X-APPLE-STRUCTURED-LOCATION;VALUE=URI;X-ADDRESS=Adult Center Meeting Room 10 Barn View Court Bellingham WA 98229 United States;X-APPLE-RADIUS=500;X-TITLE=10 Barn View Court:geo:-122.3238949,48.714329
END:VEVENT
BEGIN:VEVENT
DTSTART;TZID=America/Los_Angeles:20260705T110000
DTEND;TZID=America/Los_Angeles:20260706T003000
DTSTAMP:20260422T110426
CREATED:20171023T022851Z
LAST-MODIFIED:20171023T022851Z
UID:50913-1783249200-1783297800@www.suddenvalley.com
SUMMARY:Church Service
DESCRIPTION:
URL:https://www.suddenvalley.com/event/church-service/2026-07-05/
LOCATION:Dance Barn\, 8 Barn View Ct\, Bellingham\, WA\, 98229\, United States
ORGANIZER;CN="Christ the King Community Church":MAILTO:suddenvalley@ctk.church
GEO:48.7152265;-122.3220099
X-APPLE-STRUCTURED-LOCATION;VALUE=URI;X-ADDRESS=Dance Barn 8 Barn View Ct Bellingham WA 98229 United States;X-APPLE-RADIUS=500;X-TITLE=8 Barn View Ct:geo:-122.3220099,48.7152265
END:VEVENT
BEGIN:VEVENT
DTSTART;TZID=America/Los_Angeles:20260706T183000
DTEND;TZID=America/Los_Angeles:20260706T193000
DTSTAMP:20260422T110426
CREATED:20181030T194701Z
LAST-MODIFIED:20181030T194701Z
UID:51671-1783362600-1783366200@www.suddenvalley.com
SUMMARY:Yoga
DESCRIPTION:Instructor: Lea Woodliff: 360-510-0621 or leavanin@hotmail.com
URL:https://www.suddenvalley.com/event/yoga-2/2026-07-06/
LOCATION:Multi-Purpose Room A\, 8 Barnview Court\, Bellingham\, WA\, 98229\, United States
CATEGORIES:Class,Community
GEO:48.7151523;-122.3229482
X-APPLE-STRUCTURED-LOCATION;VALUE=URI;X-ADDRESS=Multi-Purpose Room A 8 Barnview Court Bellingham WA 98229 United States;X-APPLE-RADIUS=500;X-TITLE=8 Barnview Court:geo:-122.3229482,48.7151523
END:VEVENT
BEGIN:VEVENT
DTSTART;TZID=America/Los_Angeles:20260707T190000
DTEND;TZID=America/Los_Angeles:20260707T200000
DTSTAMP:20260422T110426
CREATED:20171023T145205Z
LAST-MODIFIED:20171023T145205Z
UID:52887-1783450800-1783454400@www.suddenvalley.com
SUMMARY:AA Meeting
DESCRIPTION:6-7pm at the South Lake Whatcom Library meeting room.
URL:https://www.suddenvalley.com/event/aa/2026-07-07/
LOCATION:South Whatcom Library\, 10 Barn View Court\, Bellingham\, WA\, 98229\, United States
CATEGORIES:Support
GEO:48.714329;-122.3238949
X-APPLE-STRUCTURED-LOCATION;VALUE=URI;X-ADDRESS=South Whatcom Library 10 Barn View Court Bellingham WA 98229 United States;X-APPLE-RADIUS=500;X-TITLE=10 Barn View Court:geo:-122.3238949,48.714329
END:VEVENT
BEGIN:VEVENT
DTSTART;TZID=America/Los_Angeles:20260709T200000
DTEND;TZID=America/Los_Angeles:20260709T230000
DTSTAMP:20260422T110426
CREATED:20171023T164517Z
LAST-MODIFIED:20171023T164517Z
UID:53169-1783627200-1783638000@www.suddenvalley.com
SUMMARY:Board Meeting
DESCRIPTION:
URL:https://www.suddenvalley.com/event/board-meeting/2026-07-09/
LOCATION:Dance Barn\, 8 Barn View Ct\, Bellingham\, WA\, 98229\, United States
CATEGORIES:Board Meeting
ORGANIZER;CN="Sudden Valley Community Association":MAILTO:office@suddenvalley.com
GEO:48.7152265;-122.3220099
X-APPLE-STRUCTURED-LOCATION;VALUE=URI;X-ADDRESS=Dance Barn 8 Barn View Ct Bellingham WA 98229 United States;X-APPLE-RADIUS=500;X-TITLE=8 Barn View Ct:geo:-122.3220099,48.7152265
END:VEVENT
BEGIN:VEVENT
DTSTART;TZID=America/Los_Angeles:20260710T093000
DTEND;TZID=America/Los_Angeles:20260710T110000
DTSTAMP:20260422T110426
CREATED:20171023T030635Z
LAST-MODIFIED:20171023T030635Z
UID:54565-1783675800-1783681200@www.suddenvalley.com
SUMMARY:Al Anon
DESCRIPTION:
URL:https://www.suddenvalley.com/event/al-anon/2026-07-10/
LOCATION:Adult Center Meeting Room\, 10 Barn View Court\, Bellingham\, WA\, 98229\, United States
CATEGORIES:Meeting,Support
GEO:48.714329;-122.3238949
X-APPLE-STRUCTURED-LOCATION;VALUE=URI;X-ADDRESS=Adult Center Meeting Room 10 Barn View Court Bellingham WA 98229 United States;X-APPLE-RADIUS=500;X-TITLE=10 Barn View Court:geo:-122.3238949,48.714329
END:VEVENT
BEGIN:VEVENT
DTSTART;TZID=America/Los_Angeles:20260710T100000
DTEND;TZID=America/Los_Angeles:20260710T110000
DTSTAMP:20260422T110426
CREATED:20181026T183722Z
LAST-MODIFIED:20181026T183722Z
UID:52696-1783677600-1783681200@www.suddenvalley.com
SUMMARY:ALANON
DESCRIPTION:
URL:https://www.suddenvalley.com/event/alanon/2026-07-10/
LOCATION:Adult Center Meeting Room\, 10 Barn View Court\, Bellingham\, WA\, 98229\, United States
CATEGORIES:Community,Meeting,Support
GEO:48.714329;-122.3238949
X-APPLE-STRUCTURED-LOCATION;VALUE=URI;X-ADDRESS=Adult Center Meeting Room 10 Barn View Court Bellingham WA 98229 United States;X-APPLE-RADIUS=500;X-TITLE=10 Barn View Court:geo:-122.3238949,48.714329
END:VEVENT
BEGIN:VEVENT
DTSTART;TZID=America/Los_Angeles:20260710T200000
DTEND;TZID=America/Los_Angeles:20260710T220000
DTSTAMP:20260422T110426
CREATED:20171207T004637Z
LAST-MODIFIED:20171207T004637Z
UID:52295-1783713600-1783720800@www.suddenvalley.com
SUMMARY:Sudden Valley Yarn Crafters
DESCRIPTION:We are a group of both novice and advanced knitters and crocheters. We meet every other Friday (excluding the summer months) in the Community Center. We’re very casual and welcome newcomers of any skill level. If you are interested in hanging out\, chatting\, and working on your project\, please join us! We also have a Facebook group where we sometimes share projects or ideas: https://www.facebook.com/groups/138228059981013
URL:https://www.suddenvalley.com/event/sudden-valley-yarn-crafters/2026-07-10/
LOCATION:Community Center\, 8 Barn View Court\, Bellingham\, WA\, 98229\, United States
CATEGORIES:Club
ATTACH;FMTTYPE=image/jpeg:https://www.suddenvalley.com/wp-content/uploads/yarn.jpg
GEO:48.7152265;-122.3220099
X-APPLE-STRUCTURED-LOCATION;VALUE=URI;X-ADDRESS=Community Center 8 Barn View Court Bellingham WA 98229 United States;X-APPLE-RADIUS=500;X-TITLE=8 Barn View Court:geo:-122.3220099,48.7152265
END:VEVENT
BEGIN:VEVENT
DTSTART;TZID=America/Los_Angeles:20260712T110000
DTEND;TZID=America/Los_Angeles:20260713T003000
DTSTAMP:20260422T110426
CREATED:20171023T022851Z
LAST-MODIFIED:20171023T022851Z
UID:50914-1783854000-1783902600@www.suddenvalley.com
SUMMARY:Church Service
DESCRIPTION:
URL:https://www.suddenvalley.com/event/church-service/2026-07-12/
LOCATION:Dance Barn\, 8 Barn View Ct\, Bellingham\, WA\, 98229\, United States
ORGANIZER;CN="Christ the King Community Church":MAILTO:suddenvalley@ctk.church
GEO:48.7152265;-122.3220099
X-APPLE-STRUCTURED-LOCATION;VALUE=URI;X-ADDRESS=Dance Barn 8 Barn View Ct Bellingham WA 98229 United States;X-APPLE-RADIUS=500;X-TITLE=8 Barn View Ct:geo:-122.3220099,48.7152265
END:VEVENT
BEGIN:VEVENT
DTSTART;TZID=America/Los_Angeles:20260713T183000
DTEND;TZID=America/Los_Angeles:20260713T193000
DTSTAMP:20260422T110426
CREATED:20181030T194701Z
LAST-MODIFIED:20181030T194701Z
UID:51672-1783967400-1783971000@www.suddenvalley.com
SUMMARY:Yoga
DESCRIPTION:Instructor: Lea Woodliff: 360-510-0621 or leavanin@hotmail.com
URL:https://www.suddenvalley.com/event/yoga-2/2026-07-13/
LOCATION:Multi-Purpose Room A\, 8 Barnview Court\, Bellingham\, WA\, 98229\, United States
CATEGORIES:Class,Community
GEO:48.7151523;-122.3229482
X-APPLE-STRUCTURED-LOCATION;VALUE=URI;X-ADDRESS=Multi-Purpose Room A 8 Barnview Court Bellingham WA 98229 United States;X-APPLE-RADIUS=500;X-TITLE=8 Barnview Court:geo:-122.3229482,48.7151523
END:VEVENT
BEGIN:VEVENT
DTSTART;TZID=America/Los_Angeles:20260713T193000
DTEND;TZID=America/Los_Angeles:20260713T210000
DTSTAMP:20260422T110426
CREATED:20190311T143647Z
LAST-MODIFIED:20190311T143647Z
UID:53834-1783971000-1783976400@www.suddenvalley.com
SUMMARY:Document Review Committee Meeting
DESCRIPTION:
URL:https://www.suddenvalley.com/event/document-review-committee-meeting-6/2026-07-13/
LOCATION:Community Center Lounge\, WA\, United States
CATEGORIES:Committee Meeting
GEO:47.7510741;-120.7401385
END:VEVENT
BEGIN:VEVENT
DTSTART;TZID=America/Los_Angeles:20260714T100000
DTEND;TZID=America/Los_Angeles:20260714T110000
DTSTAMP:20260422T110426
CREATED:20171023T155103Z
LAST-MODIFIED:20171023T155103Z
UID:53256-1784023200-1784026800@www.suddenvalley.com
SUMMARY:Emergency Preparedness Committee Meeting
DESCRIPTION:
URL:https://www.suddenvalley.com/event/emergency-preparedness-committee-meeting/2026-07-14/
LOCATION:South Whatcom Fire Authority\, 2050 Lake Whatcom Boulevard\, Bellingham\, WA\, 98229\, United States
CATEGORIES:Committee Meeting
GEO:48.7157453;-122.3322639
X-APPLE-STRUCTURED-LOCATION;VALUE=URI;X-ADDRESS=South Whatcom Fire Authority 2050 Lake Whatcom Boulevard Bellingham WA 98229 United States;X-APPLE-RADIUS=500;X-TITLE=2050 Lake Whatcom Boulevard:geo:-122.3322639,48.7157453
END:VEVENT
BEGIN:VEVENT
DTSTART;TZID=America/Los_Angeles:20260714T190000
DTEND;TZID=America/Los_Angeles:20260714T200000
DTSTAMP:20260422T110426
CREATED:20171023T145205Z
LAST-MODIFIED:20171023T145205Z
UID:52888-1784055600-1784059200@www.suddenvalley.com
SUMMARY:AA Meeting
DESCRIPTION:6-7pm at the South Lake Whatcom Library meeting room.
URL:https://www.suddenvalley.com/event/aa/2026-07-14/
LOCATION:South Whatcom Library\, 10 Barn View Court\, Bellingham\, WA\, 98229\, United States
CATEGORIES:Support
GEO:48.714329;-122.3238949
X-APPLE-STRUCTURED-LOCATION;VALUE=URI;X-ADDRESS=South Whatcom Library 10 Barn View Court Bellingham WA 98229 United States;X-APPLE-RADIUS=500;X-TITLE=10 Barn View Court:geo:-122.3238949,48.714329
END:VEVENT
END:VCALENDAR