BEGIN:VCALENDAR
VERSION:2.0
PRODID:-//Sudden Valley Community Association - ECPv6.15.20//NONSGML v1.0//EN
CALSCALE:GREGORIAN
METHOD:PUBLISH
X-WR-CALNAME:Sudden Valley Community Association
X-ORIGINAL-URL:https://www.suddenvalley.com
X-WR-CALDESC:Events for Sudden Valley Community Association
REFRESH-INTERVAL;VALUE=DURATION:PT1H
X-Robots-Tag:noindex
X-PUBLISHED-TTL:PT1H
BEGIN:VTIMEZONE
TZID:America/Los_Angeles
BEGIN:DAYLIGHT
TZOFFSETFROM:-0800
TZOFFSETTO:-0700
TZNAME:PDT
DTSTART:20250309T100000
END:DAYLIGHT
BEGIN:STANDARD
TZOFFSETFROM:-0700
TZOFFSETTO:-0800
TZNAME:PST
DTSTART:20251102T090000
END:STANDARD
BEGIN:DAYLIGHT
TZOFFSETFROM:-0800
TZOFFSETTO:-0700
TZNAME:PDT
DTSTART:20260308T100000
END:DAYLIGHT
BEGIN:STANDARD
TZOFFSETFROM:-0700
TZOFFSETTO:-0800
TZNAME:PST
DTSTART:20261101T090000
END:STANDARD
BEGIN:DAYLIGHT
TZOFFSETFROM:-0800
TZOFFSETTO:-0700
TZNAME:PDT
DTSTART:20270314T100000
END:DAYLIGHT
BEGIN:STANDARD
TZOFFSETFROM:-0700
TZOFFSETTO:-0800
TZNAME:PST
DTSTART:20271107T090000
END:STANDARD
END:VTIMEZONE
BEGIN:VEVENT
DTSTART;TZID=America/Los_Angeles:20260508T100000
DTEND;TZID=America/Los_Angeles:20260508T110000
DTSTAMP:20260422T110956
CREATED:20181026T183722Z
LAST-MODIFIED:20181026T183722Z
UID:52687-1778234400-1778238000@www.suddenvalley.com
SUMMARY:ALANON
DESCRIPTION:
URL:https://www.suddenvalley.com/event/alanon/2026-05-08/
LOCATION:Adult Center Meeting Room\, 10 Barn View Court\, Bellingham\, WA\, 98229\, United States
CATEGORIES:Community,Meeting,Support
GEO:48.714329;-122.3238949
X-APPLE-STRUCTURED-LOCATION;VALUE=URI;X-ADDRESS=Adult Center Meeting Room 10 Barn View Court Bellingham WA 98229 United States;X-APPLE-RADIUS=500;X-TITLE=10 Barn View Court:geo:-122.3238949,48.714329
END:VEVENT
BEGIN:VEVENT
DTSTART;TZID=America/Los_Angeles:20260508T093000
DTEND;TZID=America/Los_Angeles:20260508T110000
DTSTAMP:20260422T110956
CREATED:20171023T030635Z
LAST-MODIFIED:20171023T030635Z
UID:54556-1778232600-1778238000@www.suddenvalley.com
SUMMARY:Al Anon
DESCRIPTION:
URL:https://www.suddenvalley.com/event/al-anon/2026-05-08/
LOCATION:Adult Center Meeting Room\, 10 Barn View Court\, Bellingham\, WA\, 98229\, United States
CATEGORIES:Meeting,Support
GEO:48.714329;-122.3238949
X-APPLE-STRUCTURED-LOCATION;VALUE=URI;X-ADDRESS=Adult Center Meeting Room 10 Barn View Court Bellingham WA 98229 United States;X-APPLE-RADIUS=500;X-TITLE=10 Barn View Court:geo:-122.3238949,48.714329
END:VEVENT
BEGIN:VEVENT
DTSTART;TZID=America/Los_Angeles:20260507T100000
DTEND;TZID=America/Los_Angeles:20260507T120000
DTSTAMP:20260422T110956
CREATED:20171227T190003Z
LAST-MODIFIED:20171227T190003Z
UID:51867-1778148000-1778155200@www.suddenvalley.com
SUMMARY:Architectural Control Committee Meeting
DESCRIPTION:
URL:https://www.suddenvalley.com/event/architectural-control-committee-meeting/2026-05-07/
LOCATION:El Agave\, 4 Clubhouse Circle\, Bellingham\, WA\, 98229\, United States
CATEGORIES:Committee Meeting
GEO:48.7130441;-122.3269967
X-APPLE-STRUCTURED-LOCATION;VALUE=URI;X-ADDRESS=El Agave 4 Clubhouse Circle Bellingham WA 98229 United States;X-APPLE-RADIUS=500;X-TITLE=4 Clubhouse Circle:geo:-122.3269967,48.7130441
END:VEVENT
BEGIN:VEVENT
DTSTART;TZID=America/Los_Angeles:20260505T190000
DTEND;TZID=America/Los_Angeles:20260505T200000
DTSTAMP:20260422T110956
CREATED:20171023T145205Z
LAST-MODIFIED:20171023T145205Z
UID:52878-1778007600-1778011200@www.suddenvalley.com
SUMMARY:AA Meeting
DESCRIPTION:6-7pm at the South Lake Whatcom Library meeting room.
URL:https://www.suddenvalley.com/event/aa/2026-05-05/
LOCATION:South Whatcom Library\, 10 Barn View Court\, Bellingham\, WA\, 98229\, United States
CATEGORIES:Support
GEO:48.714329;-122.3238949
X-APPLE-STRUCTURED-LOCATION;VALUE=URI;X-ADDRESS=South Whatcom Library 10 Barn View Court Bellingham WA 98229 United States;X-APPLE-RADIUS=500;X-TITLE=10 Barn View Court:geo:-122.3238949,48.714329
END:VEVENT
BEGIN:VEVENT
DTSTART;TZID=America/Los_Angeles:20260504T183000
DTEND;TZID=America/Los_Angeles:20260504T193000
DTSTAMP:20260422T110956
CREATED:20181030T194701Z
LAST-MODIFIED:20181030T194701Z
UID:51662-1777919400-1777923000@www.suddenvalley.com
SUMMARY:Yoga
DESCRIPTION:Instructor: Lea Woodliff: 360-510-0621 or leavanin@hotmail.com
URL:https://www.suddenvalley.com/event/yoga-2/2026-05-04/
LOCATION:Multi-Purpose Room A\, 8 Barnview Court\, Bellingham\, WA\, 98229\, United States
CATEGORIES:Class,Community
GEO:48.7151523;-122.3229482
X-APPLE-STRUCTURED-LOCATION;VALUE=URI;X-ADDRESS=Multi-Purpose Room A 8 Barnview Court Bellingham WA 98229 United States;X-APPLE-RADIUS=500;X-TITLE=8 Barnview Court:geo:-122.3229482,48.7151523
END:VEVENT
BEGIN:VEVENT
DTSTART;TZID=America/Los_Angeles:20260503T110000
DTEND;TZID=America/Los_Angeles:20260504T003000
DTSTAMP:20260422T110956
CREATED:20171023T022851Z
LAST-MODIFIED:20171023T022851Z
UID:50904-1777806000-1777854600@www.suddenvalley.com
SUMMARY:Church Service
DESCRIPTION:
URL:https://www.suddenvalley.com/event/church-service/2026-05-03/
LOCATION:Dance Barn\, 8 Barn View Ct\, Bellingham\, WA\, 98229\, United States
ORGANIZER;CN="Christ the King Community Church":MAILTO:suddenvalley@ctk.church
GEO:48.7152265;-122.3220099
X-APPLE-STRUCTURED-LOCATION;VALUE=URI;X-ADDRESS=Dance Barn 8 Barn View Ct Bellingham WA 98229 United States;X-APPLE-RADIUS=500;X-TITLE=8 Barn View Ct:geo:-122.3220099,48.7152265
END:VEVENT
BEGIN:VEVENT
DTSTART;TZID=America/Los_Angeles:20260501T200000
DTEND;TZID=America/Los_Angeles:20260501T220000
DTSTAMP:20260422T110956
CREATED:20171207T004637Z
LAST-MODIFIED:20171207T004637Z
UID:52289-1777665600-1777672800@www.suddenvalley.com
SUMMARY:Sudden Valley Yarn Crafters
DESCRIPTION:We are a group of both novice and advanced knitters and crocheters. We meet every other Friday (excluding the summer months) in the Community Center. We’re very casual and welcome newcomers of any skill level. If you are interested in hanging out\, chatting\, and working on your project\, please join us! We also have a Facebook group where we sometimes share projects or ideas: https://www.facebook.com/groups/138228059981013
URL:https://www.suddenvalley.com/event/sudden-valley-yarn-crafters/2026-05-01/
LOCATION:Community Center\, 8 Barn View Court\, Bellingham\, WA\, 98229\, United States
CATEGORIES:Club
ATTACH;FMTTYPE=image/jpeg:https://www.suddenvalley.com/wp-content/uploads/yarn.jpg
GEO:48.7152265;-122.3220099
X-APPLE-STRUCTURED-LOCATION;VALUE=URI;X-ADDRESS=Community Center 8 Barn View Court Bellingham WA 98229 United States;X-APPLE-RADIUS=500;X-TITLE=8 Barn View Court:geo:-122.3220099,48.7152265
END:VEVENT
BEGIN:VEVENT
DTSTART;TZID=America/Los_Angeles:20260501T100000
DTEND;TZID=America/Los_Angeles:20260501T110000
DTSTAMP:20260422T110956
CREATED:20181026T183722Z
LAST-MODIFIED:20181026T183722Z
UID:52686-1777629600-1777633200@www.suddenvalley.com
SUMMARY:ALANON
DESCRIPTION:
URL:https://www.suddenvalley.com/event/alanon/2026-05-01/
LOCATION:Adult Center Meeting Room\, 10 Barn View Court\, Bellingham\, WA\, 98229\, United States
CATEGORIES:Community,Meeting,Support
GEO:48.714329;-122.3238949
X-APPLE-STRUCTURED-LOCATION;VALUE=URI;X-ADDRESS=Adult Center Meeting Room 10 Barn View Court Bellingham WA 98229 United States;X-APPLE-RADIUS=500;X-TITLE=10 Barn View Court:geo:-122.3238949,48.714329
END:VEVENT
BEGIN:VEVENT
DTSTART;TZID=America/Los_Angeles:20260501T093000
DTEND;TZID=America/Los_Angeles:20260501T110000
DTSTAMP:20260422T110956
CREATED:20171023T030635Z
LAST-MODIFIED:20171023T030635Z
UID:54555-1777627800-1777633200@www.suddenvalley.com
SUMMARY:Al Anon
DESCRIPTION:
URL:https://www.suddenvalley.com/event/al-anon/2026-05-01/
LOCATION:Adult Center Meeting Room\, 10 Barn View Court\, Bellingham\, WA\, 98229\, United States
CATEGORIES:Meeting,Support
GEO:48.714329;-122.3238949
X-APPLE-STRUCTURED-LOCATION;VALUE=URI;X-ADDRESS=Adult Center Meeting Room 10 Barn View Court Bellingham WA 98229 United States;X-APPLE-RADIUS=500;X-TITLE=10 Barn View Court:geo:-122.3238949,48.714329
END:VEVENT
BEGIN:VEVENT
DTSTART;TZID=America/Los_Angeles:20260428T190000
DTEND;TZID=America/Los_Angeles:20260428T200000
DTSTAMP:20260422T110956
CREATED:20171023T145205Z
LAST-MODIFIED:20171023T145205Z
UID:52877-1777402800-1777406400@www.suddenvalley.com
SUMMARY:AA Meeting
DESCRIPTION:6-7pm at the South Lake Whatcom Library meeting room.
URL:https://www.suddenvalley.com/event/aa/2026-04-28/
LOCATION:South Whatcom Library\, 10 Barn View Court\, Bellingham\, WA\, 98229\, United States
CATEGORIES:Support
GEO:48.714329;-122.3238949
X-APPLE-STRUCTURED-LOCATION;VALUE=URI;X-ADDRESS=South Whatcom Library 10 Barn View Court Bellingham WA 98229 United States;X-APPLE-RADIUS=500;X-TITLE=10 Barn View Court:geo:-122.3238949,48.714329
END:VEVENT
BEGIN:VEVENT
DTSTART;TZID=America/Los_Angeles:20260427T183000
DTEND;TZID=America/Los_Angeles:20260427T193000
DTSTAMP:20260422T110956
CREATED:20181030T194701Z
LAST-MODIFIED:20181030T194701Z
UID:51661-1777314600-1777318200@www.suddenvalley.com
SUMMARY:Yoga
DESCRIPTION:Instructor: Lea Woodliff: 360-510-0621 or leavanin@hotmail.com
URL:https://www.suddenvalley.com/event/yoga-2/2026-04-27/
LOCATION:Multi-Purpose Room A\, 8 Barnview Court\, Bellingham\, WA\, 98229\, United States
CATEGORIES:Class,Community
GEO:48.7151523;-122.3229482
X-APPLE-STRUCTURED-LOCATION;VALUE=URI;X-ADDRESS=Multi-Purpose Room A 8 Barnview Court Bellingham WA 98229 United States;X-APPLE-RADIUS=500;X-TITLE=8 Barnview Court:geo:-122.3229482,48.7151523
END:VEVENT
BEGIN:VEVENT
DTSTART;TZID=America/Los_Angeles:20260426T110000
DTEND;TZID=America/Los_Angeles:20260427T003000
DTSTAMP:20260422T110956
CREATED:20171023T022851Z
LAST-MODIFIED:20171023T022851Z
UID:50903-1777201200-1777249800@www.suddenvalley.com
SUMMARY:Church Service
DESCRIPTION:
URL:https://www.suddenvalley.com/event/church-service/2026-04-26/
LOCATION:Dance Barn\, 8 Barn View Ct\, Bellingham\, WA\, 98229\, United States
ORGANIZER;CN="Christ the King Community Church":MAILTO:suddenvalley@ctk.church
GEO:48.7152265;-122.3220099
X-APPLE-STRUCTURED-LOCATION;VALUE=URI;X-ADDRESS=Dance Barn 8 Barn View Ct Bellingham WA 98229 United States;X-APPLE-RADIUS=500;X-TITLE=8 Barn View Ct:geo:-122.3220099,48.7152265
END:VEVENT
BEGIN:VEVENT
DTSTART;TZID=America/Los_Angeles:20260424T100000
DTEND;TZID=America/Los_Angeles:20260424T110000
DTSTAMP:20260422T110956
CREATED:20181026T183722Z
LAST-MODIFIED:20181026T183722Z
UID:52685-1777024800-1777028400@www.suddenvalley.com
SUMMARY:ALANON
DESCRIPTION:
URL:https://www.suddenvalley.com/event/alanon/2026-04-24/
LOCATION:Adult Center Meeting Room\, 10 Barn View Court\, Bellingham\, WA\, 98229\, United States
CATEGORIES:Community,Meeting,Support
GEO:48.714329;-122.3238949
X-APPLE-STRUCTURED-LOCATION;VALUE=URI;X-ADDRESS=Adult Center Meeting Room 10 Barn View Court Bellingham WA 98229 United States;X-APPLE-RADIUS=500;X-TITLE=10 Barn View Court:geo:-122.3238949,48.714329
END:VEVENT
BEGIN:VEVENT
DTSTART;TZID=America/Los_Angeles:20260424T093000
DTEND;TZID=America/Los_Angeles:20260424T110000
DTSTAMP:20260422T110956
CREATED:20171023T030635Z
LAST-MODIFIED:20171023T030635Z
UID:54554-1777023000-1777028400@www.suddenvalley.com
SUMMARY:Al Anon
DESCRIPTION:
URL:https://www.suddenvalley.com/event/al-anon/2026-04-24/
LOCATION:Adult Center Meeting Room\, 10 Barn View Court\, Bellingham\, WA\, 98229\, United States
CATEGORIES:Meeting,Support
GEO:48.714329;-122.3238949
X-APPLE-STRUCTURED-LOCATION;VALUE=URI;X-ADDRESS=Adult Center Meeting Room 10 Barn View Court Bellingham WA 98229 United States;X-APPLE-RADIUS=500;X-TITLE=10 Barn View Court:geo:-122.3238949,48.714329
END:VEVENT
BEGIN:VEVENT
DTSTART;TZID=America/Los_Angeles:20260421T190000
DTEND;TZID=America/Los_Angeles:20260421T200000
DTSTAMP:20260422T110956
CREATED:20171023T145205Z
LAST-MODIFIED:20171023T145205Z
UID:52876-1776798000-1776801600@www.suddenvalley.com
SUMMARY:AA Meeting
DESCRIPTION:6-7pm at the South Lake Whatcom Library meeting room.
URL:https://www.suddenvalley.com/event/aa/2026-04-21/
LOCATION:South Whatcom Library\, 10 Barn View Court\, Bellingham\, WA\, 98229\, United States
CATEGORIES:Support
GEO:48.714329;-122.3238949
X-APPLE-STRUCTURED-LOCATION;VALUE=URI;X-ADDRESS=South Whatcom Library 10 Barn View Court Bellingham WA 98229 United States;X-APPLE-RADIUS=500;X-TITLE=10 Barn View Court:geo:-122.3238949,48.714329
END:VEVENT
BEGIN:VEVENT
DTSTART;TZID=America/Los_Angeles:20260420T200000
DTEND;TZID=America/Los_Angeles:20260420T213000
DTSTAMP:20260422T110956
CREATED:20180117T183940Z
LAST-MODIFIED:20180117T183940Z
UID:53745-1776715200-1776720600@www.suddenvalley.com
SUMMARY:N&E Committee Meeting
DESCRIPTION:
URL:https://www.suddenvalley.com/event/ne-committee-meeting-2-2018-11-19/2026-04-20/
LOCATION:Coffee Shop
END:VEVENT
BEGIN:VEVENT
DTSTART;TZID=America/Los_Angeles:20260420T183000
DTEND;TZID=America/Los_Angeles:20260420T193000
DTSTAMP:20260422T110956
CREATED:20181030T194701Z
LAST-MODIFIED:20181030T194701Z
UID:51660-1776709800-1776713400@www.suddenvalley.com
SUMMARY:Yoga
DESCRIPTION:Instructor: Lea Woodliff: 360-510-0621 or leavanin@hotmail.com
URL:https://www.suddenvalley.com/event/yoga-2/2026-04-20/
LOCATION:Multi-Purpose Room A\, 8 Barnview Court\, Bellingham\, WA\, 98229\, United States
CATEGORIES:Class,Community
GEO:48.7151523;-122.3229482
X-APPLE-STRUCTURED-LOCATION;VALUE=URI;X-ADDRESS=Multi-Purpose Room A 8 Barnview Court Bellingham WA 98229 United States;X-APPLE-RADIUS=500;X-TITLE=8 Barnview Court:geo:-122.3229482,48.7151523
END:VEVENT
BEGIN:VEVENT
DTSTART;TZID=America/Los_Angeles:20260419T110000
DTEND;TZID=America/Los_Angeles:20260420T003000
DTSTAMP:20260422T110956
CREATED:20171023T022851Z
LAST-MODIFIED:20171023T022851Z
UID:50902-1776596400-1776645000@www.suddenvalley.com
SUMMARY:Church Service
DESCRIPTION:
URL:https://www.suddenvalley.com/event/church-service/2026-04-19/
LOCATION:Dance Barn\, 8 Barn View Ct\, Bellingham\, WA\, 98229\, United States
ORGANIZER;CN="Christ the King Community Church":MAILTO:suddenvalley@ctk.church
GEO:48.7152265;-122.3220099
X-APPLE-STRUCTURED-LOCATION;VALUE=URI;X-ADDRESS=Dance Barn 8 Barn View Ct Bellingham WA 98229 United States;X-APPLE-RADIUS=500;X-TITLE=8 Barn View Ct:geo:-122.3220099,48.7152265
END:VEVENT
BEGIN:VEVENT
DTSTART;TZID=America/Los_Angeles:20260417T200000
DTEND;TZID=America/Los_Angeles:20260417T220000
DTSTAMP:20260422T110956
CREATED:20171207T004637Z
LAST-MODIFIED:20171207T004637Z
UID:52288-1776456000-1776463200@www.suddenvalley.com
SUMMARY:Sudden Valley Yarn Crafters
DESCRIPTION:We are a group of both novice and advanced knitters and crocheters. We meet every other Friday (excluding the summer months) in the Community Center. We’re very casual and welcome newcomers of any skill level. If you are interested in hanging out\, chatting\, and working on your project\, please join us! We also have a Facebook group where we sometimes share projects or ideas: https://www.facebook.com/groups/138228059981013
URL:https://www.suddenvalley.com/event/sudden-valley-yarn-crafters/2026-04-17/
LOCATION:Community Center\, 8 Barn View Court\, Bellingham\, WA\, 98229\, United States
CATEGORIES:Club
ATTACH;FMTTYPE=image/jpeg:https://www.suddenvalley.com/wp-content/uploads/yarn.jpg
GEO:48.7152265;-122.3220099
X-APPLE-STRUCTURED-LOCATION;VALUE=URI;X-ADDRESS=Community Center 8 Barn View Court Bellingham WA 98229 United States;X-APPLE-RADIUS=500;X-TITLE=8 Barn View Court:geo:-122.3220099,48.7152265
END:VEVENT
BEGIN:VEVENT
DTSTART;TZID=America/Los_Angeles:20260417T100000
DTEND;TZID=America/Los_Angeles:20260417T110000
DTSTAMP:20260422T110956
CREATED:20181026T183722Z
LAST-MODIFIED:20181026T183722Z
UID:52684-1776420000-1776423600@www.suddenvalley.com
SUMMARY:ALANON
DESCRIPTION:
URL:https://www.suddenvalley.com/event/alanon/2026-04-17/
LOCATION:Adult Center Meeting Room\, 10 Barn View Court\, Bellingham\, WA\, 98229\, United States
CATEGORIES:Community,Meeting,Support
GEO:48.714329;-122.3238949
X-APPLE-STRUCTURED-LOCATION;VALUE=URI;X-ADDRESS=Adult Center Meeting Room 10 Barn View Court Bellingham WA 98229 United States;X-APPLE-RADIUS=500;X-TITLE=10 Barn View Court:geo:-122.3238949,48.714329
END:VEVENT
BEGIN:VEVENT
DTSTART;TZID=America/Los_Angeles:20260417T093000
DTEND;TZID=America/Los_Angeles:20260417T110000
DTSTAMP:20260422T110956
CREATED:20171023T030635Z
LAST-MODIFIED:20171023T030635Z
UID:54553-1776418200-1776423600@www.suddenvalley.com
SUMMARY:Al Anon
DESCRIPTION:
URL:https://www.suddenvalley.com/event/al-anon/2026-04-17/
LOCATION:Adult Center Meeting Room\, 10 Barn View Court\, Bellingham\, WA\, 98229\, United States
CATEGORIES:Meeting,Support
GEO:48.714329;-122.3238949
X-APPLE-STRUCTURED-LOCATION;VALUE=URI;X-ADDRESS=Adult Center Meeting Room 10 Barn View Court Bellingham WA 98229 United States;X-APPLE-RADIUS=500;X-TITLE=10 Barn View Court:geo:-122.3238949,48.714329
END:VEVENT
BEGIN:VEVENT
DTSTART;TZID=America/Los_Angeles:20260416T190000
DTEND;TZID=America/Los_Angeles:20260416T210000
DTSTAMP:20260422T110956
CREATED:20171227T190121Z
LAST-MODIFIED:20171227T190121Z
UID:50448-1776366000-1776373200@www.suddenvalley.com
SUMMARY:Architectural Control  Committee Meeting
DESCRIPTION:
URL:https://www.suddenvalley.com/event/architectural-control-committee-meeting-2/2026-04-16/
LOCATION:Multi-Purpose Room\, 8 Barn View Drive\, Bellingham\, WA\, 98229\, United States
GEO:48.7152265;-122.3220099
X-APPLE-STRUCTURED-LOCATION;VALUE=URI;X-ADDRESS=Multi-Purpose Room 8 Barn View Drive Bellingham WA 98229 United States;X-APPLE-RADIUS=500;X-TITLE=8 Barn View Drive:geo:-122.3220099,48.7152265
END:VEVENT
BEGIN:VEVENT
DTSTART;TZID=America/Los_Angeles:20260414T190000
DTEND;TZID=America/Los_Angeles:20260414T200000
DTSTAMP:20260422T110956
CREATED:20171023T145205Z
LAST-MODIFIED:20171023T145205Z
UID:52875-1776193200-1776196800@www.suddenvalley.com
SUMMARY:AA Meeting
DESCRIPTION:6-7pm at the South Lake Whatcom Library meeting room.
URL:https://www.suddenvalley.com/event/aa/2026-04-14/
LOCATION:South Whatcom Library\, 10 Barn View Court\, Bellingham\, WA\, 98229\, United States
CATEGORIES:Support
GEO:48.714329;-122.3238949
X-APPLE-STRUCTURED-LOCATION;VALUE=URI;X-ADDRESS=South Whatcom Library 10 Barn View Court Bellingham WA 98229 United States;X-APPLE-RADIUS=500;X-TITLE=10 Barn View Court:geo:-122.3238949,48.714329
END:VEVENT
BEGIN:VEVENT
DTSTART;TZID=America/Los_Angeles:20260414T100000
DTEND;TZID=America/Los_Angeles:20260414T110000
DTSTAMP:20260422T110956
CREATED:20171023T155103Z
LAST-MODIFIED:20171023T155103Z
UID:53253-1776160800-1776164400@www.suddenvalley.com
SUMMARY:Emergency Preparedness Committee Meeting
DESCRIPTION:
URL:https://www.suddenvalley.com/event/emergency-preparedness-committee-meeting/2026-04-14/
LOCATION:South Whatcom Fire Authority\, 2050 Lake Whatcom Boulevard\, Bellingham\, WA\, 98229\, United States
CATEGORIES:Committee Meeting
GEO:48.7157453;-122.3322639
X-APPLE-STRUCTURED-LOCATION;VALUE=URI;X-ADDRESS=South Whatcom Fire Authority 2050 Lake Whatcom Boulevard Bellingham WA 98229 United States;X-APPLE-RADIUS=500;X-TITLE=2050 Lake Whatcom Boulevard:geo:-122.3322639,48.7157453
END:VEVENT
BEGIN:VEVENT
DTSTART;TZID=America/Los_Angeles:20260413T193000
DTEND;TZID=America/Los_Angeles:20260413T210000
DTSTAMP:20260422T110956
CREATED:20190311T143647Z
LAST-MODIFIED:20190311T143647Z
UID:53831-1776108600-1776114000@www.suddenvalley.com
SUMMARY:Document Review Committee Meeting
DESCRIPTION:
URL:https://www.suddenvalley.com/event/document-review-committee-meeting-6/2026-04-13/
LOCATION:Community Center Lounge\, WA\, United States
CATEGORIES:Committee Meeting
GEO:47.7510741;-120.7401385
END:VEVENT
BEGIN:VEVENT
DTSTART;TZID=America/Los_Angeles:20260413T183000
DTEND;TZID=America/Los_Angeles:20260413T193000
DTSTAMP:20260422T110956
CREATED:20181030T194701Z
LAST-MODIFIED:20181030T194701Z
UID:51659-1776105000-1776108600@www.suddenvalley.com
SUMMARY:Yoga
DESCRIPTION:Instructor: Lea Woodliff: 360-510-0621 or leavanin@hotmail.com
URL:https://www.suddenvalley.com/event/yoga-2/2026-04-13/
LOCATION:Multi-Purpose Room A\, 8 Barnview Court\, Bellingham\, WA\, 98229\, United States
CATEGORIES:Class,Community
GEO:48.7151523;-122.3229482
X-APPLE-STRUCTURED-LOCATION;VALUE=URI;X-ADDRESS=Multi-Purpose Room A 8 Barnview Court Bellingham WA 98229 United States;X-APPLE-RADIUS=500;X-TITLE=8 Barnview Court:geo:-122.3229482,48.7151523
END:VEVENT
BEGIN:VEVENT
DTSTART;TZID=America/Los_Angeles:20260412T110000
DTEND;TZID=America/Los_Angeles:20260413T003000
DTSTAMP:20260422T110956
CREATED:20171023T022851Z
LAST-MODIFIED:20171023T022851Z
UID:50901-1775991600-1776040200@www.suddenvalley.com
SUMMARY:Church Service
DESCRIPTION:
URL:https://www.suddenvalley.com/event/church-service/2026-04-12/
LOCATION:Dance Barn\, 8 Barn View Ct\, Bellingham\, WA\, 98229\, United States
ORGANIZER;CN="Christ the King Community Church":MAILTO:suddenvalley@ctk.church
GEO:48.7152265;-122.3220099
X-APPLE-STRUCTURED-LOCATION;VALUE=URI;X-ADDRESS=Dance Barn 8 Barn View Ct Bellingham WA 98229 United States;X-APPLE-RADIUS=500;X-TITLE=8 Barn View Ct:geo:-122.3220099,48.7152265
END:VEVENT
BEGIN:VEVENT
DTSTART;TZID=America/Los_Angeles:20260410T100000
DTEND;TZID=America/Los_Angeles:20260410T110000
DTSTAMP:20260422T110956
CREATED:20181026T183722Z
LAST-MODIFIED:20181026T183722Z
UID:52683-1775815200-1775818800@www.suddenvalley.com
SUMMARY:ALANON
DESCRIPTION:
URL:https://www.suddenvalley.com/event/alanon/2026-04-10/
LOCATION:Adult Center Meeting Room\, 10 Barn View Court\, Bellingham\, WA\, 98229\, United States
CATEGORIES:Community,Meeting,Support
GEO:48.714329;-122.3238949
X-APPLE-STRUCTURED-LOCATION;VALUE=URI;X-ADDRESS=Adult Center Meeting Room 10 Barn View Court Bellingham WA 98229 United States;X-APPLE-RADIUS=500;X-TITLE=10 Barn View Court:geo:-122.3238949,48.714329
END:VEVENT
BEGIN:VEVENT
DTSTART;TZID=America/Los_Angeles:20260410T093000
DTEND;TZID=America/Los_Angeles:20260410T110000
DTSTAMP:20260422T110956
CREATED:20171023T030635Z
LAST-MODIFIED:20171023T030635Z
UID:54552-1775813400-1775818800@www.suddenvalley.com
SUMMARY:Al Anon
DESCRIPTION:
URL:https://www.suddenvalley.com/event/al-anon/2026-04-10/
LOCATION:Adult Center Meeting Room\, 10 Barn View Court\, Bellingham\, WA\, 98229\, United States
CATEGORIES:Meeting,Support
GEO:48.714329;-122.3238949
X-APPLE-STRUCTURED-LOCATION;VALUE=URI;X-ADDRESS=Adult Center Meeting Room 10 Barn View Court Bellingham WA 98229 United States;X-APPLE-RADIUS=500;X-TITLE=10 Barn View Court:geo:-122.3238949,48.714329
END:VEVENT
BEGIN:VEVENT
DTSTART;TZID=America/Los_Angeles:20260409T200000
DTEND;TZID=America/Los_Angeles:20260409T230000
DTSTAMP:20260422T110956
CREATED:20171023T164517Z
LAST-MODIFIED:20171023T164517Z
UID:53166-1775764800-1775775600@www.suddenvalley.com
SUMMARY:Board Meeting
DESCRIPTION:
URL:https://www.suddenvalley.com/event/board-meeting/2026-04-09/
LOCATION:Dance Barn\, 8 Barn View Ct\, Bellingham\, WA\, 98229\, United States
CATEGORIES:Board Meeting
ORGANIZER;CN="Sudden Valley Community Association":MAILTO:office@suddenvalley.com
GEO:48.7152265;-122.3220099
X-APPLE-STRUCTURED-LOCATION;VALUE=URI;X-ADDRESS=Dance Barn 8 Barn View Ct Bellingham WA 98229 United States;X-APPLE-RADIUS=500;X-TITLE=8 Barn View Ct:geo:-122.3220099,48.7152265
END:VEVENT
END:VCALENDAR