BEGIN:VCALENDAR
VERSION:2.0
PRODID:-//Sudden Valley Community Association - ECPv6.15.20//NONSGML v1.0//EN
CALSCALE:GREGORIAN
METHOD:PUBLISH
X-WR-CALNAME:Sudden Valley Community Association
X-ORIGINAL-URL:https://www.suddenvalley.com
X-WR-CALDESC:Events for Sudden Valley Community Association
REFRESH-INTERVAL;VALUE=DURATION:PT1H
X-Robots-Tag:noindex
X-PUBLISHED-TTL:PT1H
BEGIN:VTIMEZONE
TZID:America/Los_Angeles
BEGIN:DAYLIGHT
TZOFFSETFROM:-0800
TZOFFSETTO:-0700
TZNAME:PDT
DTSTART:20250309T100000
END:DAYLIGHT
BEGIN:STANDARD
TZOFFSETFROM:-0700
TZOFFSETTO:-0800
TZNAME:PST
DTSTART:20251102T090000
END:STANDARD
BEGIN:DAYLIGHT
TZOFFSETFROM:-0800
TZOFFSETTO:-0700
TZNAME:PDT
DTSTART:20260308T100000
END:DAYLIGHT
BEGIN:STANDARD
TZOFFSETFROM:-0700
TZOFFSETTO:-0800
TZNAME:PST
DTSTART:20261101T090000
END:STANDARD
BEGIN:DAYLIGHT
TZOFFSETFROM:-0800
TZOFFSETTO:-0700
TZNAME:PDT
DTSTART:20270314T100000
END:DAYLIGHT
BEGIN:STANDARD
TZOFFSETFROM:-0700
TZOFFSETTO:-0800
TZNAME:PST
DTSTART:20271107T090000
END:STANDARD
END:VTIMEZONE
BEGIN:VEVENT
DTSTART;TZID=America/Los_Angeles:20260910T200000
DTEND;TZID=America/Los_Angeles:20260910T230000
DTSTAMP:20260422T110530
CREATED:20171023T164517Z
LAST-MODIFIED:20171023T164517Z
UID:53171-1789070400-1789081200@www.suddenvalley.com
SUMMARY:Board Meeting
DESCRIPTION:
URL:https://www.suddenvalley.com/event/board-meeting/2026-09-10/
LOCATION:Dance Barn\, 8 Barn View Ct\, Bellingham\, WA\, 98229\, United States
CATEGORIES:Board Meeting
ORGANIZER;CN="Sudden Valley Community Association":MAILTO:office@suddenvalley.com
GEO:48.7152265;-122.3220099
X-APPLE-STRUCTURED-LOCATION;VALUE=URI;X-ADDRESS=Dance Barn 8 Barn View Ct Bellingham WA 98229 United States;X-APPLE-RADIUS=500;X-TITLE=8 Barn View Ct:geo:-122.3220099,48.7152265
END:VEVENT
BEGIN:VEVENT
DTSTART;TZID=America/Los_Angeles:20260911T093000
DTEND;TZID=America/Los_Angeles:20260911T110000
DTSTAMP:20260422T110530
CREATED:20171023T030635Z
LAST-MODIFIED:20171023T030635Z
UID:54574-1789119000-1789124400@www.suddenvalley.com
SUMMARY:Al Anon
DESCRIPTION:
URL:https://www.suddenvalley.com/event/al-anon/2026-09-11/
LOCATION:Adult Center Meeting Room\, 10 Barn View Court\, Bellingham\, WA\, 98229\, United States
CATEGORIES:Meeting,Support
GEO:48.714329;-122.3238949
X-APPLE-STRUCTURED-LOCATION;VALUE=URI;X-ADDRESS=Adult Center Meeting Room 10 Barn View Court Bellingham WA 98229 United States;X-APPLE-RADIUS=500;X-TITLE=10 Barn View Court:geo:-122.3238949,48.714329
END:VEVENT
BEGIN:VEVENT
DTSTART;TZID=America/Los_Angeles:20260911T100000
DTEND;TZID=America/Los_Angeles:20260911T110000
DTSTAMP:20260422T110530
CREATED:20181026T183722Z
LAST-MODIFIED:20181026T183722Z
UID:52705-1789120800-1789124400@www.suddenvalley.com
SUMMARY:ALANON
DESCRIPTION:
URL:https://www.suddenvalley.com/event/alanon/2026-09-11/
LOCATION:Adult Center Meeting Room\, 10 Barn View Court\, Bellingham\, WA\, 98229\, United States
CATEGORIES:Community,Meeting,Support
GEO:48.714329;-122.3238949
X-APPLE-STRUCTURED-LOCATION;VALUE=URI;X-ADDRESS=Adult Center Meeting Room 10 Barn View Court Bellingham WA 98229 United States;X-APPLE-RADIUS=500;X-TITLE=10 Barn View Court:geo:-122.3238949,48.714329
END:VEVENT
BEGIN:VEVENT
DTSTART;TZID=America/Los_Angeles:20260913T110000
DTEND;TZID=America/Los_Angeles:20260914T003000
DTSTAMP:20260422T110530
CREATED:20171023T022851Z
LAST-MODIFIED:20171023T022851Z
UID:50923-1789297200-1789345800@www.suddenvalley.com
SUMMARY:Church Service
DESCRIPTION:
URL:https://www.suddenvalley.com/event/church-service/2026-09-13/
LOCATION:Dance Barn\, 8 Barn View Ct\, Bellingham\, WA\, 98229\, United States
ORGANIZER;CN="Christ the King Community Church":MAILTO:suddenvalley@ctk.church
GEO:48.7152265;-122.3220099
X-APPLE-STRUCTURED-LOCATION;VALUE=URI;X-ADDRESS=Dance Barn 8 Barn View Ct Bellingham WA 98229 United States;X-APPLE-RADIUS=500;X-TITLE=8 Barn View Ct:geo:-122.3220099,48.7152265
END:VEVENT
BEGIN:VEVENT
DTSTART;TZID=America/Los_Angeles:20260914T183000
DTEND;TZID=America/Los_Angeles:20260914T193000
DTSTAMP:20260422T110530
CREATED:20181030T194701Z
LAST-MODIFIED:20181030T194701Z
UID:51682-1789410600-1789414200@www.suddenvalley.com
SUMMARY:Yoga
DESCRIPTION:Instructor: Lea Woodliff: 360-510-0621 or leavanin@hotmail.com
URL:https://www.suddenvalley.com/event/yoga-2/2026-09-14/
LOCATION:Multi-Purpose Room A\, 8 Barnview Court\, Bellingham\, WA\, 98229\, United States
CATEGORIES:Class,Community
GEO:48.7151523;-122.3229482
X-APPLE-STRUCTURED-LOCATION;VALUE=URI;X-ADDRESS=Multi-Purpose Room A 8 Barnview Court Bellingham WA 98229 United States;X-APPLE-RADIUS=500;X-TITLE=8 Barnview Court:geo:-122.3229482,48.7151523
END:VEVENT
BEGIN:VEVENT
DTSTART;TZID=America/Los_Angeles:20260914T193000
DTEND;TZID=America/Los_Angeles:20260914T210000
DTSTAMP:20260422T110530
CREATED:20190311T143647Z
LAST-MODIFIED:20190311T143647Z
UID:53836-1789414200-1789419600@www.suddenvalley.com
SUMMARY:Document Review Committee Meeting
DESCRIPTION:
URL:https://www.suddenvalley.com/event/document-review-committee-meeting-6/2026-09-14/
LOCATION:Community Center Lounge\, WA\, United States
CATEGORIES:Committee Meeting
GEO:47.7510741;-120.7401385
END:VEVENT
BEGIN:VEVENT
DTSTART;TZID=America/Los_Angeles:20260915T190000
DTEND;TZID=America/Los_Angeles:20260915T200000
DTSTAMP:20260422T110530
CREATED:20171023T145205Z
LAST-MODIFIED:20171023T145205Z
UID:52897-1789498800-1789502400@www.suddenvalley.com
SUMMARY:AA Meeting
DESCRIPTION:6-7pm at the South Lake Whatcom Library meeting room.
URL:https://www.suddenvalley.com/event/aa/2026-09-15/
LOCATION:South Whatcom Library\, 10 Barn View Court\, Bellingham\, WA\, 98229\, United States
CATEGORIES:Support
GEO:48.714329;-122.3238949
X-APPLE-STRUCTURED-LOCATION;VALUE=URI;X-ADDRESS=South Whatcom Library 10 Barn View Court Bellingham WA 98229 United States;X-APPLE-RADIUS=500;X-TITLE=10 Barn View Court:geo:-122.3238949,48.714329
END:VEVENT
BEGIN:VEVENT
DTSTART;TZID=America/Los_Angeles:20260917T190000
DTEND;TZID=America/Los_Angeles:20260917T210000
DTSTAMP:20260422T110530
CREATED:20171227T190121Z
LAST-MODIFIED:20171227T190121Z
UID:50453-1789671600-1789678800@www.suddenvalley.com
SUMMARY:Architectural Control  Committee Meeting
DESCRIPTION:
URL:https://www.suddenvalley.com/event/architectural-control-committee-meeting-2/2026-09-17/
LOCATION:Multi-Purpose Room\, 8 Barn View Drive\, Bellingham\, WA\, 98229\, United States
GEO:48.7152265;-122.3220099
X-APPLE-STRUCTURED-LOCATION;VALUE=URI;X-ADDRESS=Multi-Purpose Room 8 Barn View Drive Bellingham WA 98229 United States;X-APPLE-RADIUS=500;X-TITLE=8 Barn View Drive:geo:-122.3220099,48.7152265
END:VEVENT
BEGIN:VEVENT
DTSTART;TZID=America/Los_Angeles:20260918T093000
DTEND;TZID=America/Los_Angeles:20260918T110000
DTSTAMP:20260422T110530
CREATED:20171023T030635Z
LAST-MODIFIED:20171023T030635Z
UID:54575-1789723800-1789729200@www.suddenvalley.com
SUMMARY:Al Anon
DESCRIPTION:
URL:https://www.suddenvalley.com/event/al-anon/2026-09-18/
LOCATION:Adult Center Meeting Room\, 10 Barn View Court\, Bellingham\, WA\, 98229\, United States
CATEGORIES:Meeting,Support
GEO:48.714329;-122.3238949
X-APPLE-STRUCTURED-LOCATION;VALUE=URI;X-ADDRESS=Adult Center Meeting Room 10 Barn View Court Bellingham WA 98229 United States;X-APPLE-RADIUS=500;X-TITLE=10 Barn View Court:geo:-122.3238949,48.714329
END:VEVENT
BEGIN:VEVENT
DTSTART;TZID=America/Los_Angeles:20260918T100000
DTEND;TZID=America/Los_Angeles:20260918T110000
DTSTAMP:20260422T110530
CREATED:20181026T183722Z
LAST-MODIFIED:20181026T183722Z
UID:52706-1789725600-1789729200@www.suddenvalley.com
SUMMARY:ALANON
DESCRIPTION:
URL:https://www.suddenvalley.com/event/alanon/2026-09-18/
LOCATION:Adult Center Meeting Room\, 10 Barn View Court\, Bellingham\, WA\, 98229\, United States
CATEGORIES:Community,Meeting,Support
GEO:48.714329;-122.3238949
X-APPLE-STRUCTURED-LOCATION;VALUE=URI;X-ADDRESS=Adult Center Meeting Room 10 Barn View Court Bellingham WA 98229 United States;X-APPLE-RADIUS=500;X-TITLE=10 Barn View Court:geo:-122.3238949,48.714329
END:VEVENT
BEGIN:VEVENT
DTSTART;TZID=America/Los_Angeles:20260918T200000
DTEND;TZID=America/Los_Angeles:20260918T220000
DTSTAMP:20260422T110530
CREATED:20171207T004637Z
LAST-MODIFIED:20171207T004637Z
UID:52300-1789761600-1789768800@www.suddenvalley.com
SUMMARY:Sudden Valley Yarn Crafters
DESCRIPTION:We are a group of both novice and advanced knitters and crocheters. We meet every other Friday (excluding the summer months) in the Community Center. We’re very casual and welcome newcomers of any skill level. If you are interested in hanging out\, chatting\, and working on your project\, please join us! We also have a Facebook group where we sometimes share projects or ideas: https://www.facebook.com/groups/138228059981013
URL:https://www.suddenvalley.com/event/sudden-valley-yarn-crafters/2026-09-18/
LOCATION:Community Center\, 8 Barn View Court\, Bellingham\, WA\, 98229\, United States
CATEGORIES:Club
ATTACH;FMTTYPE=image/jpeg:https://www.suddenvalley.com/wp-content/uploads/yarn.jpg
GEO:48.7152265;-122.3220099
X-APPLE-STRUCTURED-LOCATION;VALUE=URI;X-ADDRESS=Community Center 8 Barn View Court Bellingham WA 98229 United States;X-APPLE-RADIUS=500;X-TITLE=8 Barn View Court:geo:-122.3220099,48.7152265
END:VEVENT
BEGIN:VEVENT
DTSTART;TZID=America/Los_Angeles:20260920T110000
DTEND;TZID=America/Los_Angeles:20260921T003000
DTSTAMP:20260422T110530
CREATED:20171023T022851Z
LAST-MODIFIED:20171023T022851Z
UID:50924-1789902000-1789950600@www.suddenvalley.com
SUMMARY:Church Service
DESCRIPTION:
URL:https://www.suddenvalley.com/event/church-service/2026-09-20/
LOCATION:Dance Barn\, 8 Barn View Ct\, Bellingham\, WA\, 98229\, United States
ORGANIZER;CN="Christ the King Community Church":MAILTO:suddenvalley@ctk.church
GEO:48.7152265;-122.3220099
X-APPLE-STRUCTURED-LOCATION;VALUE=URI;X-ADDRESS=Dance Barn 8 Barn View Ct Bellingham WA 98229 United States;X-APPLE-RADIUS=500;X-TITLE=8 Barn View Ct:geo:-122.3220099,48.7152265
END:VEVENT
BEGIN:VEVENT
DTSTART;TZID=America/Los_Angeles:20260921T183000
DTEND;TZID=America/Los_Angeles:20260921T193000
DTSTAMP:20260422T110530
CREATED:20181030T194701Z
LAST-MODIFIED:20181030T194701Z
UID:51684-1790015400-1790019000@www.suddenvalley.com
SUMMARY:Yoga
DESCRIPTION:Instructor: Lea Woodliff: 360-510-0621 or leavanin@hotmail.com
URL:https://www.suddenvalley.com/event/yoga-2/2026-09-21/
LOCATION:Multi-Purpose Room A\, 8 Barnview Court\, Bellingham\, WA\, 98229\, United States
CATEGORIES:Class,Community
GEO:48.7151523;-122.3229482
X-APPLE-STRUCTURED-LOCATION;VALUE=URI;X-ADDRESS=Multi-Purpose Room A 8 Barnview Court Bellingham WA 98229 United States;X-APPLE-RADIUS=500;X-TITLE=8 Barnview Court:geo:-122.3229482,48.7151523
END:VEVENT
BEGIN:VEVENT
DTSTART;TZID=America/Los_Angeles:20260921T200000
DTEND;TZID=America/Los_Angeles:20260921T213000
DTSTAMP:20260422T110530
CREATED:20180117T183940Z
LAST-MODIFIED:20180117T183940Z
UID:53750-1790020800-1790026200@www.suddenvalley.com
SUMMARY:N&E Committee Meeting
DESCRIPTION:
URL:https://www.suddenvalley.com/event/ne-committee-meeting-2-2018-11-19/2026-09-21/
LOCATION:Coffee Shop
END:VEVENT
BEGIN:VEVENT
DTSTART;TZID=America/Los_Angeles:20260922T190000
DTEND;TZID=America/Los_Angeles:20260922T200000
DTSTAMP:20260422T110530
CREATED:20171023T145205Z
LAST-MODIFIED:20171023T145205Z
UID:52898-1790103600-1790107200@www.suddenvalley.com
SUMMARY:AA Meeting
DESCRIPTION:6-7pm at the South Lake Whatcom Library meeting room.
URL:https://www.suddenvalley.com/event/aa/2026-09-22/
LOCATION:South Whatcom Library\, 10 Barn View Court\, Bellingham\, WA\, 98229\, United States
CATEGORIES:Support
GEO:48.714329;-122.3238949
X-APPLE-STRUCTURED-LOCATION;VALUE=URI;X-ADDRESS=South Whatcom Library 10 Barn View Court Bellingham WA 98229 United States;X-APPLE-RADIUS=500;X-TITLE=10 Barn View Court:geo:-122.3238949,48.714329
END:VEVENT
BEGIN:VEVENT
DTSTART;TZID=America/Los_Angeles:20260925T093000
DTEND;TZID=America/Los_Angeles:20260925T110000
DTSTAMP:20260422T110530
CREATED:20171023T030635Z
LAST-MODIFIED:20171023T030635Z
UID:54576-1790328600-1790334000@www.suddenvalley.com
SUMMARY:Al Anon
DESCRIPTION:
URL:https://www.suddenvalley.com/event/al-anon/2026-09-25/
LOCATION:Adult Center Meeting Room\, 10 Barn View Court\, Bellingham\, WA\, 98229\, United States
CATEGORIES:Meeting,Support
GEO:48.714329;-122.3238949
X-APPLE-STRUCTURED-LOCATION;VALUE=URI;X-ADDRESS=Adult Center Meeting Room 10 Barn View Court Bellingham WA 98229 United States;X-APPLE-RADIUS=500;X-TITLE=10 Barn View Court:geo:-122.3238949,48.714329
END:VEVENT
BEGIN:VEVENT
DTSTART;TZID=America/Los_Angeles:20260925T100000
DTEND;TZID=America/Los_Angeles:20260925T110000
DTSTAMP:20260422T110530
CREATED:20181026T183722Z
LAST-MODIFIED:20181026T183722Z
UID:52707-1790330400-1790334000@www.suddenvalley.com
SUMMARY:ALANON
DESCRIPTION:
URL:https://www.suddenvalley.com/event/alanon/2026-09-25/
LOCATION:Adult Center Meeting Room\, 10 Barn View Court\, Bellingham\, WA\, 98229\, United States
CATEGORIES:Community,Meeting,Support
GEO:48.714329;-122.3238949
X-APPLE-STRUCTURED-LOCATION;VALUE=URI;X-ADDRESS=Adult Center Meeting Room 10 Barn View Court Bellingham WA 98229 United States;X-APPLE-RADIUS=500;X-TITLE=10 Barn View Court:geo:-122.3238949,48.714329
END:VEVENT
BEGIN:VEVENT
DTSTART;TZID=America/Los_Angeles:20260927T110000
DTEND;TZID=America/Los_Angeles:20260928T003000
DTSTAMP:20260422T110530
CREATED:20171023T022851Z
LAST-MODIFIED:20171023T022851Z
UID:50925-1790506800-1790555400@www.suddenvalley.com
SUMMARY:Church Service
DESCRIPTION:
URL:https://www.suddenvalley.com/event/church-service/2026-09-27/
LOCATION:Dance Barn\, 8 Barn View Ct\, Bellingham\, WA\, 98229\, United States
ORGANIZER;CN="Christ the King Community Church":MAILTO:suddenvalley@ctk.church
GEO:48.7152265;-122.3220099
X-APPLE-STRUCTURED-LOCATION;VALUE=URI;X-ADDRESS=Dance Barn 8 Barn View Ct Bellingham WA 98229 United States;X-APPLE-RADIUS=500;X-TITLE=8 Barn View Ct:geo:-122.3220099,48.7152265
END:VEVENT
BEGIN:VEVENT
DTSTART;TZID=America/Los_Angeles:20260928T183000
DTEND;TZID=America/Los_Angeles:20260928T193000
DTSTAMP:20260422T110530
CREATED:20181030T194701Z
LAST-MODIFIED:20181030T194701Z
UID:51685-1790620200-1790623800@www.suddenvalley.com
SUMMARY:Yoga
DESCRIPTION:Instructor: Lea Woodliff: 360-510-0621 or leavanin@hotmail.com
URL:https://www.suddenvalley.com/event/yoga-2/2026-09-28/
LOCATION:Multi-Purpose Room A\, 8 Barnview Court\, Bellingham\, WA\, 98229\, United States
CATEGORIES:Class,Community
GEO:48.7151523;-122.3229482
X-APPLE-STRUCTURED-LOCATION;VALUE=URI;X-ADDRESS=Multi-Purpose Room A 8 Barnview Court Bellingham WA 98229 United States;X-APPLE-RADIUS=500;X-TITLE=8 Barnview Court:geo:-122.3229482,48.7151523
END:VEVENT
BEGIN:VEVENT
DTSTART;TZID=America/Los_Angeles:20260929T190000
DTEND;TZID=America/Los_Angeles:20260929T200000
DTSTAMP:20260422T110530
CREATED:20171023T145205Z
LAST-MODIFIED:20171023T145205Z
UID:52899-1790708400-1790712000@www.suddenvalley.com
SUMMARY:AA Meeting
DESCRIPTION:6-7pm at the South Lake Whatcom Library meeting room.
URL:https://www.suddenvalley.com/event/aa/2026-09-29/
LOCATION:South Whatcom Library\, 10 Barn View Court\, Bellingham\, WA\, 98229\, United States
CATEGORIES:Support
GEO:48.714329;-122.3238949
X-APPLE-STRUCTURED-LOCATION;VALUE=URI;X-ADDRESS=South Whatcom Library 10 Barn View Court Bellingham WA 98229 United States;X-APPLE-RADIUS=500;X-TITLE=10 Barn View Court:geo:-122.3238949,48.714329
END:VEVENT
BEGIN:VEVENT
DTSTART;TZID=America/Los_Angeles:20261001T100000
DTEND;TZID=America/Los_Angeles:20261001T120000
DTSTAMP:20260422T110530
CREATED:20171227T190003Z
LAST-MODIFIED:20171227T190003Z
UID:51872-1790848800-1790856000@www.suddenvalley.com
SUMMARY:Architectural Control Committee Meeting
DESCRIPTION:
URL:https://www.suddenvalley.com/event/architectural-control-committee-meeting/2026-10-01/
LOCATION:El Agave\, 4 Clubhouse Circle\, Bellingham\, WA\, 98229\, United States
CATEGORIES:Committee Meeting
GEO:48.7130441;-122.3269967
X-APPLE-STRUCTURED-LOCATION;VALUE=URI;X-ADDRESS=El Agave 4 Clubhouse Circle Bellingham WA 98229 United States;X-APPLE-RADIUS=500;X-TITLE=4 Clubhouse Circle:geo:-122.3269967,48.7130441
END:VEVENT
BEGIN:VEVENT
DTSTART;TZID=America/Los_Angeles:20261002T093000
DTEND;TZID=America/Los_Angeles:20261002T110000
DTSTAMP:20260422T110530
CREATED:20171023T030635Z
LAST-MODIFIED:20171023T030635Z
UID:54577-1790933400-1790938800@www.suddenvalley.com
SUMMARY:Al Anon
DESCRIPTION:
URL:https://www.suddenvalley.com/event/al-anon/2026-10-02/
LOCATION:Adult Center Meeting Room\, 10 Barn View Court\, Bellingham\, WA\, 98229\, United States
CATEGORIES:Meeting,Support
GEO:48.714329;-122.3238949
X-APPLE-STRUCTURED-LOCATION;VALUE=URI;X-ADDRESS=Adult Center Meeting Room 10 Barn View Court Bellingham WA 98229 United States;X-APPLE-RADIUS=500;X-TITLE=10 Barn View Court:geo:-122.3238949,48.714329
END:VEVENT
BEGIN:VEVENT
DTSTART;TZID=America/Los_Angeles:20261002T100000
DTEND;TZID=America/Los_Angeles:20261002T110000
DTSTAMP:20260422T110530
CREATED:20181026T183722Z
LAST-MODIFIED:20181026T183722Z
UID:52708-1790935200-1790938800@www.suddenvalley.com
SUMMARY:ALANON
DESCRIPTION:
URL:https://www.suddenvalley.com/event/alanon/2026-10-02/
LOCATION:Adult Center Meeting Room\, 10 Barn View Court\, Bellingham\, WA\, 98229\, United States
CATEGORIES:Community,Meeting,Support
GEO:48.714329;-122.3238949
X-APPLE-STRUCTURED-LOCATION;VALUE=URI;X-ADDRESS=Adult Center Meeting Room 10 Barn View Court Bellingham WA 98229 United States;X-APPLE-RADIUS=500;X-TITLE=10 Barn View Court:geo:-122.3238949,48.714329
END:VEVENT
BEGIN:VEVENT
DTSTART;TZID=America/Los_Angeles:20261002T200000
DTEND;TZID=America/Los_Angeles:20261002T220000
DTSTAMP:20260422T110530
CREATED:20171207T004637Z
LAST-MODIFIED:20171207T004637Z
UID:52301-1790971200-1790978400@www.suddenvalley.com
SUMMARY:Sudden Valley Yarn Crafters
DESCRIPTION:We are a group of both novice and advanced knitters and crocheters. We meet every other Friday (excluding the summer months) in the Community Center. We’re very casual and welcome newcomers of any skill level. If you are interested in hanging out\, chatting\, and working on your project\, please join us! We also have a Facebook group where we sometimes share projects or ideas: https://www.facebook.com/groups/138228059981013
URL:https://www.suddenvalley.com/event/sudden-valley-yarn-crafters/2026-10-02/
LOCATION:Community Center\, 8 Barn View Court\, Bellingham\, WA\, 98229\, United States
CATEGORIES:Club
ATTACH;FMTTYPE=image/jpeg:https://www.suddenvalley.com/wp-content/uploads/yarn.jpg
GEO:48.7152265;-122.3220099
X-APPLE-STRUCTURED-LOCATION;VALUE=URI;X-ADDRESS=Community Center 8 Barn View Court Bellingham WA 98229 United States;X-APPLE-RADIUS=500;X-TITLE=8 Barn View Court:geo:-122.3220099,48.7152265
END:VEVENT
BEGIN:VEVENT
DTSTART;TZID=America/Los_Angeles:20261004T110000
DTEND;TZID=America/Los_Angeles:20261005T003000
DTSTAMP:20260422T110530
CREATED:20171023T022851Z
LAST-MODIFIED:20171023T022851Z
UID:50926-1791111600-1791160200@www.suddenvalley.com
SUMMARY:Church Service
DESCRIPTION:
URL:https://www.suddenvalley.com/event/church-service/2026-10-04/
LOCATION:Dance Barn\, 8 Barn View Ct\, Bellingham\, WA\, 98229\, United States
ORGANIZER;CN="Christ the King Community Church":MAILTO:suddenvalley@ctk.church
GEO:48.7152265;-122.3220099
X-APPLE-STRUCTURED-LOCATION;VALUE=URI;X-ADDRESS=Dance Barn 8 Barn View Ct Bellingham WA 98229 United States;X-APPLE-RADIUS=500;X-TITLE=8 Barn View Ct:geo:-122.3220099,48.7152265
END:VEVENT
BEGIN:VEVENT
DTSTART;TZID=America/Los_Angeles:20261005T183000
DTEND;TZID=America/Los_Angeles:20261005T193000
DTSTAMP:20260422T110530
CREATED:20181030T194701Z
LAST-MODIFIED:20181030T194701Z
UID:51687-1791225000-1791228600@www.suddenvalley.com
SUMMARY:Yoga
DESCRIPTION:Instructor: Lea Woodliff: 360-510-0621 or leavanin@hotmail.com
URL:https://www.suddenvalley.com/event/yoga-2/2026-10-05/
LOCATION:Multi-Purpose Room A\, 8 Barnview Court\, Bellingham\, WA\, 98229\, United States
CATEGORIES:Class,Community
GEO:48.7151523;-122.3229482
X-APPLE-STRUCTURED-LOCATION;VALUE=URI;X-ADDRESS=Multi-Purpose Room A 8 Barnview Court Bellingham WA 98229 United States;X-APPLE-RADIUS=500;X-TITLE=8 Barnview Court:geo:-122.3229482,48.7151523
END:VEVENT
BEGIN:VEVENT
DTSTART;TZID=America/Los_Angeles:20261006T190000
DTEND;TZID=America/Los_Angeles:20261006T200000
DTSTAMP:20260422T110530
CREATED:20171023T145205Z
LAST-MODIFIED:20171023T145205Z
UID:52900-1791313200-1791316800@www.suddenvalley.com
SUMMARY:AA Meeting
DESCRIPTION:6-7pm at the South Lake Whatcom Library meeting room.
URL:https://www.suddenvalley.com/event/aa/2026-10-06/
LOCATION:South Whatcom Library\, 10 Barn View Court\, Bellingham\, WA\, 98229\, United States
CATEGORIES:Support
GEO:48.714329;-122.3238949
X-APPLE-STRUCTURED-LOCATION;VALUE=URI;X-ADDRESS=South Whatcom Library 10 Barn View Court Bellingham WA 98229 United States;X-APPLE-RADIUS=500;X-TITLE=10 Barn View Court:geo:-122.3238949,48.714329
END:VEVENT
BEGIN:VEVENT
DTSTART;TZID=America/Los_Angeles:20261008T200000
DTEND;TZID=America/Los_Angeles:20261008T230000
DTSTAMP:20260422T110530
CREATED:20171023T164517Z
LAST-MODIFIED:20171023T164517Z
UID:53172-1791489600-1791500400@www.suddenvalley.com
SUMMARY:Board Meeting
DESCRIPTION:
URL:https://www.suddenvalley.com/event/board-meeting/2026-10-08/
LOCATION:Dance Barn\, 8 Barn View Ct\, Bellingham\, WA\, 98229\, United States
CATEGORIES:Board Meeting
ORGANIZER;CN="Sudden Valley Community Association":MAILTO:office@suddenvalley.com
GEO:48.7152265;-122.3220099
X-APPLE-STRUCTURED-LOCATION;VALUE=URI;X-ADDRESS=Dance Barn 8 Barn View Ct Bellingham WA 98229 United States;X-APPLE-RADIUS=500;X-TITLE=8 Barn View Ct:geo:-122.3220099,48.7152265
END:VEVENT
BEGIN:VEVENT
DTSTART;TZID=America/Los_Angeles:20261009T093000
DTEND;TZID=America/Los_Angeles:20261009T110000
DTSTAMP:20260422T110530
CREATED:20171023T030635Z
LAST-MODIFIED:20171023T030635Z
UID:54578-1791538200-1791543600@www.suddenvalley.com
SUMMARY:Al Anon
DESCRIPTION:
URL:https://www.suddenvalley.com/event/al-anon/2026-10-09/
LOCATION:Adult Center Meeting Room\, 10 Barn View Court\, Bellingham\, WA\, 98229\, United States
CATEGORIES:Meeting,Support
GEO:48.714329;-122.3238949
X-APPLE-STRUCTURED-LOCATION;VALUE=URI;X-ADDRESS=Adult Center Meeting Room 10 Barn View Court Bellingham WA 98229 United States;X-APPLE-RADIUS=500;X-TITLE=10 Barn View Court:geo:-122.3238949,48.714329
END:VEVENT
BEGIN:VEVENT
DTSTART;TZID=America/Los_Angeles:20261009T100000
DTEND;TZID=America/Los_Angeles:20261009T110000
DTSTAMP:20260422T110530
CREATED:20181026T183722Z
LAST-MODIFIED:20181026T183722Z
UID:52709-1791540000-1791543600@www.suddenvalley.com
SUMMARY:ALANON
DESCRIPTION:
URL:https://www.suddenvalley.com/event/alanon/2026-10-09/
LOCATION:Adult Center Meeting Room\, 10 Barn View Court\, Bellingham\, WA\, 98229\, United States
CATEGORIES:Community,Meeting,Support
GEO:48.714329;-122.3238949
X-APPLE-STRUCTURED-LOCATION;VALUE=URI;X-ADDRESS=Adult Center Meeting Room 10 Barn View Court Bellingham WA 98229 United States;X-APPLE-RADIUS=500;X-TITLE=10 Barn View Court:geo:-122.3238949,48.714329
END:VEVENT
END:VCALENDAR