BEGIN:VCALENDAR
VERSION:2.0
PRODID:-//Sudden Valley Community Association - ECPv6.15.20//NONSGML v1.0//EN
CALSCALE:GREGORIAN
METHOD:PUBLISH
X-WR-CALNAME:Sudden Valley Community Association
X-ORIGINAL-URL:https://www.suddenvalley.com
X-WR-CALDESC:Events for Sudden Valley Community Association
REFRESH-INTERVAL;VALUE=DURATION:PT1H
X-Robots-Tag:noindex
X-PUBLISHED-TTL:PT1H
BEGIN:VTIMEZONE
TZID:America/Los_Angeles
BEGIN:DAYLIGHT
TZOFFSETFROM:-0800
TZOFFSETTO:-0700
TZNAME:PDT
DTSTART:20240310T100000
END:DAYLIGHT
BEGIN:STANDARD
TZOFFSETFROM:-0700
TZOFFSETTO:-0800
TZNAME:PST
DTSTART:20241103T090000
END:STANDARD
BEGIN:DAYLIGHT
TZOFFSETFROM:-0800
TZOFFSETTO:-0700
TZNAME:PDT
DTSTART:20250309T100000
END:DAYLIGHT
BEGIN:STANDARD
TZOFFSETFROM:-0700
TZOFFSETTO:-0800
TZNAME:PST
DTSTART:20251102T090000
END:STANDARD
BEGIN:DAYLIGHT
TZOFFSETFROM:-0800
TZOFFSETTO:-0700
TZNAME:PDT
DTSTART:20260308T100000
END:DAYLIGHT
BEGIN:STANDARD
TZOFFSETFROM:-0700
TZOFFSETTO:-0800
TZNAME:PST
DTSTART:20261101T090000
END:STANDARD
END:VTIMEZONE
BEGIN:VEVENT
DTSTART;TZID=America/Los_Angeles:20251230T180000
DTEND;TZID=America/Los_Angeles:20251230T190000
DTSTAMP:20260422T111120
CREATED:20171023T145205Z
LAST-MODIFIED:20171023T145205Z
UID:52859-1767117600-1767121200@www.suddenvalley.com
SUMMARY:AA Meeting
DESCRIPTION:6-7pm at the South Lake Whatcom Library meeting room.
URL:https://www.suddenvalley.com/event/aa/2025-12-30/
LOCATION:South Whatcom Library\, 10 Barn View Court\, Bellingham\, WA\, 98229\, United States
CATEGORIES:Support
GEO:48.714329;-122.3238949
X-APPLE-STRUCTURED-LOCATION;VALUE=URI;X-ADDRESS=South Whatcom Library 10 Barn View Court Bellingham WA 98229 United States;X-APPLE-RADIUS=500;X-TITLE=10 Barn View Court:geo:-122.3238949,48.714329
END:VEVENT
BEGIN:VEVENT
DTSTART;TZID=America/Los_Angeles:20251229T173000
DTEND;TZID=America/Los_Angeles:20251229T183000
DTSTAMP:20260422T111120
CREATED:20181030T194701Z
LAST-MODIFIED:20181030T194701Z
UID:51644-1767029400-1767033000@www.suddenvalley.com
SUMMARY:Yoga
DESCRIPTION:Instructor: Lea Woodliff: 360-510-0621 or leavanin@hotmail.com
URL:https://www.suddenvalley.com/event/yoga-2/2025-12-29/
LOCATION:Multi-Purpose Room A\, 8 Barnview Court\, Bellingham\, WA\, 98229\, United States
CATEGORIES:Class,Community
GEO:48.7151523;-122.3229482
X-APPLE-STRUCTURED-LOCATION;VALUE=URI;X-ADDRESS=Multi-Purpose Room A 8 Barnview Court Bellingham WA 98229 United States;X-APPLE-RADIUS=500;X-TITLE=8 Barnview Court:geo:-122.3229482,48.7151523
END:VEVENT
BEGIN:VEVENT
DTSTART;TZID=America/Los_Angeles:20251226T190000
DTEND;TZID=America/Los_Angeles:20251226T210000
DTSTAMP:20260422T111120
CREATED:20171207T004637Z
LAST-MODIFIED:20171207T004637Z
UID:52280-1766775600-1766782800@www.suddenvalley.com
SUMMARY:Sudden Valley Yarn Crafters
DESCRIPTION:We are a group of both novice and advanced knitters and crocheters. We meet every other Friday (excluding the summer months) in the Community Center. We’re very casual and welcome newcomers of any skill level. If you are interested in hanging out\, chatting\, and working on your project\, please join us! We also have a Facebook group where we sometimes share projects or ideas: https://www.facebook.com/groups/138228059981013
URL:https://www.suddenvalley.com/event/sudden-valley-yarn-crafters/2025-12-26/
LOCATION:Community Center\, 8 Barn View Court\, Bellingham\, WA\, 98229\, United States
CATEGORIES:Club
ATTACH;FMTTYPE=image/jpeg:https://www.suddenvalley.com/wp-content/uploads/yarn.jpg
GEO:48.7152265;-122.3220099
X-APPLE-STRUCTURED-LOCATION;VALUE=URI;X-ADDRESS=Community Center 8 Barn View Court Bellingham WA 98229 United States;X-APPLE-RADIUS=500;X-TITLE=8 Barn View Court:geo:-122.3220099,48.7152265
END:VEVENT
BEGIN:VEVENT
DTSTART;TZID=America/Los_Angeles:20251226T090000
DTEND;TZID=America/Los_Angeles:20251226T100000
DTSTAMP:20260422T111120
CREATED:20181026T183722Z
LAST-MODIFIED:20181026T183722Z
UID:52668-1766739600-1766743200@www.suddenvalley.com
SUMMARY:ALANON
DESCRIPTION:
URL:https://www.suddenvalley.com/event/alanon/2025-12-26/
LOCATION:Adult Center Meeting Room\, 10 Barn View Court\, Bellingham\, WA\, 98229\, United States
CATEGORIES:Community,Meeting,Support
GEO:48.714329;-122.3238949
X-APPLE-STRUCTURED-LOCATION;VALUE=URI;X-ADDRESS=Adult Center Meeting Room 10 Barn View Court Bellingham WA 98229 United States;X-APPLE-RADIUS=500;X-TITLE=10 Barn View Court:geo:-122.3238949,48.714329
END:VEVENT
BEGIN:VEVENT
DTSTART;TZID=America/Los_Angeles:20251226T083000
DTEND;TZID=America/Los_Angeles:20251226T100000
DTSTAMP:20260422T111120
CREATED:20171023T030635Z
LAST-MODIFIED:20171023T030635Z
UID:54537-1766737800-1766743200@www.suddenvalley.com
SUMMARY:Al Anon
DESCRIPTION:
URL:https://www.suddenvalley.com/event/al-anon/2025-12-26/
LOCATION:Adult Center Meeting Room\, 10 Barn View Court\, Bellingham\, WA\, 98229\, United States
CATEGORIES:Meeting,Support
GEO:48.714329;-122.3238949
X-APPLE-STRUCTURED-LOCATION;VALUE=URI;X-ADDRESS=Adult Center Meeting Room 10 Barn View Court Bellingham WA 98229 United States;X-APPLE-RADIUS=500;X-TITLE=10 Barn View Court:geo:-122.3238949,48.714329
END:VEVENT
BEGIN:VEVENT
DTSTART;TZID=America/Los_Angeles:20251223T180000
DTEND;TZID=America/Los_Angeles:20251223T190000
DTSTAMP:20260422T111120
CREATED:20171023T145205Z
LAST-MODIFIED:20171023T145205Z
UID:52858-1766512800-1766516400@www.suddenvalley.com
SUMMARY:AA Meeting
DESCRIPTION:6-7pm at the South Lake Whatcom Library meeting room.
URL:https://www.suddenvalley.com/event/aa/2025-12-23/
LOCATION:South Whatcom Library\, 10 Barn View Court\, Bellingham\, WA\, 98229\, United States
CATEGORIES:Support
GEO:48.714329;-122.3238949
X-APPLE-STRUCTURED-LOCATION;VALUE=URI;X-ADDRESS=South Whatcom Library 10 Barn View Court Bellingham WA 98229 United States;X-APPLE-RADIUS=500;X-TITLE=10 Barn View Court:geo:-122.3238949,48.714329
END:VEVENT
BEGIN:VEVENT
DTSTART;TZID=America/Los_Angeles:20251222T173000
DTEND;TZID=America/Los_Angeles:20251222T183000
DTSTAMP:20260422T111120
CREATED:20181030T194701Z
LAST-MODIFIED:20181030T194701Z
UID:51643-1766424600-1766428200@www.suddenvalley.com
SUMMARY:Yoga
DESCRIPTION:Instructor: Lea Woodliff: 360-510-0621 or leavanin@hotmail.com
URL:https://www.suddenvalley.com/event/yoga-2/2025-12-22/
LOCATION:Multi-Purpose Room A\, 8 Barnview Court\, Bellingham\, WA\, 98229\, United States
CATEGORIES:Class,Community
GEO:48.7151523;-122.3229482
X-APPLE-STRUCTURED-LOCATION;VALUE=URI;X-ADDRESS=Multi-Purpose Room A 8 Barnview Court Bellingham WA 98229 United States;X-APPLE-RADIUS=500;X-TITLE=8 Barnview Court:geo:-122.3229482,48.7151523
END:VEVENT
BEGIN:VEVENT
DTSTART;TZID=America/Los_Angeles:20251219T090000
DTEND;TZID=America/Los_Angeles:20251219T100000
DTSTAMP:20260422T111120
CREATED:20181026T183722Z
LAST-MODIFIED:20181026T183722Z
UID:52667-1766134800-1766138400@www.suddenvalley.com
SUMMARY:ALANON
DESCRIPTION:
URL:https://www.suddenvalley.com/event/alanon/2025-12-19/
LOCATION:Adult Center Meeting Room\, 10 Barn View Court\, Bellingham\, WA\, 98229\, United States
CATEGORIES:Community,Meeting,Support
GEO:48.714329;-122.3238949
X-APPLE-STRUCTURED-LOCATION;VALUE=URI;X-ADDRESS=Adult Center Meeting Room 10 Barn View Court Bellingham WA 98229 United States;X-APPLE-RADIUS=500;X-TITLE=10 Barn View Court:geo:-122.3238949,48.714329
END:VEVENT
BEGIN:VEVENT
DTSTART;TZID=America/Los_Angeles:20251219T083000
DTEND;TZID=America/Los_Angeles:20251219T100000
DTSTAMP:20260422T111120
CREATED:20171023T030635Z
LAST-MODIFIED:20171023T030635Z
UID:54536-1766133000-1766138400@www.suddenvalley.com
SUMMARY:Al Anon
DESCRIPTION:
URL:https://www.suddenvalley.com/event/al-anon/2025-12-19/
LOCATION:Adult Center Meeting Room\, 10 Barn View Court\, Bellingham\, WA\, 98229\, United States
CATEGORIES:Meeting,Support
GEO:48.714329;-122.3238949
X-APPLE-STRUCTURED-LOCATION;VALUE=URI;X-ADDRESS=Adult Center Meeting Room 10 Barn View Court Bellingham WA 98229 United States;X-APPLE-RADIUS=500;X-TITLE=10 Barn View Court:geo:-122.3238949,48.714329
END:VEVENT
BEGIN:VEVENT
DTSTART;TZID=America/Los_Angeles:20251218T180000
DTEND;TZID=America/Los_Angeles:20251218T200000
DTSTAMP:20260422T111120
CREATED:20171227T190121Z
LAST-MODIFIED:20171227T190121Z
UID:50444-1766080800-1766088000@www.suddenvalley.com
SUMMARY:Architectural Control  Committee Meeting
DESCRIPTION:
URL:https://www.suddenvalley.com/event/architectural-control-committee-meeting-2/2025-12-18/
LOCATION:Multi-Purpose Room\, 8 Barn View Drive\, Bellingham\, WA\, 98229\, United States
GEO:48.7152265;-122.3220099
X-APPLE-STRUCTURED-LOCATION;VALUE=URI;X-ADDRESS=Multi-Purpose Room 8 Barn View Drive Bellingham WA 98229 United States;X-APPLE-RADIUS=500;X-TITLE=8 Barn View Drive:geo:-122.3220099,48.7152265
END:VEVENT
BEGIN:VEVENT
DTSTART;TZID=America/Los_Angeles:20251216T180000
DTEND;TZID=America/Los_Angeles:20251216T190000
DTSTAMP:20260422T111120
CREATED:20171023T145205Z
LAST-MODIFIED:20171023T145205Z
UID:52857-1765908000-1765911600@www.suddenvalley.com
SUMMARY:AA Meeting
DESCRIPTION:6-7pm at the South Lake Whatcom Library meeting room.
URL:https://www.suddenvalley.com/event/aa/2025-12-16/
LOCATION:South Whatcom Library\, 10 Barn View Court\, Bellingham\, WA\, 98229\, United States
CATEGORIES:Support
GEO:48.714329;-122.3238949
X-APPLE-STRUCTURED-LOCATION;VALUE=URI;X-ADDRESS=South Whatcom Library 10 Barn View Court Bellingham WA 98229 United States;X-APPLE-RADIUS=500;X-TITLE=10 Barn View Court:geo:-122.3238949,48.714329
END:VEVENT
BEGIN:VEVENT
DTSTART;TZID=America/Los_Angeles:20251215T190000
DTEND;TZID=America/Los_Angeles:20251215T203000
DTSTAMP:20260422T111120
CREATED:20180117T183940Z
LAST-MODIFIED:20180117T183940Z
UID:53741-1765825200-1765830600@www.suddenvalley.com
SUMMARY:N&E Committee Meeting
DESCRIPTION:
URL:https://www.suddenvalley.com/event/ne-committee-meeting-2-2018-11-19/2025-12-15/
LOCATION:Coffee Shop
END:VEVENT
BEGIN:VEVENT
DTSTART;TZID=America/Los_Angeles:20251215T173000
DTEND;TZID=America/Los_Angeles:20251215T183000
DTSTAMP:20260422T111120
CREATED:20181030T194701Z
LAST-MODIFIED:20181030T194701Z
UID:51642-1765819800-1765823400@www.suddenvalley.com
SUMMARY:Yoga
DESCRIPTION:Instructor: Lea Woodliff: 360-510-0621 or leavanin@hotmail.com
URL:https://www.suddenvalley.com/event/yoga-2/2025-12-15/
LOCATION:Multi-Purpose Room A\, 8 Barnview Court\, Bellingham\, WA\, 98229\, United States
CATEGORIES:Class,Community
GEO:48.7151523;-122.3229482
X-APPLE-STRUCTURED-LOCATION;VALUE=URI;X-ADDRESS=Multi-Purpose Room A 8 Barnview Court Bellingham WA 98229 United States;X-APPLE-RADIUS=500;X-TITLE=8 Barnview Court:geo:-122.3229482,48.7151523
END:VEVENT
BEGIN:VEVENT
DTSTART;TZID=America/Los_Angeles:20251212T190000
DTEND;TZID=America/Los_Angeles:20251212T210000
DTSTAMP:20260422T111120
CREATED:20171207T004637Z
LAST-MODIFIED:20171207T004637Z
UID:52279-1765566000-1765573200@www.suddenvalley.com
SUMMARY:Sudden Valley Yarn Crafters
DESCRIPTION:We are a group of both novice and advanced knitters and crocheters. We meet every other Friday (excluding the summer months) in the Community Center. We’re very casual and welcome newcomers of any skill level. If you are interested in hanging out\, chatting\, and working on your project\, please join us! We also have a Facebook group where we sometimes share projects or ideas: https://www.facebook.com/groups/138228059981013
URL:https://www.suddenvalley.com/event/sudden-valley-yarn-crafters/2025-12-12/
LOCATION:Community Center\, 8 Barn View Court\, Bellingham\, WA\, 98229\, United States
CATEGORIES:Club
ATTACH;FMTTYPE=image/jpeg:https://www.suddenvalley.com/wp-content/uploads/yarn.jpg
GEO:48.7152265;-122.3220099
X-APPLE-STRUCTURED-LOCATION;VALUE=URI;X-ADDRESS=Community Center 8 Barn View Court Bellingham WA 98229 United States;X-APPLE-RADIUS=500;X-TITLE=8 Barn View Court:geo:-122.3220099,48.7152265
END:VEVENT
BEGIN:VEVENT
DTSTART;TZID=America/Los_Angeles:20251212T090000
DTEND;TZID=America/Los_Angeles:20251212T100000
DTSTAMP:20260422T111120
CREATED:20181026T183722Z
LAST-MODIFIED:20181026T183722Z
UID:52666-1765530000-1765533600@www.suddenvalley.com
SUMMARY:ALANON
DESCRIPTION:
URL:https://www.suddenvalley.com/event/alanon/2025-12-12/
LOCATION:Adult Center Meeting Room\, 10 Barn View Court\, Bellingham\, WA\, 98229\, United States
CATEGORIES:Community,Meeting,Support
GEO:48.714329;-122.3238949
X-APPLE-STRUCTURED-LOCATION;VALUE=URI;X-ADDRESS=Adult Center Meeting Room 10 Barn View Court Bellingham WA 98229 United States;X-APPLE-RADIUS=500;X-TITLE=10 Barn View Court:geo:-122.3238949,48.714329
END:VEVENT
BEGIN:VEVENT
DTSTART;TZID=America/Los_Angeles:20251212T083000
DTEND;TZID=America/Los_Angeles:20251212T100000
DTSTAMP:20260422T111120
CREATED:20171023T030635Z
LAST-MODIFIED:20171023T030635Z
UID:54535-1765528200-1765533600@www.suddenvalley.com
SUMMARY:Al Anon
DESCRIPTION:
URL:https://www.suddenvalley.com/event/al-anon/2025-12-12/
LOCATION:Adult Center Meeting Room\, 10 Barn View Court\, Bellingham\, WA\, 98229\, United States
CATEGORIES:Meeting,Support
GEO:48.714329;-122.3238949
X-APPLE-STRUCTURED-LOCATION;VALUE=URI;X-ADDRESS=Adult Center Meeting Room 10 Barn View Court Bellingham WA 98229 United States;X-APPLE-RADIUS=500;X-TITLE=10 Barn View Court:geo:-122.3238949,48.714329
END:VEVENT
BEGIN:VEVENT
DTSTART;TZID=America/Los_Angeles:20251211T190000
DTEND;TZID=America/Los_Angeles:20251211T220000
DTSTAMP:20260422T111120
CREATED:20171023T164517Z
LAST-MODIFIED:20171023T164517Z
UID:53162-1765479600-1765490400@www.suddenvalley.com
SUMMARY:Board Meeting
DESCRIPTION:
URL:https://www.suddenvalley.com/event/board-meeting/2025-12-11/
LOCATION:Dance Barn\, 8 Barn View Ct\, Bellingham\, WA\, 98229\, United States
CATEGORIES:Board Meeting
ORGANIZER;CN="Sudden Valley Community Association":MAILTO:office@suddenvalley.com
GEO:48.7152265;-122.3220099
X-APPLE-STRUCTURED-LOCATION;VALUE=URI;X-ADDRESS=Dance Barn 8 Barn View Ct Bellingham WA 98229 United States;X-APPLE-RADIUS=500;X-TITLE=8 Barn View Ct:geo:-122.3220099,48.7152265
END:VEVENT
BEGIN:VEVENT
DTSTART;TZID=America/Los_Angeles:20251209T180000
DTEND;TZID=America/Los_Angeles:20251209T190000
DTSTAMP:20260422T111120
CREATED:20171023T145205Z
LAST-MODIFIED:20171023T145205Z
UID:52856-1765303200-1765306800@www.suddenvalley.com
SUMMARY:AA Meeting
DESCRIPTION:6-7pm at the South Lake Whatcom Library meeting room.
URL:https://www.suddenvalley.com/event/aa/2025-12-09/
LOCATION:South Whatcom Library\, 10 Barn View Court\, Bellingham\, WA\, 98229\, United States
CATEGORIES:Support
GEO:48.714329;-122.3238949
X-APPLE-STRUCTURED-LOCATION;VALUE=URI;X-ADDRESS=South Whatcom Library 10 Barn View Court Bellingham WA 98229 United States;X-APPLE-RADIUS=500;X-TITLE=10 Barn View Court:geo:-122.3238949,48.714329
END:VEVENT
BEGIN:VEVENT
DTSTART;TZID=America/Los_Angeles:20251209T090000
DTEND;TZID=America/Los_Angeles:20251209T100000
DTSTAMP:20260422T111120
CREATED:20171023T155103Z
LAST-MODIFIED:20171023T155103Z
UID:53249-1765270800-1765274400@www.suddenvalley.com
SUMMARY:Emergency Preparedness Committee Meeting
DESCRIPTION:
URL:https://www.suddenvalley.com/event/emergency-preparedness-committee-meeting/2025-12-09/
LOCATION:South Whatcom Fire Authority\, 2050 Lake Whatcom Boulevard\, Bellingham\, WA\, 98229\, United States
CATEGORIES:Committee Meeting
GEO:48.7157453;-122.3322639
X-APPLE-STRUCTURED-LOCATION;VALUE=URI;X-ADDRESS=South Whatcom Fire Authority 2050 Lake Whatcom Boulevard Bellingham WA 98229 United States;X-APPLE-RADIUS=500;X-TITLE=2050 Lake Whatcom Boulevard:geo:-122.3322639,48.7157453
END:VEVENT
BEGIN:VEVENT
DTSTART;TZID=America/Los_Angeles:20251208T183000
DTEND;TZID=America/Los_Angeles:20251208T200000
DTSTAMP:20260422T111120
CREATED:20190311T143647Z
LAST-MODIFIED:20190311T143647Z
UID:53827-1765218600-1765224000@www.suddenvalley.com
SUMMARY:Document Review Committee Meeting
DESCRIPTION:
URL:https://www.suddenvalley.com/event/document-review-committee-meeting-6/2025-12-08/
LOCATION:Community Center Lounge\, WA\, United States
CATEGORIES:Committee Meeting
GEO:47.7510741;-120.7401385
END:VEVENT
BEGIN:VEVENT
DTSTART;TZID=America/Los_Angeles:20251208T173000
DTEND;TZID=America/Los_Angeles:20251208T183000
DTSTAMP:20260422T111120
CREATED:20181030T194701Z
LAST-MODIFIED:20181030T194701Z
UID:51641-1765215000-1765218600@www.suddenvalley.com
SUMMARY:Yoga
DESCRIPTION:Instructor: Lea Woodliff: 360-510-0621 or leavanin@hotmail.com
URL:https://www.suddenvalley.com/event/yoga-2/2025-12-08/
LOCATION:Multi-Purpose Room A\, 8 Barnview Court\, Bellingham\, WA\, 98229\, United States
CATEGORIES:Class,Community
GEO:48.7151523;-122.3229482
X-APPLE-STRUCTURED-LOCATION;VALUE=URI;X-ADDRESS=Multi-Purpose Room A 8 Barnview Court Bellingham WA 98229 United States;X-APPLE-RADIUS=500;X-TITLE=8 Barnview Court:geo:-122.3229482,48.7151523
END:VEVENT
BEGIN:VEVENT
DTSTART;TZID=America/Los_Angeles:20251206T170000
DTEND;TZID=America/Los_Angeles:20251206T190000
DTSTAMP:20260422T111120
CREATED:20251031T214816Z
LAST-MODIFIED:20251114T211700Z
UID:47803-1765040400-1765047600@www.suddenvalley.com
SUMMARY:Sudden Valley Tree Lighting
DESCRIPTION:
URL:https://www.suddenvalley.com/event/tree-lighting/
LOCATION:8 Barn View Ct\, 8 Barn View Ct\, Bellingham\, WA\, 98229\, United States
ATTACH;FMTTYPE=image/png:https://www.suddenvalley.com/wp-content/uploads/Tree-Lighting.png
END:VEVENT
BEGIN:VEVENT
DTSTART;TZID=America/Los_Angeles:20251205T090000
DTEND;TZID=America/Los_Angeles:20251205T100000
DTSTAMP:20260422T111120
CREATED:20181026T183722Z
LAST-MODIFIED:20181026T183722Z
UID:52665-1764925200-1764928800@www.suddenvalley.com
SUMMARY:ALANON
DESCRIPTION:
URL:https://www.suddenvalley.com/event/alanon/2025-12-05/
LOCATION:Adult Center Meeting Room\, 10 Barn View Court\, Bellingham\, WA\, 98229\, United States
CATEGORIES:Community,Meeting,Support
GEO:48.714329;-122.3238949
X-APPLE-STRUCTURED-LOCATION;VALUE=URI;X-ADDRESS=Adult Center Meeting Room 10 Barn View Court Bellingham WA 98229 United States;X-APPLE-RADIUS=500;X-TITLE=10 Barn View Court:geo:-122.3238949,48.714329
END:VEVENT
BEGIN:VEVENT
DTSTART;TZID=America/Los_Angeles:20251205T083000
DTEND;TZID=America/Los_Angeles:20251205T100000
DTSTAMP:20260422T111120
CREATED:20171023T030635Z
LAST-MODIFIED:20171023T030635Z
UID:54534-1764923400-1764928800@www.suddenvalley.com
SUMMARY:Al Anon
DESCRIPTION:
URL:https://www.suddenvalley.com/event/al-anon/2025-12-05/
LOCATION:Adult Center Meeting Room\, 10 Barn View Court\, Bellingham\, WA\, 98229\, United States
CATEGORIES:Meeting,Support
GEO:48.714329;-122.3238949
X-APPLE-STRUCTURED-LOCATION;VALUE=URI;X-ADDRESS=Adult Center Meeting Room 10 Barn View Court Bellingham WA 98229 United States;X-APPLE-RADIUS=500;X-TITLE=10 Barn View Court:geo:-122.3238949,48.714329
END:VEVENT
BEGIN:VEVENT
DTSTART;TZID=America/Los_Angeles:20251204T090000
DTEND;TZID=America/Los_Angeles:20251204T110000
DTSTAMP:20260422T111120
CREATED:20171227T190003Z
LAST-MODIFIED:20171227T190003Z
UID:51862-1764838800-1764846000@www.suddenvalley.com
SUMMARY:Architectural Control Committee Meeting
DESCRIPTION:
URL:https://www.suddenvalley.com/event/architectural-control-committee-meeting/2025-12-04/
LOCATION:El Agave\, 4 Clubhouse Circle\, Bellingham\, WA\, 98229\, United States
CATEGORIES:Committee Meeting
GEO:48.7130441;-122.3269967
X-APPLE-STRUCTURED-LOCATION;VALUE=URI;X-ADDRESS=El Agave 4 Clubhouse Circle Bellingham WA 98229 United States;X-APPLE-RADIUS=500;X-TITLE=4 Clubhouse Circle:geo:-122.3269967,48.7130441
END:VEVENT
BEGIN:VEVENT
DTSTART;TZID=America/Los_Angeles:20251202T180000
DTEND;TZID=America/Los_Angeles:20251202T190000
DTSTAMP:20260422T111120
CREATED:20171023T145205Z
LAST-MODIFIED:20171023T145205Z
UID:52855-1764698400-1764702000@www.suddenvalley.com
SUMMARY:AA Meeting
DESCRIPTION:6-7pm at the South Lake Whatcom Library meeting room.
URL:https://www.suddenvalley.com/event/aa/2025-12-02/
LOCATION:South Whatcom Library\, 10 Barn View Court\, Bellingham\, WA\, 98229\, United States
CATEGORIES:Support
GEO:48.714329;-122.3238949
X-APPLE-STRUCTURED-LOCATION;VALUE=URI;X-ADDRESS=South Whatcom Library 10 Barn View Court Bellingham WA 98229 United States;X-APPLE-RADIUS=500;X-TITLE=10 Barn View Court:geo:-122.3238949,48.714329
END:VEVENT
BEGIN:VEVENT
DTSTART;TZID=America/Los_Angeles:20251201T173000
DTEND;TZID=America/Los_Angeles:20251201T183000
DTSTAMP:20260422T111120
CREATED:20181030T194701Z
LAST-MODIFIED:20181030T194701Z
UID:51640-1764610200-1764613800@www.suddenvalley.com
SUMMARY:Yoga
DESCRIPTION:Instructor: Lea Woodliff: 360-510-0621 or leavanin@hotmail.com
URL:https://www.suddenvalley.com/event/yoga-2/2025-12-01/
LOCATION:Multi-Purpose Room A\, 8 Barnview Court\, Bellingham\, WA\, 98229\, United States
CATEGORIES:Class,Community
GEO:48.7151523;-122.3229482
X-APPLE-STRUCTURED-LOCATION;VALUE=URI;X-ADDRESS=Multi-Purpose Room A 8 Barnview Court Bellingham WA 98229 United States;X-APPLE-RADIUS=500;X-TITLE=8 Barnview Court:geo:-122.3229482,48.7151523
END:VEVENT
BEGIN:VEVENT
DTSTART;TZID=America/Los_Angeles:20251128T190000
DTEND;TZID=America/Los_Angeles:20251128T210000
DTSTAMP:20260422T111120
CREATED:20171207T004637Z
LAST-MODIFIED:20171207T004637Z
UID:52278-1764356400-1764363600@www.suddenvalley.com
SUMMARY:Sudden Valley Yarn Crafters
DESCRIPTION:We are a group of both novice and advanced knitters and crocheters. We meet every other Friday (excluding the summer months) in the Community Center. We’re very casual and welcome newcomers of any skill level. If you are interested in hanging out\, chatting\, and working on your project\, please join us! We also have a Facebook group where we sometimes share projects or ideas: https://www.facebook.com/groups/138228059981013
URL:https://www.suddenvalley.com/event/sudden-valley-yarn-crafters/2025-11-28/
LOCATION:Community Center\, 8 Barn View Court\, Bellingham\, WA\, 98229\, United States
CATEGORIES:Club
ATTACH;FMTTYPE=image/jpeg:https://www.suddenvalley.com/wp-content/uploads/yarn.jpg
GEO:48.7152265;-122.3220099
X-APPLE-STRUCTURED-LOCATION;VALUE=URI;X-ADDRESS=Community Center 8 Barn View Court Bellingham WA 98229 United States;X-APPLE-RADIUS=500;X-TITLE=8 Barn View Court:geo:-122.3220099,48.7152265
END:VEVENT
BEGIN:VEVENT
DTSTART;TZID=America/Los_Angeles:20251128T090000
DTEND;TZID=America/Los_Angeles:20251128T100000
DTSTAMP:20260422T111120
CREATED:20181026T183722Z
LAST-MODIFIED:20181026T183722Z
UID:52664-1764320400-1764324000@www.suddenvalley.com
SUMMARY:ALANON
DESCRIPTION:
URL:https://www.suddenvalley.com/event/alanon/2025-11-28/
LOCATION:Adult Center Meeting Room\, 10 Barn View Court\, Bellingham\, WA\, 98229\, United States
CATEGORIES:Community,Meeting,Support
GEO:48.714329;-122.3238949
X-APPLE-STRUCTURED-LOCATION;VALUE=URI;X-ADDRESS=Adult Center Meeting Room 10 Barn View Court Bellingham WA 98229 United States;X-APPLE-RADIUS=500;X-TITLE=10 Barn View Court:geo:-122.3238949,48.714329
END:VEVENT
BEGIN:VEVENT
DTSTART;TZID=America/Los_Angeles:20251128T083000
DTEND;TZID=America/Los_Angeles:20251128T100000
DTSTAMP:20260422T111120
CREATED:20171023T030635Z
LAST-MODIFIED:20171023T030635Z
UID:54533-1764318600-1764324000@www.suddenvalley.com
SUMMARY:Al Anon
DESCRIPTION:
URL:https://www.suddenvalley.com/event/al-anon/2025-11-28/
LOCATION:Adult Center Meeting Room\, 10 Barn View Court\, Bellingham\, WA\, 98229\, United States
CATEGORIES:Meeting,Support
GEO:48.714329;-122.3238949
X-APPLE-STRUCTURED-LOCATION;VALUE=URI;X-ADDRESS=Adult Center Meeting Room 10 Barn View Court Bellingham WA 98229 United States;X-APPLE-RADIUS=500;X-TITLE=10 Barn View Court:geo:-122.3238949,48.714329
END:VEVENT
END:VCALENDAR