BEGIN:VCALENDAR
VERSION:2.0
PRODID:-//Sudden Valley Community Association - ECPv6.15.20//NONSGML v1.0//EN
CALSCALE:GREGORIAN
METHOD:PUBLISH
X-ORIGINAL-URL:https://www.suddenvalley.com
X-WR-CALDESC:Events for Sudden Valley Community Association
REFRESH-INTERVAL;VALUE=DURATION:PT1H
X-Robots-Tag:noindex
X-PUBLISHED-TTL:PT1H
BEGIN:VTIMEZONE
TZID:America/Los_Angeles
BEGIN:DAYLIGHT
TZOFFSETFROM:-0800
TZOFFSETTO:-0700
TZNAME:PDT
DTSTART:20250309T100000
END:DAYLIGHT
BEGIN:STANDARD
TZOFFSETFROM:-0700
TZOFFSETTO:-0800
TZNAME:PST
DTSTART:20251102T090000
END:STANDARD
BEGIN:DAYLIGHT
TZOFFSETFROM:-0800
TZOFFSETTO:-0700
TZNAME:PDT
DTSTART:20260308T100000
END:DAYLIGHT
BEGIN:STANDARD
TZOFFSETFROM:-0700
TZOFFSETTO:-0800
TZNAME:PST
DTSTART:20261101T090000
END:STANDARD
BEGIN:DAYLIGHT
TZOFFSETFROM:-0800
TZOFFSETTO:-0700
TZNAME:PDT
DTSTART:20270314T100000
END:DAYLIGHT
BEGIN:STANDARD
TZOFFSETFROM:-0700
TZOFFSETTO:-0800
TZNAME:PST
DTSTART:20271107T090000
END:STANDARD
END:VTIMEZONE
BEGIN:VEVENT
DTSTART;TZID=America/Los_Angeles:20260707T190000
DTEND;TZID=America/Los_Angeles:20260707T200000
DTSTAMP:20260422T110747
CREATED:20171023T145205Z
LAST-MODIFIED:20171023T145205Z
UID:52887-1783450800-1783454400@www.suddenvalley.com
SUMMARY:AA Meeting
DESCRIPTION:6-7pm at the South Lake Whatcom Library meeting room.
URL:https://www.suddenvalley.com/event/aa/2026-07-07/
LOCATION:South Whatcom Library\, 10 Barn View Court\, Bellingham\, WA\, 98229\, United States
CATEGORIES:Support
GEO:48.714329;-122.3238949
X-APPLE-STRUCTURED-LOCATION;VALUE=URI;X-ADDRESS=South Whatcom Library 10 Barn View Court Bellingham WA 98229 United States;X-APPLE-RADIUS=500;X-TITLE=10 Barn View Court:geo:-122.3238949,48.714329
END:VEVENT
BEGIN:VEVENT
DTSTART;TZID=America/Los_Angeles:20260709T200000
DTEND;TZID=America/Los_Angeles:20260709T230000
DTSTAMP:20260422T110747
CREATED:20171023T164517Z
LAST-MODIFIED:20171023T164517Z
UID:53169-1783627200-1783638000@www.suddenvalley.com
SUMMARY:Board Meeting
DESCRIPTION:
URL:https://www.suddenvalley.com/event/board-meeting/2026-07-09/
LOCATION:Dance Barn\, 8 Barn View Ct\, Bellingham\, WA\, 98229\, United States
CATEGORIES:Board Meeting
ORGANIZER;CN="Sudden Valley Community Association":MAILTO:office@suddenvalley.com
GEO:48.7152265;-122.3220099
X-APPLE-STRUCTURED-LOCATION;VALUE=URI;X-ADDRESS=Dance Barn 8 Barn View Ct Bellingham WA 98229 United States;X-APPLE-RADIUS=500;X-TITLE=8 Barn View Ct:geo:-122.3220099,48.7152265
END:VEVENT
BEGIN:VEVENT
DTSTART;TZID=America/Los_Angeles:20260710T093000
DTEND;TZID=America/Los_Angeles:20260710T110000
DTSTAMP:20260422T110747
CREATED:20171023T030635Z
LAST-MODIFIED:20171023T030635Z
UID:54565-1783675800-1783681200@www.suddenvalley.com
SUMMARY:Al Anon
DESCRIPTION:
URL:https://www.suddenvalley.com/event/al-anon/2026-07-10/
LOCATION:Adult Center Meeting Room\, 10 Barn View Court\, Bellingham\, WA\, 98229\, United States
CATEGORIES:Meeting,Support
GEO:48.714329;-122.3238949
X-APPLE-STRUCTURED-LOCATION;VALUE=URI;X-ADDRESS=Adult Center Meeting Room 10 Barn View Court Bellingham WA 98229 United States;X-APPLE-RADIUS=500;X-TITLE=10 Barn View Court:geo:-122.3238949,48.714329
END:VEVENT
BEGIN:VEVENT
DTSTART;TZID=America/Los_Angeles:20260710T100000
DTEND;TZID=America/Los_Angeles:20260710T110000
DTSTAMP:20260422T110747
CREATED:20181026T183722Z
LAST-MODIFIED:20181026T183722Z
UID:52696-1783677600-1783681200@www.suddenvalley.com
SUMMARY:ALANON
DESCRIPTION:
URL:https://www.suddenvalley.com/event/alanon/2026-07-10/
LOCATION:Adult Center Meeting Room\, 10 Barn View Court\, Bellingham\, WA\, 98229\, United States
CATEGORIES:Community,Meeting,Support
GEO:48.714329;-122.3238949
X-APPLE-STRUCTURED-LOCATION;VALUE=URI;X-ADDRESS=Adult Center Meeting Room 10 Barn View Court Bellingham WA 98229 United States;X-APPLE-RADIUS=500;X-TITLE=10 Barn View Court:geo:-122.3238949,48.714329
END:VEVENT
BEGIN:VEVENT
DTSTART;TZID=America/Los_Angeles:20260710T200000
DTEND;TZID=America/Los_Angeles:20260710T220000
DTSTAMP:20260422T110747
CREATED:20171207T004637Z
LAST-MODIFIED:20171207T004637Z
UID:52295-1783713600-1783720800@www.suddenvalley.com
SUMMARY:Sudden Valley Yarn Crafters
DESCRIPTION:We are a group of both novice and advanced knitters and crocheters. We meet every other Friday (excluding the summer months) in the Community Center. We’re very casual and welcome newcomers of any skill level. If you are interested in hanging out\, chatting\, and working on your project\, please join us! We also have a Facebook group where we sometimes share projects or ideas: https://www.facebook.com/groups/138228059981013
URL:https://www.suddenvalley.com/event/sudden-valley-yarn-crafters/2026-07-10/
LOCATION:Community Center\, 8 Barn View Court\, Bellingham\, WA\, 98229\, United States
CATEGORIES:Club
ATTACH;FMTTYPE=image/jpeg:https://www.suddenvalley.com/wp-content/uploads/yarn.jpg
GEO:48.7152265;-122.3220099
X-APPLE-STRUCTURED-LOCATION;VALUE=URI;X-ADDRESS=Community Center 8 Barn View Court Bellingham WA 98229 United States;X-APPLE-RADIUS=500;X-TITLE=8 Barn View Court:geo:-122.3220099,48.7152265
END:VEVENT
BEGIN:VEVENT
DTSTART;TZID=America/Los_Angeles:20260712T110000
DTEND;TZID=America/Los_Angeles:20260713T003000
DTSTAMP:20260422T110747
CREATED:20171023T022851Z
LAST-MODIFIED:20171023T022851Z
UID:50914-1783854000-1783902600@www.suddenvalley.com
SUMMARY:Church Service
DESCRIPTION:
URL:https://www.suddenvalley.com/event/church-service/2026-07-12/
LOCATION:Dance Barn\, 8 Barn View Ct\, Bellingham\, WA\, 98229\, United States
ORGANIZER;CN="Christ the King Community Church":MAILTO:suddenvalley@ctk.church
GEO:48.7152265;-122.3220099
X-APPLE-STRUCTURED-LOCATION;VALUE=URI;X-ADDRESS=Dance Barn 8 Barn View Ct Bellingham WA 98229 United States;X-APPLE-RADIUS=500;X-TITLE=8 Barn View Ct:geo:-122.3220099,48.7152265
END:VEVENT
BEGIN:VEVENT
DTSTART;TZID=America/Los_Angeles:20260713T183000
DTEND;TZID=America/Los_Angeles:20260713T193000
DTSTAMP:20260422T110747
CREATED:20181030T194701Z
LAST-MODIFIED:20181030T194701Z
UID:51672-1783967400-1783971000@www.suddenvalley.com
SUMMARY:Yoga
DESCRIPTION:Instructor: Lea Woodliff: 360-510-0621 or leavanin@hotmail.com
URL:https://www.suddenvalley.com/event/yoga-2/2026-07-13/
LOCATION:Multi-Purpose Room A\, 8 Barnview Court\, Bellingham\, WA\, 98229\, United States
CATEGORIES:Class,Community
GEO:48.7151523;-122.3229482
X-APPLE-STRUCTURED-LOCATION;VALUE=URI;X-ADDRESS=Multi-Purpose Room A 8 Barnview Court Bellingham WA 98229 United States;X-APPLE-RADIUS=500;X-TITLE=8 Barnview Court:geo:-122.3229482,48.7151523
END:VEVENT
BEGIN:VEVENT
DTSTART;TZID=America/Los_Angeles:20260713T193000
DTEND;TZID=America/Los_Angeles:20260713T210000
DTSTAMP:20260422T110747
CREATED:20190311T143647Z
LAST-MODIFIED:20190311T143647Z
UID:53834-1783971000-1783976400@www.suddenvalley.com
SUMMARY:Document Review Committee Meeting
DESCRIPTION:
URL:https://www.suddenvalley.com/event/document-review-committee-meeting-6/2026-07-13/
LOCATION:Community Center Lounge\, WA\, United States
CATEGORIES:Committee Meeting
GEO:47.7510741;-120.7401385
END:VEVENT
BEGIN:VEVENT
DTSTART;TZID=America/Los_Angeles:20260714T100000
DTEND;TZID=America/Los_Angeles:20260714T110000
DTSTAMP:20260422T110747
CREATED:20171023T155103Z
LAST-MODIFIED:20171023T155103Z
UID:53256-1784023200-1784026800@www.suddenvalley.com
SUMMARY:Emergency Preparedness Committee Meeting
DESCRIPTION:
URL:https://www.suddenvalley.com/event/emergency-preparedness-committee-meeting/2026-07-14/
LOCATION:South Whatcom Fire Authority\, 2050 Lake Whatcom Boulevard\, Bellingham\, WA\, 98229\, United States
CATEGORIES:Committee Meeting
GEO:48.7157453;-122.3322639
X-APPLE-STRUCTURED-LOCATION;VALUE=URI;X-ADDRESS=South Whatcom Fire Authority 2050 Lake Whatcom Boulevard Bellingham WA 98229 United States;X-APPLE-RADIUS=500;X-TITLE=2050 Lake Whatcom Boulevard:geo:-122.3322639,48.7157453
END:VEVENT
BEGIN:VEVENT
DTSTART;TZID=America/Los_Angeles:20260714T190000
DTEND;TZID=America/Los_Angeles:20260714T200000
DTSTAMP:20260422T110747
CREATED:20171023T145205Z
LAST-MODIFIED:20171023T145205Z
UID:52888-1784055600-1784059200@www.suddenvalley.com
SUMMARY:AA Meeting
DESCRIPTION:6-7pm at the South Lake Whatcom Library meeting room.
URL:https://www.suddenvalley.com/event/aa/2026-07-14/
LOCATION:South Whatcom Library\, 10 Barn View Court\, Bellingham\, WA\, 98229\, United States
CATEGORIES:Support
GEO:48.714329;-122.3238949
X-APPLE-STRUCTURED-LOCATION;VALUE=URI;X-ADDRESS=South Whatcom Library 10 Barn View Court Bellingham WA 98229 United States;X-APPLE-RADIUS=500;X-TITLE=10 Barn View Court:geo:-122.3238949,48.714329
END:VEVENT
BEGIN:VEVENT
DTSTART;TZID=America/Los_Angeles:20260716T190000
DTEND;TZID=America/Los_Angeles:20260716T210000
DTSTAMP:20260422T110747
CREATED:20171227T190121Z
LAST-MODIFIED:20171227T190121Z
UID:50451-1784228400-1784235600@www.suddenvalley.com
SUMMARY:Architectural Control  Committee Meeting
DESCRIPTION:
URL:https://www.suddenvalley.com/event/architectural-control-committee-meeting-2/2026-07-16/
LOCATION:Multi-Purpose Room\, 8 Barn View Drive\, Bellingham\, WA\, 98229\, United States
GEO:48.7152265;-122.3220099
X-APPLE-STRUCTURED-LOCATION;VALUE=URI;X-ADDRESS=Multi-Purpose Room 8 Barn View Drive Bellingham WA 98229 United States;X-APPLE-RADIUS=500;X-TITLE=8 Barn View Drive:geo:-122.3220099,48.7152265
END:VEVENT
BEGIN:VEVENT
DTSTART;TZID=America/Los_Angeles:20260717T093000
DTEND;TZID=America/Los_Angeles:20260717T110000
DTSTAMP:20260422T110747
CREATED:20171023T030635Z
LAST-MODIFIED:20171023T030635Z
UID:54566-1784280600-1784286000@www.suddenvalley.com
SUMMARY:Al Anon
DESCRIPTION:
URL:https://www.suddenvalley.com/event/al-anon/2026-07-17/
LOCATION:Adult Center Meeting Room\, 10 Barn View Court\, Bellingham\, WA\, 98229\, United States
CATEGORIES:Meeting,Support
GEO:48.714329;-122.3238949
X-APPLE-STRUCTURED-LOCATION;VALUE=URI;X-ADDRESS=Adult Center Meeting Room 10 Barn View Court Bellingham WA 98229 United States;X-APPLE-RADIUS=500;X-TITLE=10 Barn View Court:geo:-122.3238949,48.714329
END:VEVENT
BEGIN:VEVENT
DTSTART;TZID=America/Los_Angeles:20260717T100000
DTEND;TZID=America/Los_Angeles:20260717T110000
DTSTAMP:20260422T110747
CREATED:20181026T183722Z
LAST-MODIFIED:20181026T183722Z
UID:52697-1784282400-1784286000@www.suddenvalley.com
SUMMARY:ALANON
DESCRIPTION:
URL:https://www.suddenvalley.com/event/alanon/2026-07-17/
LOCATION:Adult Center Meeting Room\, 10 Barn View Court\, Bellingham\, WA\, 98229\, United States
CATEGORIES:Community,Meeting,Support
GEO:48.714329;-122.3238949
X-APPLE-STRUCTURED-LOCATION;VALUE=URI;X-ADDRESS=Adult Center Meeting Room 10 Barn View Court Bellingham WA 98229 United States;X-APPLE-RADIUS=500;X-TITLE=10 Barn View Court:geo:-122.3238949,48.714329
END:VEVENT
BEGIN:VEVENT
DTSTART;TZID=America/Los_Angeles:20260719T110000
DTEND;TZID=America/Los_Angeles:20260720T003000
DTSTAMP:20260422T110747
CREATED:20171023T022851Z
LAST-MODIFIED:20171023T022851Z
UID:50915-1784458800-1784507400@www.suddenvalley.com
SUMMARY:Church Service
DESCRIPTION:
URL:https://www.suddenvalley.com/event/church-service/2026-07-19/
LOCATION:Dance Barn\, 8 Barn View Ct\, Bellingham\, WA\, 98229\, United States
ORGANIZER;CN="Christ the King Community Church":MAILTO:suddenvalley@ctk.church
GEO:48.7152265;-122.3220099
X-APPLE-STRUCTURED-LOCATION;VALUE=URI;X-ADDRESS=Dance Barn 8 Barn View Ct Bellingham WA 98229 United States;X-APPLE-RADIUS=500;X-TITLE=8 Barn View Ct:geo:-122.3220099,48.7152265
END:VEVENT
BEGIN:VEVENT
DTSTART;TZID=America/Los_Angeles:20260720T183000
DTEND;TZID=America/Los_Angeles:20260720T193000
DTSTAMP:20260422T110747
CREATED:20181030T194701Z
LAST-MODIFIED:20181030T194701Z
UID:51673-1784572200-1784575800@www.suddenvalley.com
SUMMARY:Yoga
DESCRIPTION:Instructor: Lea Woodliff: 360-510-0621 or leavanin@hotmail.com
URL:https://www.suddenvalley.com/event/yoga-2/2026-07-20/
LOCATION:Multi-Purpose Room A\, 8 Barnview Court\, Bellingham\, WA\, 98229\, United States
CATEGORIES:Class,Community
GEO:48.7151523;-122.3229482
X-APPLE-STRUCTURED-LOCATION;VALUE=URI;X-ADDRESS=Multi-Purpose Room A 8 Barnview Court Bellingham WA 98229 United States;X-APPLE-RADIUS=500;X-TITLE=8 Barnview Court:geo:-122.3229482,48.7151523
END:VEVENT
BEGIN:VEVENT
DTSTART;TZID=America/Los_Angeles:20260720T200000
DTEND;TZID=America/Los_Angeles:20260720T213000
DTSTAMP:20260422T110747
CREATED:20180117T183940Z
LAST-MODIFIED:20180117T183940Z
UID:53748-1784577600-1784583000@www.suddenvalley.com
SUMMARY:N&E Committee Meeting
DESCRIPTION:
URL:https://www.suddenvalley.com/event/ne-committee-meeting-2-2018-11-19/2026-07-20/
LOCATION:Coffee Shop
END:VEVENT
BEGIN:VEVENT
DTSTART;TZID=America/Los_Angeles:20260721T190000
DTEND;TZID=America/Los_Angeles:20260721T200000
DTSTAMP:20260422T110747
CREATED:20171023T145205Z
LAST-MODIFIED:20171023T145205Z
UID:52889-1784660400-1784664000@www.suddenvalley.com
SUMMARY:AA Meeting
DESCRIPTION:6-7pm at the South Lake Whatcom Library meeting room.
URL:https://www.suddenvalley.com/event/aa/2026-07-21/
LOCATION:South Whatcom Library\, 10 Barn View Court\, Bellingham\, WA\, 98229\, United States
CATEGORIES:Support
GEO:48.714329;-122.3238949
X-APPLE-STRUCTURED-LOCATION;VALUE=URI;X-ADDRESS=South Whatcom Library 10 Barn View Court Bellingham WA 98229 United States;X-APPLE-RADIUS=500;X-TITLE=10 Barn View Court:geo:-122.3238949,48.714329
END:VEVENT
BEGIN:VEVENT
DTSTART;TZID=America/Los_Angeles:20260724T093000
DTEND;TZID=America/Los_Angeles:20260724T110000
DTSTAMP:20260422T110747
CREATED:20171023T030635Z
LAST-MODIFIED:20171023T030635Z
UID:54567-1784885400-1784890800@www.suddenvalley.com
SUMMARY:Al Anon
DESCRIPTION:
URL:https://www.suddenvalley.com/event/al-anon/2026-07-24/
LOCATION:Adult Center Meeting Room\, 10 Barn View Court\, Bellingham\, WA\, 98229\, United States
CATEGORIES:Meeting,Support
GEO:48.714329;-122.3238949
X-APPLE-STRUCTURED-LOCATION;VALUE=URI;X-ADDRESS=Adult Center Meeting Room 10 Barn View Court Bellingham WA 98229 United States;X-APPLE-RADIUS=500;X-TITLE=10 Barn View Court:geo:-122.3238949,48.714329
END:VEVENT
BEGIN:VEVENT
DTSTART;TZID=America/Los_Angeles:20260724T100000
DTEND;TZID=America/Los_Angeles:20260724T110000
DTSTAMP:20260422T110747
CREATED:20181026T183722Z
LAST-MODIFIED:20181026T183722Z
UID:52698-1784887200-1784890800@www.suddenvalley.com
SUMMARY:ALANON
DESCRIPTION:
URL:https://www.suddenvalley.com/event/alanon/2026-07-24/
LOCATION:Adult Center Meeting Room\, 10 Barn View Court\, Bellingham\, WA\, 98229\, United States
CATEGORIES:Community,Meeting,Support
GEO:48.714329;-122.3238949
X-APPLE-STRUCTURED-LOCATION;VALUE=URI;X-ADDRESS=Adult Center Meeting Room 10 Barn View Court Bellingham WA 98229 United States;X-APPLE-RADIUS=500;X-TITLE=10 Barn View Court:geo:-122.3238949,48.714329
END:VEVENT
BEGIN:VEVENT
DTSTART;TZID=America/Los_Angeles:20260724T200000
DTEND;TZID=America/Los_Angeles:20260724T220000
DTSTAMP:20260422T110747
CREATED:20171207T004637Z
LAST-MODIFIED:20171207T004637Z
UID:52296-1784923200-1784930400@www.suddenvalley.com
SUMMARY:Sudden Valley Yarn Crafters
DESCRIPTION:We are a group of both novice and advanced knitters and crocheters. We meet every other Friday (excluding the summer months) in the Community Center. We’re very casual and welcome newcomers of any skill level. If you are interested in hanging out\, chatting\, and working on your project\, please join us! We also have a Facebook group where we sometimes share projects or ideas: https://www.facebook.com/groups/138228059981013
URL:https://www.suddenvalley.com/event/sudden-valley-yarn-crafters/2026-07-24/
LOCATION:Community Center\, 8 Barn View Court\, Bellingham\, WA\, 98229\, United States
CATEGORIES:Club
ATTACH;FMTTYPE=image/jpeg:https://www.suddenvalley.com/wp-content/uploads/yarn.jpg
GEO:48.7152265;-122.3220099
X-APPLE-STRUCTURED-LOCATION;VALUE=URI;X-ADDRESS=Community Center 8 Barn View Court Bellingham WA 98229 United States;X-APPLE-RADIUS=500;X-TITLE=8 Barn View Court:geo:-122.3220099,48.7152265
END:VEVENT
BEGIN:VEVENT
DTSTART;TZID=America/Los_Angeles:20260725T103000
DTEND;TZID=America/Los_Angeles:20260725T150000
DTSTAMP:20260422T110747
CREATED:20260420T231021Z
LAST-MODIFIED:20260421T221933Z
UID:50354-1784975400-1784991600@www.suddenvalley.com
SUMMARY:The Valley Fair
DESCRIPTION:Interested in being a vendor?\nPlease review the vendor application and submit it by:\nDeadline: June 5\, 2026 at 12:00 PM. Space is limited and may fill up before the deadline.\nBooth Details: Outdoor 10′ x 10′ spaces. $50 per booth. Booth sharing is permitted. Proof of general liability insurance is required for all vendors.\nSubmit applications by: Email recfrontdesk@suddenvalley.com or drop off in person at the Sudden Valley Community Center (8 Barn View Ct\, Bellingham\, WA 98229).\nQuestions? Email recfrontdesk@suddenvalley.com\nWe hope to see you at the Valley Fair!
URL:https://www.suddenvalley.com/event/the-valley-fair/
LOCATION:8 Barn View Ct\, 8 Barn View Ct\, Bellingham\, WA\, 98229\, United States
ATTACH;FMTTYPE=image/png:https://www.suddenvalley.com/wp-content/uploads/Valley-Fair-Flyer-2026.png
ORGANIZER;CN="Sudden Valley Community Association":MAILTO:office@suddenvalley.com
END:VEVENT
BEGIN:VEVENT
DTSTART;TZID=America/Los_Angeles:20260726T110000
DTEND;TZID=America/Los_Angeles:20260727T003000
DTSTAMP:20260422T110747
CREATED:20171023T022851Z
LAST-MODIFIED:20171023T022851Z
UID:50916-1785063600-1785112200@www.suddenvalley.com
SUMMARY:Church Service
DESCRIPTION:
URL:https://www.suddenvalley.com/event/church-service/2026-07-26/
LOCATION:Dance Barn\, 8 Barn View Ct\, Bellingham\, WA\, 98229\, United States
ORGANIZER;CN="Christ the King Community Church":MAILTO:suddenvalley@ctk.church
GEO:48.7152265;-122.3220099
X-APPLE-STRUCTURED-LOCATION;VALUE=URI;X-ADDRESS=Dance Barn 8 Barn View Ct Bellingham WA 98229 United States;X-APPLE-RADIUS=500;X-TITLE=8 Barn View Ct:geo:-122.3220099,48.7152265
END:VEVENT
BEGIN:VEVENT
DTSTART;TZID=America/Los_Angeles:20260727T183000
DTEND;TZID=America/Los_Angeles:20260727T193000
DTSTAMP:20260422T110747
CREATED:20181030T194701Z
LAST-MODIFIED:20181030T194701Z
UID:51674-1785177000-1785180600@www.suddenvalley.com
SUMMARY:Yoga
DESCRIPTION:Instructor: Lea Woodliff: 360-510-0621 or leavanin@hotmail.com
URL:https://www.suddenvalley.com/event/yoga-2/2026-07-27/
LOCATION:Multi-Purpose Room A\, 8 Barnview Court\, Bellingham\, WA\, 98229\, United States
CATEGORIES:Class,Community
GEO:48.7151523;-122.3229482
X-APPLE-STRUCTURED-LOCATION;VALUE=URI;X-ADDRESS=Multi-Purpose Room A 8 Barnview Court Bellingham WA 98229 United States;X-APPLE-RADIUS=500;X-TITLE=8 Barnview Court:geo:-122.3229482,48.7151523
END:VEVENT
BEGIN:VEVENT
DTSTART;TZID=America/Los_Angeles:20260728T190000
DTEND;TZID=America/Los_Angeles:20260728T200000
DTSTAMP:20260422T110747
CREATED:20171023T145205Z
LAST-MODIFIED:20171023T145205Z
UID:52890-1785265200-1785268800@www.suddenvalley.com
SUMMARY:AA Meeting
DESCRIPTION:6-7pm at the South Lake Whatcom Library meeting room.
URL:https://www.suddenvalley.com/event/aa/2026-07-28/
LOCATION:South Whatcom Library\, 10 Barn View Court\, Bellingham\, WA\, 98229\, United States
CATEGORIES:Support
GEO:48.714329;-122.3238949
X-APPLE-STRUCTURED-LOCATION;VALUE=URI;X-ADDRESS=South Whatcom Library 10 Barn View Court Bellingham WA 98229 United States;X-APPLE-RADIUS=500;X-TITLE=10 Barn View Court:geo:-122.3238949,48.714329
END:VEVENT
BEGIN:VEVENT
DTSTART;TZID=America/Los_Angeles:20260731T093000
DTEND;TZID=America/Los_Angeles:20260731T110000
DTSTAMP:20260422T110747
CREATED:20171023T030635Z
LAST-MODIFIED:20171023T030635Z
UID:54568-1785490200-1785495600@www.suddenvalley.com
SUMMARY:Al Anon
DESCRIPTION:
URL:https://www.suddenvalley.com/event/al-anon/2026-07-31/
LOCATION:Adult Center Meeting Room\, 10 Barn View Court\, Bellingham\, WA\, 98229\, United States
CATEGORIES:Meeting,Support
GEO:48.714329;-122.3238949
X-APPLE-STRUCTURED-LOCATION;VALUE=URI;X-ADDRESS=Adult Center Meeting Room 10 Barn View Court Bellingham WA 98229 United States;X-APPLE-RADIUS=500;X-TITLE=10 Barn View Court:geo:-122.3238949,48.714329
END:VEVENT
BEGIN:VEVENT
DTSTART;TZID=America/Los_Angeles:20260731T100000
DTEND;TZID=America/Los_Angeles:20260731T110000
DTSTAMP:20260422T110747
CREATED:20181026T183722Z
LAST-MODIFIED:20181026T183722Z
UID:52699-1785492000-1785495600@www.suddenvalley.com
SUMMARY:ALANON
DESCRIPTION:
URL:https://www.suddenvalley.com/event/alanon/2026-07-31/
LOCATION:Adult Center Meeting Room\, 10 Barn View Court\, Bellingham\, WA\, 98229\, United States
CATEGORIES:Community,Meeting,Support
GEO:48.714329;-122.3238949
X-APPLE-STRUCTURED-LOCATION;VALUE=URI;X-ADDRESS=Adult Center Meeting Room 10 Barn View Court Bellingham WA 98229 United States;X-APPLE-RADIUS=500;X-TITLE=10 Barn View Court:geo:-122.3238949,48.714329
END:VEVENT
BEGIN:VEVENT
DTSTART;TZID=America/Los_Angeles:20260802T110000
DTEND;TZID=America/Los_Angeles:20260803T003000
DTSTAMP:20260422T110747
CREATED:20171023T022851Z
LAST-MODIFIED:20171023T022851Z
UID:50917-1785668400-1785717000@www.suddenvalley.com
SUMMARY:Church Service
DESCRIPTION:
URL:https://www.suddenvalley.com/event/church-service/2026-08-02/
LOCATION:Dance Barn\, 8 Barn View Ct\, Bellingham\, WA\, 98229\, United States
ORGANIZER;CN="Christ the King Community Church":MAILTO:suddenvalley@ctk.church
GEO:48.7152265;-122.3220099
X-APPLE-STRUCTURED-LOCATION;VALUE=URI;X-ADDRESS=Dance Barn 8 Barn View Ct Bellingham WA 98229 United States;X-APPLE-RADIUS=500;X-TITLE=8 Barn View Ct:geo:-122.3220099,48.7152265
END:VEVENT
BEGIN:VEVENT
DTSTART;TZID=America/Los_Angeles:20260803T183000
DTEND;TZID=America/Los_Angeles:20260803T193000
DTSTAMP:20260422T110747
CREATED:20181030T194701Z
LAST-MODIFIED:20181030T194701Z
UID:51675-1785781800-1785785400@www.suddenvalley.com
SUMMARY:Yoga
DESCRIPTION:Instructor: Lea Woodliff: 360-510-0621 or leavanin@hotmail.com
URL:https://www.suddenvalley.com/event/yoga-2/2026-08-03/
LOCATION:Multi-Purpose Room A\, 8 Barnview Court\, Bellingham\, WA\, 98229\, United States
CATEGORIES:Class,Community
GEO:48.7151523;-122.3229482
X-APPLE-STRUCTURED-LOCATION;VALUE=URI;X-ADDRESS=Multi-Purpose Room A 8 Barnview Court Bellingham WA 98229 United States;X-APPLE-RADIUS=500;X-TITLE=8 Barnview Court:geo:-122.3229482,48.7151523
END:VEVENT
BEGIN:VEVENT
DTSTART;TZID=America/Los_Angeles:20260804T190000
DTEND;TZID=America/Los_Angeles:20260804T200000
DTSTAMP:20260422T110747
CREATED:20171023T145205Z
LAST-MODIFIED:20171023T145205Z
UID:52891-1785870000-1785873600@www.suddenvalley.com
SUMMARY:AA Meeting
DESCRIPTION:6-7pm at the South Lake Whatcom Library meeting room.
URL:https://www.suddenvalley.com/event/aa/2026-08-04/
LOCATION:South Whatcom Library\, 10 Barn View Court\, Bellingham\, WA\, 98229\, United States
CATEGORIES:Support
GEO:48.714329;-122.3238949
X-APPLE-STRUCTURED-LOCATION;VALUE=URI;X-ADDRESS=South Whatcom Library 10 Barn View Court Bellingham WA 98229 United States;X-APPLE-RADIUS=500;X-TITLE=10 Barn View Court:geo:-122.3238949,48.714329
END:VEVENT
BEGIN:VEVENT
DTSTART;TZID=America/Los_Angeles:20260806T100000
DTEND;TZID=America/Los_Angeles:20260806T120000
DTSTAMP:20260422T110747
CREATED:20171227T190003Z
LAST-MODIFIED:20171227T190003Z
UID:51870-1786010400-1786017600@www.suddenvalley.com
SUMMARY:Architectural Control Committee Meeting
DESCRIPTION:
URL:https://www.suddenvalley.com/event/architectural-control-committee-meeting/2026-08-06/
LOCATION:El Agave\, 4 Clubhouse Circle\, Bellingham\, WA\, 98229\, United States
CATEGORIES:Committee Meeting
GEO:48.7130441;-122.3269967
X-APPLE-STRUCTURED-LOCATION;VALUE=URI;X-ADDRESS=El Agave 4 Clubhouse Circle Bellingham WA 98229 United States;X-APPLE-RADIUS=500;X-TITLE=4 Clubhouse Circle:geo:-122.3269967,48.7130441
END:VEVENT
END:VCALENDAR